Workbook

Sheet 1970's tritium
A1: Data from Isaac & Mears (1977) & Ellis (1977) | F1: NB D9 is closest to MB16
B2: Ref Date: | C2: 23924 | D2: T 1/2 (d) = | E2: =12.28*365.25 -> 4485.27
A3: Isaacs SR & Mears KF (1977) A study of the burial ground used for radioactive waste at the Little Forest area near Lucas Heights New South Wales. ANSTO/E427, 50pp.
A4: Ellis WR (1977) Possible methods of disposal of the AAEC's low and medium level solid radiactive waste and environmental impact assessment of the reopening of an existing burial ground. ANSTO/E421, 53pp.
D6: 27729 | E6: Drought since mid July. Nov-Dec 1975 sampling period | H6: 27791 | I6: After rain - 200mm event late Jan | L6: 27851 | M6: 250mm in March. From Ellis (1977) | P6: 27881 | Q6: Very dry April and May | T6: 27912 | U6: Very dry April to mid June | X6: Normalise all results to D9 and take that to be same as MB16
A7: Borehole | B7: Easting | C7: Northing | D7: H3 (uCi/L) | E7: H3 (Bq/L) | F7: Decay corr H3 (Bq/L) | G7: Activity/D9 for each sampling | H7: H3 (uCi/L) | I7: H3 (Bq/L) | J7: Decay corr H3 (Bq/L) | K7: Activity/D9 for each sampling | L7: H3 (uCi/L) | M7: H3 (Bq/L) | N7: Decay corr H3 (Bq/L) | O7: Activity/D9 for each sampling | P7: H3 (uCi/L) | Q7: H3 (Bq/L) | R7: Decay corr H3 (Bq/L) | S7: Activity/D9 for each sampling | T7: H3 (uCi/L) | U7: H3 (Bq/L) | V7: Decay corr H3 (Bq/L) | W7: Activity/D9 for each sampling | X7: n | Y7: average quotient | Z7: SD quotient | AA7: Average activity | AB7: SD activity
A8: D7 | B8: 313279.54 | C8: 6232060.1 | D8: 0.8 | E8: =D8*37500 -> 30000 | F8: =IF(E8>0,E8*EXP(-0.693*($C$2-$D$6)/$E$2),"") -> 54005.817 | G8: =E8/E$10 -> 0.21052632 | H8: 0.3 | I8: =H8*37500 -> 11250 | J8: =IF(I8>0,I8*EXP(-0.693*($C$2-$H$6)/$E$2),"") -> 20447.116 | K8: =I8/I$10 -> 0.16666667 | P8: 0.1 | Q8: =P8*37500 -> 3750 | R8: =IF(Q8>0,Q8*EXP(-0.693*($C$2-$P$6)/$E$2),"") -> 6911.1434 | S8: =Q8/Q$10 -> 0.016666667 | T8: 0.3 | U8: =T8*37500 -> 11250 | V8: =IF(U8>0,U8*EXP(-0.693*($C$2-$T$6)/$E$2),"") -> 20832.975 | W8: =V8/V$10 -> 0.15789474 | X8: =COUNT(S8,O8,K8,G8,W8) -> 4 | Y8: =AVERAGE(S8,O8,K8,G8,W8) -> 0.1379386 | Z8: =STDEV(S8,O8,K8,G8,W8) -> 0.084062293 | AA8: =AVERAGE(Q8,M8,I8,E8,W8) -> 11250.039 | AB8: =STDEV(Q8,M8,I8,E8,W8) -> 13346.303
A9: D8 | B9: 313273.14 | C9: 6232020.6 | D9: 5.4 | E9: =D9*37500 -> 202500 | F9: =IF(E9>0,E9*EXP(-0.693*($C$2-$D$6)/$E$2),"") -> 364539.26 | G9: =E9/E$10 -> 1.4210526 | H9: 4 | I9: =H9*37500 -> 150000 | J9: =IF(I9>0,I9*EXP(-0.693*($C$2-$H$6)/$E$2),"") -> 272628.22 | K9: =I9/I$10 -> 2.2222222 | P9: 6.4 | Q9: =P9*37500 -> 240000 | R9: =IF(Q9>0,Q9*EXP(-0.693*($C$2-$P$6)/$E$2),"") -> 442313.17 | S9: =Q9/Q$10 -> 1.0666667 | T9: 3.5 | U9: =T9*37500 -> 131250 | V9: =IF(U9>0,U9*EXP(-0.693*($C$2-$T$6)/$E$2),"") -> 243051.37 | W9: =V9/V$10 -> 1.8421053 | X9: =COUNT(S9,O9,K9,G9,W9) -> 4 | Y9: =AVERAGE(S9,O9,K9,G9,W9) -> 1.6380117 | Z9: =STDEV(S9,O9,K9,G9,W9) -> 0.50214955 | AA9: =AVERAGE(Q9,M9,I9,E9,W9) -> 148125.46 | AB9: =STDEV(Q9,M9,I9,E9,W9) -> 105422.39
A10: D9 | B10: 313270.71 | C10: 6232000.5 | D10: 3.8 | E10: =D10*37500 -> 142500 | F10: =IF(E10>0,E10*EXP(-0.693*($C$2-$D$6)/$E$2),"") -> 256527.63 | G10: =E10/E$10 -> 1 | H10: 1.8 | I10: =H10*37500 -> 67500 | J10: =IF(I10>0,I10*EXP(-0.693*($C$2-$H$6)/$E$2),"") -> 122682.7 | K10: =I10/I$10 -> 1 | P10: 6 | Q10: =P10*37500 -> 225000 | R10: =IF(Q10>0,Q10*EXP(-0.693*($C$2-$P$6)/$E$2),"") -> 414668.6 | S10: =Q10/Q$10 -> 1 | T10: 1.9 | U10: =T10*37500 -> 71250 | V10: =IF(U10>0,U10*EXP(-0.693*($C$2-$T$6)/$E$2),"") -> 131942.17 | W10: =V10/V$10 -> 1 | X10: =COUNT(S10,O10,K10,G10,W10) -> 4 | Y10: =AVERAGE(S10,O10,K10,G10,W10) -> 1 | Z10: =STDEV(S10,O10,K10,G10,W10) -> 0 | AA10: =AVERAGE(Q10,M10,I10,E10,W10) -> 108750.25 | AB10: =STDEV(Q10,M10,I10,E10,W10) -> 96920.986
A11: D10 | B11: 313267.51 | C11: 6231981.4 | D11: 10.4 | E11: =D11*37500 -> 390000 | F11: =IF(E11>0,E11*EXP(-0.693*($C$2-$D$6)/$E$2),"") -> 702075.62 | G11: =E11/E$10 -> 2.7368421 | H11: 5.7 | I11: =H11*37500 -> 213750 | J11: =IF(I11>0,I11*EXP(-0.693*($C$2-$H$6)/$E$2),"") -> 388495.21 | K11: =I11/I$10 -> 3.1666667 | P11: 4.4 | Q11: =P11*37500 -> 165000 | R11: =IF(Q11>0,Q11*EXP(-0.693*($C$2-$P$6)/$E$2),"") -> 304090.31 | S11: =Q11/Q$10 -> 0.73333333 | T11: 2.6 | U11: =T11*37500 -> 97500 | V11: =IF(U11>0,U11*EXP(-0.693*($C$2-$T$6)/$E$2),"") -> 180552.45 | W11: =V11/V$10 -> 1.3684211 | X11: =COUNT(S11,O11,K11,G11,W11) -> 4 | Y11: =AVERAGE(S11,O11,K11,G11,W11) -> 2.0013158 | Z11: =STDEV(S11,O11,K11,G11,W11) -> 1.1412532 | AA11: =AVERAGE(Q11,M11,I11,E11,W11) -> 192187.84 | AB11: =STDEV(Q11,M11,I11,E11,W11) -> 160488.21
A12: D11 | B12: 313262.84 | C12: 6231954 | D12: 1.4 | E12: =D12*37500 -> 52500 | F12: =IF(E12>0,E12*EXP(-0.693*($C$2-$D$6)/$E$2),"") -> 94510.179 | G12: =E12/E$10 -> 0.36842105 | H12: 1.6 | I12: =H12*37500 -> 60000 | J12: =IF(I12>0,I12*EXP(-0.693*($C$2-$H$6)/$E$2),"") -> 109051.29 | K12: =I12/I$10 -> 0.88888889 | P12: 3.4 | Q12: =P12*37500 -> 127500 | R12: =IF(Q12>0,Q12*EXP(-0.693*($C$2-$P$6)/$E$2),"") -> 234978.87 | S12: =Q12/Q$10 -> 0.56666667 | T12: 0.8 | U12: =T12*37500 -> 30000 | V12: =IF(U12>0,U12*EXP(-0.693*($C$2-$T$6)/$E$2),"") -> 55554.599 | W12: =V12/V$10 -> 0.42105263 | X12: =COUNT(S12,O12,K12,G12,W12) -> 4 | Y12: =AVERAGE(S12,O12,K12,G12,W12) -> 0.56125731 | Z12: =STDEV(S12,O12,K12,G12,W12) -> 0.23396217 | AA12: =AVERAGE(Q12,M12,I12,E12,W12) -> 60000.105 | AB12: =STDEV(Q12,M12,I12,E12,W12) -> 52320.963
A13: D12 | B13: 313247.41 | C13: 6231951.6 | D13: 2.4 | E13: =D13*37500 -> 90000 | F13: =IF(E13>0,E13*EXP(-0.693*($C$2-$D$6)/$E$2),"") -> 162017.45 | G13: =E13/E$10 -> 0.63157895 | H13: 0.8 | I13: =H13*37500 -> 30000 | J13: =IF(I13>0,I13*EXP(-0.693*($C$2-$H$6)/$E$2),"") -> 54525.643 | K13: =I13/I$10 -> 0.44444444 | P13: 0.6 | Q13: =P13*37500 -> 22500 | R13: =IF(Q13>0,Q13*EXP(-0.693*($C$2-$P$6)/$E$2),"") -> 41466.86 | S13: =Q13/Q$10 -> 0.1 | T13: 0.3 | U13: =T13*37500 -> 11250 | V13: =IF(U13>0,U13*EXP(-0.693*($C$2-$T$6)/$E$2),"") -> 20832.975 | W13: =V13/V$10 -> 0.15789474 | X13: =COUNT(S13,O13,K13,G13,W13) -> 4 | Y13: =AVERAGE(S13,O13,K13,G13,W13) -> 0.33347953 | Z13: =STDEV(S13,O13,K13,G13,W13) -> 0.24934527 | AA13: =AVERAGE(Q13,M13,I13,E13,W13) -> 35625.039 | AB13: =STDEV(Q13,M13,I13,E13,W13) -> 38426.017
A14: D13 | B14: 313229.92 | C14: 6231962.1 | D14: 0.2 | E14: =D14*37500 -> 7500 | F14: =IF(E14>0,E14*EXP(-0.693*($C$2-$D$6)/$E$2),"") -> 13501.454 | G14: =E14/E$10 -> 0.052631579 | H14: 0.1 | I14: =H14*37500 -> 3750 | J14: =IF(I14>0,I14*EXP(-0.693*($C$2-$H$6)/$E$2),"") -> 6815.7054 | K14: =I14/I$10 -> 0.055555556 | P14: 0 | Q14: =P14*37500 -> 0 | R14: =IF(Q14>0,Q14*EXP(-0.693*($C$2-$P$6)/$E$2),"") | S14: =Q14/Q$10 -> 0 | T14: 0.01 | U14: =T14*37500 -> 375 | V14: =IF(U14>0,U14*EXP(-0.693*($C$2-$T$6)/$E$2),"") -> 694.43249 | W14: =V14/V$10 -> 0.0052631579 | X14: =COUNT(S14,O14,K14,G14,W14) -> 4 | Y14: =AVERAGE(S14,O14,K14,G14,W14) -> 0.028362573 | Z14: =STDEV(S14,O14,K14,G14,W14) -> 0.029813093 | AA14: =AVERAGE(Q14,M14,I14,E14,W14) -> 2812.5013 | AB14: =STDEV(Q14,M14,I14,E14,W14) -> 3590.3503
A15: D14 | B15: 313234.54 | C15: 6231988.1 | D15: 2.3 | E15: =D15*37500 -> 86250 | F15: =IF(E15>0,E15*EXP(-0.693*($C$2-$D$6)/$E$2),"") -> 155266.72 | G15: =E15/E$10 -> 0.60526316 | H15: 1.3 | I15: =H15*37500 -> 48750 | J15: =IF(I15>0,I15*EXP(-0.693*($C$2-$H$6)/$E$2),"") -> 88604.171 | K15: =I15/I$10 -> 0.72222222 | P15: 0.4 | Q15: =P15*37500 -> 15000 | R15: =IF(Q15>0,Q15*EXP(-0.693*($C$2-$P$6)/$E$2),"") -> 27644.573 | S15: =Q15/Q$10 -> 0.066666667 | T15: 0.07 | U15: =T15*37500 -> 2625 | V15: =IF(U15>0,U15*EXP(-0.693*($C$2-$T$6)/$E$2),"") -> 4861.0274 | W15: =V15/V$10 -> 0.036842105 | X15: =COUNT(S15,O15,K15,G15,W15) -> 4 | Y15: =AVERAGE(S15,O15,K15,G15,W15) -> 0.35774854 | Z15: =STDEV(S15,O15,K15,G15,W15) -> 0.35675115 | AA15: =AVERAGE(Q15,M15,I15,E15,W15) -> 37500.009 | AB15: =STDEV(Q15,M15,I15,E15,W15) -> 38365.011
A16: D15 | B16: 313238.8 | C16: 6232009.6 | D16: 7.2 | E16: =D16*37500 -> 270000 | F16: =IF(E16>0,E16*EXP(-0.693*($C$2-$D$6)/$E$2),"") -> 486052.35 | G16: =E16/E$10 -> 1.8947368 | H16: 0.7 | I16: =H16*37500 -> 26250 | J16: =IF(I16>0,I16*EXP(-0.693*($C$2-$H$6)/$E$2),"") -> 47709.938 | K16: =I16/I$10 -> 0.38888889 | P16: 2.4 | Q16: =P16*37500 -> 90000 | R16: =IF(Q16>0,Q16*EXP(-0.693*($C$2-$P$6)/$E$2),"") -> 165867.44 | S16: =Q16/Q$10 -> 0.4 | T16: 0.1 | U16: =T16*37500 -> 3750 | V16: =IF(U16>0,U16*EXP(-0.693*($C$2-$T$6)/$E$2),"") -> 6944.3249 | W16: =V16/V$10 -> 0.052631579 | X16: =COUNT(S16,O16,K16,G16,W16) -> 4 | Y16: =AVERAGE(S16,O16,K16,G16,W16) -> 0.68406433 | Z16: =STDEV(S16,O16,K16,G16,W16) -> 0.82305454 | AA16: =AVERAGE(Q16,M16,I16,E16,W16) -> 96562.513 | AB16: =STDEV(Q16,M16,I16,E16,W16) -> 121644
A17: D16 | B17: 313239.36 | C17: 6232025.2 | P17: 0.06 | Q17: =P17*37500 -> 2250 | R17: =IF(Q17>0,Q17*EXP(-0.693*($C$2-$P$6)/$E$2),"") -> 4146.686 | S17: =Q17/Q$10 -> 0.01 | T17: 0.02 | U17: =T17*37500 -> 750 | V17: =IF(U17>0,U17*EXP(-0.693*($C$2-$T$6)/$E$2),"") -> 1388.865 | W17: =V17/V$10 -> 0.010526316 | X17: =COUNT(S17,O17,K17,G17,W17) -> 2 | Y17: =AVERAGE(S17,O17,K17,G17,W17) -> 0.010263158 | Z17: =STDEV(S17,O17,K17,G17,W17) -> 0.00037216146 | AA17: =AVERAGE(Q17,M17,I17,E17,W17) -> 1125.0053 | AB17: =STDEV(Q17,M17,I17,E17,W17) -> 1590.9828
A18: D17 | B18: 313254.65 | C18: 6232030.5 | P18: 0.9 | Q18: =P18*37500 -> 33750 | R18: =IF(Q18>0,Q18*EXP(-0.693*($C$2-$P$6)/$E$2),"") -> 62200.29 | S18: =Q18/Q$10 -> 0.15 | T18: 1 | U18: =T18*37500 -> 37500 | V18: =IF(U18>0,U18*EXP(-0.693*($C$2-$T$6)/$E$2),"") -> 69443.249 | W18: =V18/V$10 -> 0.52631579 | X18: =COUNT(S18,O18,K18,G18,W18) -> 2 | Y18: =AVERAGE(S18,O18,K18,G18,W18) -> 0.33815789 | Z18: =STDEV(S18,O18,K18,G18,W18) -> 0.26609545 | AA18: =AVERAGE(Q18,M18,I18,E18,W18) -> 16875.263 | AB18: =STDEV(Q18,M18,I18,E18,W18) -> 23864.482
A19: D18 | B19: 313265.11 | C19: 6232029.2 | H19: 0.9 | I19: =H19*37500 -> 33750 | J19: =IF(I19>0,I19*EXP(-0.693*($C$2-$H$6)/$E$2),"") -> 61341.349 | K19: =I19/I$10 -> 0.5 | P19: 0.8 | Q19: =P19*37500 -> 30000 | R19: =IF(Q19>0,Q19*EXP(-0.693*($C$2-$P$6)/$E$2),"") -> 55289.147 | S19: =Q19/Q$10 -> 0.13333333 | T19: 0.7 | U19: =T19*37500 -> 26250 | V19: =IF(U19>0,U19*EXP(-0.693*($C$2-$T$6)/$E$2),"") -> 48610.274 | W19: =V19/V$10 -> 0.36842105 | X19: =COUNT(S19,O19,K19,G19,W19) -> 3 | Y19: =AVERAGE(S19,O19,K19,G19,W19) -> 0.33391813 | Z19: =STDEV(S19,O19,K19,G19,W19) -> 0.18575239 | AA19: =AVERAGE(Q19,M19,I19,E19,W19) -> 21250.123 | AB19: =STDEV(Q19,M19,I19,E19,W19) -> 18498.099
A20: D19 | B20: 313296.88 | C20: 6232065.9 | P20: 0.4 | Q20: =P20*37500 -> 15000 | R20: =IF(Q20>0,Q20*EXP(-0.693*($C$2-$P$6)/$E$2),"") -> 27644.573 | S20: =Q20/Q$10 -> 0.066666667 | T20: 0.4 | U20: =T20*37500 -> 15000 | V20: =IF(U20>0,U20*EXP(-0.693*($C$2-$T$6)/$E$2),"") -> 27777.3 | W20: =V20/V$10 -> 0.21052632 | X20: =COUNT(S20,O20,K20,G20,W20) -> 2 | Y20: =AVERAGE(S20,O20,K20,G20,W20) -> 0.13859649 | Z20: =STDEV(S20,O20,K20,G20,W20) -> 0.10172413 | AA20: =AVERAGE(Q20,M20,I20,E20,W20) -> 7500.1053 | AB20: =STDEV(Q20,M20,I20,E20,W20) -> 10606.453
A21: D20 | B21: 313307.59 | C21: 6232017 | P21: 2 | Q21: =P21*37500 -> 75000 | R21: =IF(Q21>0,Q21*EXP(-0.693*($C$2-$P$6)/$E$2),"") -> 138222.87 | S21: =Q21/Q$10 -> 0.33333333 | T21: 1.2 | U21: =T21*37500 -> 45000 | V21: =IF(U21>0,U21*EXP(-0.693*($C$2-$T$6)/$E$2),"") -> 83331.899 | W21: =V21/V$10 -> 0.63157895 | X21: =COUNT(S21,O21,K21,G21,W21) -> 2 | Y21: =AVERAGE(S21,O21,K21,G21,W21) -> 0.48245614 | Z21: =STDEV(S21,O21,K21,G21,W21) -> 0.2108915 | AA21: =AVERAGE(Q21,M21,I21,E21,W21) -> 37500.316 | AB21: =STDEV(Q21,M21,I21,E21,W21) -> 53032.562
A22: D21 | B22: 313302.24 | C22: 6231998.9 | P22: 0.6 | Q22: =P22*37500 -> 22500 | R22: =IF(Q22>0,Q22*EXP(-0.693*($C$2-$P$6)/$E$2),"") -> 41466.86 | S22: =Q22/Q$10 -> 0.1 | T22: 0.6 | U22: =T22*37500 -> 22500 | V22: =IF(U22>0,U22*EXP(-0.693*($C$2-$T$6)/$E$2),"") -> 41665.949 | W22: =V22/V$10 -> 0.31578947 | X22: =COUNT(S22,O22,K22,G22,W22) -> 2 | Y22: =AVERAGE(S22,O22,K22,G22,W22) -> 0.20789474 | Z22: =STDEV(S22,O22,K22,G22,W22) -> 0.1525862 | AA22: =AVERAGE(Q22,M22,I22,E22,W22) -> 11250.158 | AB22: =STDEV(Q22,M22,I22,E22,W22) -> 15909.679
A23: D23 | B23: 313296.01 | C23: 6231949.6 | P23: 0.4 | Q23: =P23*37500 -> 15000 | R23: =IF(Q23>0,Q23*EXP(-0.693*($C$2-$P$6)/$E$2),"") -> 27644.573 | S23: =Q23/Q$10 -> 0.066666667 | T23: 0.3 | U23: =T23*37500 -> 11250 | V23: =IF(U23>0,U23*EXP(-0.693*($C$2-$T$6)/$E$2),"") -> 20832.975 | W23: =V23/V$10 -> 0.15789474 | X23: =COUNT(S23,O23,K23,G23,W23) -> 2 | Y23: =AVERAGE(S23,O23,K23,G23,W23) -> 0.1122807 | Z23: =STDEV(S23,O23,K23,G23,W23) -> 0.064507987 | AA23: =AVERAGE(Q23,M23,I23,E23,W23) -> 7500.0789 | AB23: =STDEV(Q23,M23,I23,E23,W23) -> 10606.49
A24: BH2/3 | B24: 313219.72 | C24: 6232019.6 | H24: 0.004 | I24: =H24*37500 -> 150 | J24: =IF(I24>0,I24*EXP(-0.693*($C$2-$H$6)/$E$2),"") -> 272.62822 | K24: =I24/I$10 -> 0.0022222222 | X24: =COUNT(S24,O24,K24,G24,W24) -> 1 | Y24: =AVERAGE(S24,O24,K24,G24,W24) -> 0.0022222222 | AA24: =AVERAGE(Q24,M24,I24,E24,W24) -> 150
A25: OS2/W | B25: 313276.87 | C25: 6231937.9 | H25: 0.5 | I25: =H25*37500 -> 18750 | J25: =IF(I25>0,I25*EXP(-0.693*($C$2-$H$6)/$E$2),"") -> 34078.527 | K25: =I25/I$10 -> 0.27777778 | X25: =COUNT(S25,O25,K25,G25,W25) -> 1 | Y25: =AVERAGE(S25,O25,K25,G25,W25) -> 0.27777778 | AA25: =AVERAGE(Q25,M25,I25,E25,W25) -> 18750
A26: BHA | B26: 313270.28 | C26: 6232156.3 | H26: 0.0013 | I26: =H26*37500 -> 48.75 | J26: =IF(I26>0,I26*EXP(-0.693*($C$2-$H$6)/$E$2),"") -> 88.604171 | K26: =I26/I$10 -> 0.00072222222 | L26: 0.009 | M26: =L26*37500 -> 337.5 | N26: =IF(M26>0,M26*EXP(-0.693*($C$2-$L$6)/$E$2),"") -> 619.12648 | O26: =M26/I$10 -> 0.005 | X26: =COUNT(S26,O26,K26,G26,W26) -> 2 | Y26: =AVERAGE(S26,O26,K26,G26,W26) -> 0.0028611111 | Z26: =STDEV(S26,O26,K26,G26,W26) -> 0.0030248457 | AA26: =AVERAGE(Q26,M26,I26,E26,W26) -> 193.125 | AB26: =STDEV(Q26,M26,I26,E26,W26) -> 204.17708
A27: BHB | B27: 313330.9 | C27: 6232148.7 | H27: 0.002 | I27: =H27*37500 -> 75 | J27: =IF(I27>0,I27*EXP(-0.693*($C$2-$H$6)/$E$2),"") -> 136.31411 | K27: =I27/I$10 -> 0.0011111111 | L27: 0 | M27: =L27*37500 -> 0 | N27: =IF(M27>0,M27*EXP(-0.693*($C$2-$L$6)/$E$2),"") | O27: =M27/I$10 -> 0 | X27: =COUNT(S27,O27,K27,G27,W27) -> 2 | Y27: =AVERAGE(S27,O27,K27,G27,W27) -> 0.00055555556 | Z27: =STDEV(S27,O27,K27,G27,W27) -> 0.0007856742 | AA27: =AVERAGE(Q27,M27,I27,E27,W27) -> 37.5 | AB27: =STDEV(Q27,M27,I27,E27,W27) -> 53.033009
A28: BHC | B28: 313367.71 | C28: 6232144.8 | H28: 0.0007 | I28: =H28*37500 -> 26.25 | J28: =IF(I28>0,I28*EXP(-0.693*($C$2-$H$6)/$E$2),"") -> 47.709938 | K28: =I28/I$10 -> 0.00038888889 | L28: 0.051 | M28: =L28*37500 -> 1912.5 | N28: =IF(M28>0,M28*EXP(-0.693*($C$2-$L$6)/$E$2),"") -> 3508.3834 | O28: =M28/I$10 -> 0.028333333 | X28: =COUNT(S28,O28,K28,G28,W28) -> 2 | Y28: =AVERAGE(S28,O28,K28,G28,W28) -> 0.014361111 | Z28: =STDEV(S28,O28,K28,G28,W28) -> 0.019759706 | AA28: =AVERAGE(Q28,M28,I28,E28,W28) -> 969.375 | AB28: =STDEV(Q28,M28,I28,E28,W28) -> 1333.7802
A29: BHD | B29: 313402.92 | C29: 6232113.8 | H29: 0.0007 | I29: =H29*37500 -> 26.25 | J29: =IF(I29>0,I29*EXP(-0.693*($C$2-$H$6)/$E$2),"") -> 47.709938 | K29: =I29/I$10 -> 0.00038888889 | L29: 0 | M29: =L29*37500 -> 0 | N29: =IF(M29>0,M29*EXP(-0.693*($C$2-$L$6)/$E$2),"") | O29: =M29/I$10 -> 0 | X29: =COUNT(S29,O29,K29,G29,W29) -> 2 | Y29: =AVERAGE(S29,O29,K29,G29,W29) -> 0.00019444444 | Z29: =STDEV(S29,O29,K29,G29,W29) -> 0.00027498597 | AA29: =AVERAGE(Q29,M29,I29,E29,W29) -> 13.125 | AB29: =STDEV(Q29,M29,I29,E29,W29) -> 18.561553
A30: BHE | B30: 313238.7 | C30: 6232160.8 | H30: 0.0037 | I30: =H30*37500 -> 138.75 | J30: =IF(I30>0,I30*EXP(-0.693*($C$2-$H$6)/$E$2),"") -> 252.1811 | K30: =I30/I$10 -> 0.0020555556 | L30: 0 | M30: =L30*37500 -> 0 | N30: =IF(M30>0,M30*EXP(-0.693*($C$2-$L$6)/$E$2),"") | O30: =M30/I$10 -> 0 | X30: =COUNT(S30,O30,K30,G30,W30) -> 2 | Y30: =AVERAGE(S30,O30,K30,G30,W30) -> 0.0010277778 | Z30: =STDEV(S30,O30,K30,G30,W30) -> 0.0014534973 | AA30: =AVERAGE(Q30,M30,I30,E30,W30) -> 69.375 | AB30: =STDEV(Q30,M30,I30,E30,W30) -> 98.111066
A34: Tritium amount estimate using grid statistics from ArcView for May and Jun 1976 | T34: 27912
T35: Cell size | U35: 0.5 x 0.5

Sheet Raw data
A1: LFBG Tritium data | C1: Data from environmental monitoring reports | H1: Data from Isaac & Mears (1977) & Ellis (1977) | M1: NB D9 is closest to MB16
B3: Ref Date: | C3: 23924 | D3: T 1/2 (d) = | E3: =12.28*365.25 -> 4485.27 | H3: Isaacs SR & Mears KF (1977) A study of the burial ground used for radioactive waste at the Little Forest area near Lucas Heights New South Wales. ANSTO/E427, 50pp.
H4: Ellis WR (1977) Possible methods of disposal of the AAEC's low and medium level solid radiactive waste and environmental impact assessment of the reopening of an existing burial ground. ANSTO/E421, 53pp.
O5: Recent data from EM
A6: Sample date | B6: Borehole | C6: H3 (Bq/L) | D6: Purge date | E6: Decay corr H3 (Bq/L) | H6: Sample date | I6: Borehole | J6: H3 (uCi/L) | K6: H3 (Bq/L) | L6: Decay corr H3 (Bq/L) | M6: Comment | P6: 37946 | R6: 38092 | T6: 38268 | V6: 38457 | X6: 38650 | Z6: 38806 | AB6: 39010 | AD6: 39209 | AG6: 39310
A7: 31440 | B7: BHF | C7: 1420 | E7: =IF(C7>0,C7*EXP(-0.693*($C$3-$A7)/$E$3),"") -> 4535.4399 | H7: 27729 | I7: D7 | J7: 0.8 | K7: =J7*37500 -> 30000 | L7: =IF(K7>0,K7*EXP(-0.693*($C$3-$H7)/$E$3),"") -> 54005.817 | M7: Drought. Nov-Dec 1975 sampling period | O7: BHF | P7: 310 | Q7: BHF | R7: 598 | S7: BHF | T7: 1609 | U7: BHF | V7: 1563 | W7: BHF | X7: 2237 | Y7: BHF | Z7: 4336 | AA7: BHF | AB7: 5480 | AC7: BHF | AD7: 5834 | AE7: BHF | AF7: dce07-01 | AG7: 152.18942
A8: 31440 | B8: BH10 | C8: 1420 | E8: =IF(C8>0,C8*EXP(-0.693*($C$3-$A8)/$E$3),"") -> 4535.4399 | H8: 27729 | I8: D8 | J8: 5.4 | K8: =J8*37500 -> 202500 | L8: =IF(K8>0,K8*EXP(-0.693*($C$3-$H8)/$E$3),"") -> 364539.26 | M8: Drought. Nov-Dec 1975 sampling period | O8: BH10 | P8: 7288 | Q8: BH10 | R8: 7146 | S8: BH10 | U8: BH10 | V8: 7359 | W8: BH10 | X8: 7152 | Y8: BH10 | Z8: 7173 | AA8: BH10 | AB8: 342 | AC8: BH10 | AD8: 6923 | AE8: BH10 | AF8: dce07-02 | AG8: 158.95339
A9: 31440 | B9: OS2 | C9: 3630 | E9: =IF(C9>0,C9*EXP(-0.693*($C$3-$A9)/$E$3),"") -> 11594.117 | H9: 27729 | I9: D9 | J9: 3.8 | K9: =J9*37500 -> 142500 | L9: =IF(K9>0,K9*EXP(-0.693*($C$3-$H9)/$E$3),"") -> 256527.63 | M9: Drought. Nov-Dec 1975 sampling period | O9: OS2 | P9: 591 | Q9: OS2 | R9: - | S9: OS2 | U9: OS2 | V9: - | W9: OS2 | Y9: OS2 | AA9: OS2 | AC9: OS2 | AD9: 65 | AE9: OS2 | AF9: dce07-03 | AG9: 341.58069
A10: 31440 | B10: OS3 | C10: 5090 | E10: =IF(C10>0,C10*EXP(-0.693*($C$3-$A10)/$E$3),"") -> 16257.316 | H10: 27729 | I10: D10 | J10: 10.4 | K10: =J10*37500 -> 390000 | L10: =IF(K10>0,K10*EXP(-0.693*($C$3-$H10)/$E$3),"") -> 702075.62 | M10: Drought. Nov-Dec 1975 sampling period | O10: OS3 | P10: 1402 | Q10: OS3 | R10: 1117 | S10: OS3 | T10: 878 | U10: OS3 | V10: 988 | W10: OS3 | X10: 1205 | Y10: OS3 | Z10: 815 | AA10: OS3 | AB10: 450 | AC10: OS3 | AD10: 255 | AE10: OS3 | AF10: dce07-04 | AG10: 290.85088
A11: 31567 | B11: BHF | C11: 1560 | E11: =IF(C11>0,C11*EXP(-0.693*($C$3-$A11)/$E$3),"") -> 5081.3311 | H11: 27729 | I11: D11 | J11: 1.4 | K11: =J11*37500 -> 52500 | L11: =IF(K11>0,K11*EXP(-0.693*($C$3-$H11)/$E$3),"") -> 94510.179 | M11: Drought. Nov-Dec 1975 sampling period | O11: MB11 | P11: 11 | Q11: MB11 | R11: 4 | S11: MB11 | T11: 11 | U11: MB11 | V11: 15 | W11: MB11 | X11: 11 | Y11: MB11 | Z11: 11 | AA11: MB11 | AB11: 3 | AC11: MB11 | AD11: 3 | AE11: MB11 | AF11: dce07-05 | AG11: 3.381987
A12: 31567 | B12: BH10 | C12: 3070 | E12: =IF(C12>0,C12*EXP(-0.693*($C$3-$A12)/$E$3),"") -> 9999.7991 | H12: 27729 | I12: D12 | J12: 2.4 | K12: =J12*37500 -> 90000 | L12: =IF(K12>0,K12*EXP(-0.693*($C$3-$H12)/$E$3),"") -> 162017.45 | M12: Drought. Nov-Dec 1975 sampling period | O12: MB12 | P12: 5 | Q12: MB12 | R12: 4 | S12: MB12 | T12: 11 | U12: MB12 | V12: 15 | W12: MB12 | X12: 11 | Y12: MB12 | Z12: 11 | AA12: MB12 | AB12: 11 | AC12: MB12 | AD12: 5 | AE12: MB12 | AF12: dce07-06 | AG12: 3.381987
A13: 31567 | B13: OS2 | C13: 3680 | E13: =IF(C13>0,C13*EXP(-0.693*($C$3-$A13)/$E$3),"") -> 11986.73 | H13: 27729 | I13: D13 | J13: 0.2 | K13: =J13*37500 -> 7500 | L13: =IF(K13>0,K13*EXP(-0.693*($C$3-$H13)/$E$3),"") -> 13501.454 | M13: Drought. Nov-Dec 1975 sampling period | O13: MB13 | P13: 2316 | Q13: MB13 | R13: 1495 | S13: MB13 | T13: 780 | U13: MB13 | V13: 1209 | W13: MB13 | X13: 1512 | Y13: MB13 | Z13: 1042 | AA13: MB13 | AB13: 927 | AC13: MB13 | AD13: 248 | AE13: MB13 | AF13: dce07-07 | AG13: 470.0962
A14: 31567 | B14: OS3 | C14: 19720 | E14: =IF(C14>0,C14*EXP(-0.693*($C$3-$A14)/$E$3),"") -> 64233.237 | H14: 27729 | I14: D14 | J14: 2.3 | K14: =J14*37500 -> 86250 | L14: =IF(K14>0,K14*EXP(-0.693*($C$3-$H14)/$E$3),"") -> 155266.72 | M14: Drought. Nov-Dec 1975 sampling period | O14: MB14 | P14: 23 | Q14: MB14 | R14: 49 | S14: MB14 | T14: 78 | U14: MB14 | V14: 100 | W14: MB14 | X14: 162 | Y14: MB14 | Z14: 177 | AA14: MB14 | AB14: 242 | AC14: MB14 | AD14: 291 | AE14: MB14 | AF14: dce07-08 | AG14: 33.81987
A15: 31751 | B15: BHF | C15: 1020 | E15: =IF(C15>0,C15*EXP(-0.693*($C$3-$A15)/$E$3),"") -> 3418.2172 | H15: 27729 | I15: D15 | J15: 7.2 | K15: =J15*37500 -> 270000 | L15: =IF(K15>0,K15*EXP(-0.693*($C$3-$H15)/$E$3),"") -> 486052.35 | M15: Drought. Nov-Dec 1975 sampling period | O15: MB15 | P15: 7 | Q15: MB15 | R15: 56 | S15: MB15 | T15: 38 | U15: MB15 | V15: 106 | W15: MB15 | X15: 211 | Y15: MB15 | Z15: 217 | AA15: MB15 | AB15: 157 | AC15: MB15 | AD15: 306 | AE15: MB15 | AF15: dce07-09 | AG15: 104.8416
A16: 31751 | B16: BH10 | C16: 3010 | E16: =IF(C16>0,C16*EXP(-0.693*($C$3-$A16)/$E$3),"") -> 10087.092 | H16: 27791 | I16: D7 | J16: 0.3 | K16: =J16*37500 -> 11250 | L16: =IF(K16>0,K16*EXP(-0.693*($C$3-$H16)/$E$3),"") -> 20447.116 | M16: After Rain | O16: MB16 | P16: 4172 | Q16: MB16 | R16: 5874 | S16: MB16 | T16: 7844 | U16: MB16 | V16: 5114 | W16: MB16 | X16: 6124 | Y16: MB16 | Z16: 4825 | AA16: MB16 | AB16: 3773 | AC16: MB16 | AD16: 4481 | AE16: MB16 | AF16: dce07-10 | AG16: 2309.8971
A17: 31751 | B17: OS2 | C17: 2690 | E17: =IF(C17>0,C17*EXP(-0.693*($C$3-$A17)/$E$3),"") -> 9014.71 | H17: 27791 | I17: D8 | J17: 4 | K17: =J17*37500 -> 150000 | L17: =IF(K17>0,K17*EXP(-0.693*($C$3-$H17)/$E$3),"") -> 272628.22 | M17: After Rain | O17: MB17 | P17: 729 | Q17: MB17 | R17: 922 | S17: MB17 | T17: 884 | U17: MB17 | V17: 782 | W17: MB17 | X17: 763 | Y17: MB17 | Z17: 664 | AA17: MB17 | AB17: 409 | AC17: MB17 | AD17: 200 | AE17: MB17 | AF17: dce07-11 | AG17: 196.15525
A18: 31751 | B18: OS3 | C18: 15800 | E18: =IF(C18>0,C18*EXP(-0.693*($C$3-$A18)/$E$3),"") -> 52948.854 | H18: 27791 | I18: D9 | J18: 1.8 | K18: =J18*37500 -> 67500 | L18: =IF(K18>0,K18*EXP(-0.693*($C$3-$H18)/$E$3),"") -> 122682.7 | M18: After Rain | O18: MB18 | P18: 258 | Q18: MB18 | R18: 918 | S18: MB18 | T18: 995 | U18: MB18 | V18: 897 | W18: MB18 | X18: 880 | Y18: MB18 | Z18: 797 | AA18: MB18 | AB18: 567 | AC18: MB18 | AD18: 795 | AE18: MB18 | AF18: dce07-12 | AG18: 84.549676
A19: 31933 | B19: BHF | C19: 1060 | E19: =IF(C19>0,C19*EXP(-0.693*($C$3-$A19)/$E$3),"") -> 3653.5725 | H19: 27791 | I19: D10 | J19: 5.7 | K19: =J19*37500 -> 213750 | L19: =IF(K19>0,K19*EXP(-0.693*($C$3-$H19)/$E$3),"") -> 388495.21 | M19: After Rain | O19: MB19 | P19: 198 | Q19: MB19 | R19: 158 | S19: MB19 | T19: 129 | U19: MB19 | V19: 213 | W19: MB19 | X19: 236 | Y19: MB19 | Z19: 237 | AA19: MB19 | AB19: 277 | AC19: MB19 | AD19: 326 | AE19: MB19 | AF19: dce07-13 | AG19: 402.45646
A20: 31933 | B20: BH10 | C20: 3860 | E20: =IF(C20>0,C20*EXP(-0.693*($C$3-$A20)/$E$3),"") -> 13304.519 | H20: 27791 | I20: D11 | J20: 1.6 | K20: =J20*37500 -> 60000 | L20: =IF(K20>0,K20*EXP(-0.693*($C$3-$H20)/$E$3),"") -> 109051.29 | M20: After Rain | O20: MB20 | P20: 7 | Q20: MB20 | R20: 8 | S20: MB20 | T20: 11 | U20: MB20 | V20: 15 | W20: MB20 | X20: 11 | Y20: MB20 | Z20: 11 | AA20: MB20 | AB20: 14 | AC20: MB20 | AD20: 15 | AE20: MB20 | AF20: dce07-14 | AG20: 3.381987
A21: 31933 | B21: OS3 | C21: 18700 | E21: =IF(C21>0,C21*EXP(-0.693*($C$3-$A21)/$E$3),"") -> 64454.533 | H21: 27791 | I21: D12 | J21: 0.8 | K21: =J21*37500 -> 30000 | L21: =IF(K21>0,K21*EXP(-0.693*($C$3-$H21)/$E$3),"") -> 54525.643 | M21: After Rain | O21: MB21 | P21: 200 | Q21: MB21 | R21: 98 | S21: MB21 | T21: 11 | U21: MB21 | V21: 79 | W21: MB21 | X21: 106 | Y21: MB21 | Z21: 48 | AA21: MB21 | AB21: 22 | AC21: MB21 | AD21: 21 | AE21: MB21 | AF21: dce07-15 | AG21: 13.527948
... A25: 32126 | B25: OS3 | C25: 15350 | E25: =IF(C25>0,C25*EXP(-0.693*($C$3-$A25)/$E$3),"") -> 54509.316 | H25: 27791 | I25: D18 | J25: 0.9 | K25: =J25*37500 -> 33750 | L25: =IF(K25>0,K25*EXP(-0.693*($C$3-$H25)/$E$3),"") -> 61341.349 | M25: After Rain | O25: CW | P25: 1113 | Q25: CW | R25: 1135 | S25: CW | T25: 934 | U25: CW | V25: 1013 | W25: CW | X25: 802 | Y25: CW | Z25: 806 | AA25: CW | AB25: 733 | AC25: CW | AD25: 661 | AE25: CW | AF25: dce07-19 | AG25: 710.21728
A26: 32323 | B26: BHF | C26: 1340 | E26: =IF(C26>0,C26*EXP(-0.693*($C$3-$A26)/$E$3),"") -> 4905.5313 | H26: 27791 | I26: BH2/3 | J26: 0.004 | K26: =J26*37500 -> 150 | L26: =IF(K26>0,K26*EXP(-0.693*($C$3-$H26)/$E$3),"") -> 272.62822 | M26: From Ellis (1977) | O26: MB16 Duplicate | P26: 4330 | Q26: MB16 Duplicate | R26: 5576 | S26: OS3 Field Dup. | T26: 740 | U26: MB16 Field Dup. | V26: 5143 | W26: MB16 Field Dup. | X26: 6092 | Y26: MB16 Field Dup. | Z26: 4930 | AA26: MB16 Field Dup. | AC26: MB16 Field Dup. | AD26: 4456
A27: 32323 | B27: BH10 | C27: 3090 | E27: =IF(C27>0,C27*EXP(-0.693*($C$3-$A27)/$E$3),"") -> 11312.009 | H27: 27791 | I27: OS2/W | J27: 0.5 | K27: =J27*37500 -> 18750 | L27: =IF(K27>0,K27*EXP(-0.693*($C$3-$H27)/$E$3),"") -> 34078.527 | M27: From Ellis (1977) | O27: Wash Blank | P27: 11 | Q27: P1D Duplicate | R27: 199 | S27: P1D Field Dup. | T27: 143 | U27: P2D Field Dup. | V27: 82 | W27: P1D Field Dup. | X27: 170 | Y27: P2D Field Dup. | Z27: 76 | AA27: P1D Field Dup. | AC27: P1D Field Dup. | AD27: 144
A28: 32323 | B28: OS2 | C28: 4220 | E28: =IF(C28>0,C28*EXP(-0.693*($C$3-$A28)/$E$3),"") -> 15448.763 | H28: 27791 | I28: BHA | J28: 0.0013 | K28: =J28*37500 -> 48.75 | L28: =IF(K28>0,K28*EXP(-0.693*($C$3-$H28)/$E$3),"") -> 88.604171 | M28: From Ellis (1977) | Q28: Wash Blank | R28: 1 | S28: Wash Blank | T28: 11 | U28: Wash Blank | V28: 15 | W28: Wash Blank | X28: 11 | Y28: Wash Blank | Z28: 11 | AA28: Wash Blank | AB28: 1 | AC28: Wash Blank | AD28: 13 | AE28: Wash Blank | AF28: not log number | AG28: 0
A29: 32323 | B29: OS3 | C29: 5640 | E29: =IF(C29>0,C29*EXP(-0.693*($C$3-$A29)/$E$3),"") -> 20647.161 | H29: 27791 | I29: BHB | J29: 0.002 | K29: =J29*37500 -> 75 | L29: =IF(K29>0,K29*EXP(-0.693*($C$3-$H29)/$E$3),"") -> 136.31411 | M29: From Ellis (1977)
A30: 32323 | B30: MB13 | C30: 8820 | E30: =IF(C30>0,C30*EXP(-0.693*($C$3-$A30)/$E$3),"") -> 32288.646 | H30: 27791 | I30: BHC | J30: 0.0007 | K30: =J30*37500 -> 26.25 | L30: =IF(K30>0,K30*EXP(-0.693*($C$3-$H30)/$E$3),"") -> 47.709938 | M30: From Ellis (1977)
A31: 32323 | B31: MB16 | C31: 24120 | E31: =IF(C31>0,C31*EXP(-0.693*($C$3-$A31)/$E$3),"") -> 88299.563 | H31: 27791 | I31: BHD | J31: 0.0007 | K31: =J31*37500 -> 26.25 | L31: =IF(K31>0,K31*EXP(-0.693*($C$3-$H31)/$E$3),"") -> 47.709938 | M31: From Ellis (1977) | O31: Old data compiled for OPAL related docs from LFBGH3.xls
A32: 32323 | B32: MB17 | C32: 3190 | E32: =IF(C32>0,C32*EXP(-0.693*($C$3-$A32)/$E$3),"") -> 11678.093 | H32: 27791 | I32: BHE | J32: 0.0037 | K32: =J32*37500 -> 138.75 | L32: =IF(K32>0,K32*EXP(-0.693*($C$3-$H32)/$E$3),"") -> 252.1811 | M32: From Ellis (1977) | P32: Borehole | Q32: BH1 | R32: BH2 | S32: BH3 | T32: BH4 | U32: BH5 | V32: BH6 | W32: BH10 | X32: OS1 | Y32: OS2 | Z32: OS3 | AA32: BHA | AB32: BHB | AC32: BHC | AD32: BHD | AE32: BHE | AF32: BHF | AH32: MB11 | AI32: MB12 | AJ32: MB13 | AK32: MB14 | AL32: MB15 | AM32: MB16 | AN32: MB17 | AO32: MB18 | AP32: MB19 | AQ32: MB20 | AR32: MB21 | AS32: MB22
A33: 32484 | B33: MB12 | C33: 580 | E33: =IF(C33>0,C33*EXP(-0.693*($C$3-$A33)/$E$3),"") -> 2176.7698 | H33: 27851 | I33: BHA | J33: 0.009 | K33: =J33*37500 -> 337.5 | L33: =IF(K33>0,K33*EXP(-0.693*($C$3-$H33)/$E$3),"") -> 619.12648 | M33: From Ellis (1977) | O33: 1978 | P33: June | Q33: 0.04 | R33: 0.07 | S33: 0.04 | T33: 0.04 | U33: 0.4 | V33: 0.1 | W33: 0.2 | X33: 0.04 | Y33: 10.5 | Z33: 8.9 | AA33: 0.2 | AB33: 0.04 | AC33: 0.04 | AD33: 0.04 | AE33: 0.1
A34: 32484 | B34: MB13 | C34: 4970 | E34: =IF(C34>0,C34*EXP(-0.693*($C$3-$A34)/$E$3),"") -> 18652.665 | H34: 27851 | I34: BHB | J34: 0 | K34: =J34*37500 -> 0 | L34: =IF(K34>0,K34*EXP(-0.693*($C$3-$H34)/$E$3),"") | M34: From Ellis (1977) | P34: Dec | Q34: 0.04 | R34: 0.04 | S34: 0.04 | T34: 0.04 | U34: 0.04 | V34: 0.04 | W34: 0.28 | X34: 0.04 | Y34: 8.6 | Z34: 18.3 | AA34: 0.1 | AB34: 0.04 | AC34: 0.04 | AD34: 0.04 | AE34: 0.04
A35: 32484 | B35: MB16 | C35: 23200 | E35: =IF(C35>0,C35*EXP(-0.693*($C$3-$A35)/$E$3),"") -> 87070.792 | H35: 27851 | I35: BHC | J35: 0.051 | K35: =J35*37500 -> 1912.5 | L35: =IF(K35>0,K35*EXP(-0.693*($C$3-$H35)/$E$3),"") -> 3508.3834 | M35: From Ellis (1977) | O35: 1979 | P35: June | Q35: 0.04 | R35: 0.04 | S35: 0.04 | T35: 0.04 | U35: 0.04 | V35: 0.04 | W35: 0.48 | AB35: 0.04 | AC35: 0.04 | AE35: 0.04
A36: 32484 | B36: MB17 | C36: 3950 | E36: =IF(C36>0,C36*EXP(-0.693*($C$3-$A36)/$E$3),"") -> 14824.553 | H36: 27851 | I36: BHD | J36: 0 | K36: =J36*37500 -> 0 | L36: =IF(K36>0,K36*EXP(-0.693*($C$3-$H36)/$E$3),"") | M36: From Ellis (1977) | P36: Dec | S36: 0.12 | T36: 0.04 | V36: 0.04 | X36: 0.04 | Y36: 7.2 | Z36: 33.2 | AA36: 0.04 | AB36: 0.04 | AC36: 0.08 | AD36: 0.04 | AE36: 0.04
A37: 32687 | B37: MB13 | C37: 4400 | E37: =IF(C37>0,C37*EXP(-0.693*($C$3-$A37)/$E$3),"") -> 17039.572 | H37: 27851 | I37: BHE | J37: 0 | K37: =J37*37500 -> 0 | L37: =IF(K37>0,K37*EXP(-0.693*($C$3-$H37)/$E$3),"") | M37: From Ellis (1977) | O37: 1980 | P37: June | S37: 0.04 | T37: 0.04 | V37: 0.04 | W37: 0.04 | X37: 0.04 | Y37: 3.5 | Z37: 30.2 | AA37: 0.04 | AB37: 0.04 | AC37: 0.04 | AD37: 0.04 | AE37: 0.04
A38: 32687 | B38: MB16 | C38: 15000 | E38: =IF(C38>0,C38*EXP(-0.693*($C$3-$A38)/$E$3),"") -> 58089.451 | H38: 27881 | I38: D7 | J38: 0.1 | K38: =J38*37500 -> 3750 | L38: =IF(K38>0,K38*EXP(-0.693*($C$3-$H38)/$E$3),"") -> 6911.1434 | P38: Dec
A39: 32687 | B39: MB17 | C39: 2200 | E39: =IF(C39>0,C39*EXP(-0.693*($C$3-$A39)/$E$3),"") -> 8519.7861 | H39: 27881 | I39: D8 | J39: 6.4 | K39: =J39*37500 -> 240000 | L39: =IF(K39>0,K39*EXP(-0.693*($C$3-$H39)/$E$3),"") -> 442313.17 | O39: 1981 | P39: June | Q39: 0.25 | R39: 0.25 | S39: 0.25 | T39: 0.25 | V39: 0.25 | W39: 0.8 | X39: 0.25 | Y39: 4 | Z39: 10.1 | AA39: 0.25 | AB39: 0.25 | AC39: 0.25 | AD39: 0.25 | AE39: 0.25
A40: 32849 | B40: MB12 | C40: 1200 | E40: =IF(C40>0,C40*EXP(-0.693*($C$3-$A40)/$E$3),"") -> 4764.942 | H40: 27881 | I40: D9 | J40: 6 | K40: =J40*37500 -> 225000 | L40: =IF(K40>0,K40*EXP(-0.693*($C$3-$H40)/$E$3),"") -> 414668.6 | P40: March | T40: 0.25
A41: 32849 | B41: MB13 | C41: 12000 | E41: =IF(C41>0,C41*EXP(-0.693*($C$3-$A41)/$E$3),"") -> 47649.42 | H41: 27881 | I41: D10 | J41: 4.4 | K41: =J41*37500 -> 165000 | L41: =IF(K41>0,K41*EXP(-0.693*($C$3-$H41)/$E$3),"") -> 304090.31 | O41: 1982 | P41: July | T41: 0.25 | V41: 0.25 | W41: 1.1 | X41: 0.25 | Y41: 2.65 | Z41: 30.7 | AA41: 0.25 | AB41: 0.25 | AC41: 0.25 | AD41: 0.25 | AE41: 0.25
A42: 32849 | B42: MB16 | C42: 17000 | E42: =IF(C42>0,C42*EXP(-0.693*($C$3-$A42)/$E$3),"") -> 67503.345 | H42: 27881 | I42: D11 | J42: 3.4 | K42: =J42*37500 -> 127500 | L42: =IF(K42>0,K42*EXP(-0.693*($C$3-$H42)/$E$3),"") -> 234978.87 | P42: Dec | T42: 0.25 | V42: 0.25 | W42: 1.21 | Y42: 3.12 | Z42: 34.59 | AA42: 0.25 | AB42: 0.25 | AC42: 0.25 | AD42: 0.25 | AE42: 0.25
A43: 32849 | B43: MB17 | C43: 3000 | E43: =IF(C43>0,C43*EXP(-0.693*($C$3-$A43)/$E$3),"") -> 11912.355 | H43: 27881 | I43: D12 | J43: 0.6 | K43: =J43*37500 -> 22500 | L43: =IF(K43>0,K43*EXP(-0.693*($C$3-$H43)/$E$3),"") -> 41466.86 | O43: 1983 | P43: June | Q43: 0.25 | R43: 0.25 | S43: 0.25 | T43: 0.25 | V43: 0.25 | W43: 1.2 | X43: 0.25 | Y43: 7.4 | Z43: 14.7 | AA43: 0.25 | AB43: 0.25 | AC43: 0.25 | AD43: 0.25 | AE43: 0.25
A44: 32849 | B44: MB20 | C44: 1000 | E44: =IF(C44>0,C44*EXP(-0.693*($C$3-$A44)/$E$3),"") -> 3970.785 | H44: 27881 | I44: D13 | J44: 0 | K44: =J44*37500 -> 0 | L44: =IF(K44>0,K44*EXP(-0.693*($C$3-$H44)/$E$3),"") | P44: Dec | T44: 0.25 | V44: 0.25 | W44: 1 | X44: 0.25 | Y44: 5.6 | Z44: 11.5 | AA44: 0.25 | AB44: 0.25 | AC44: 0.25 | AD44: 0.25 | AE44: 0.25
...

Sheet 3H BqL
A1: Date | C1: Well | D1: Dry | F1: 1978-1980 MDA=40 | H1: 1981-1991 MDA=250 | K1: 1992-? MDA=50 | N1: <MDA listed in column on right approx 10
B2: BH1 | C2: BH2 | D2: BH3 | E2: BH4 | F2: BH5 | G2: BH6 | H2: BHA | I2: BHB | J2: BHC | K2: BHD | L2: BHE | M2: BHF | N2: BH10 | O2: OS1 | P2: OS2 | Q2: OS3 | R2: MB11 | S2: MB12 | T2: MB13 | U2: MB14 | V2: MB15 | W2: MB16 | X2: MB17 | Y2: MB18 | Z2: MB19 | AA2: MB20 | AB2: MB21 | AC2: MB22 | AD2: P1s | AE2: P1d | AF2: P2d | AG2: CW | AH2: BH2/3 | AI2: OS2/W | AJ2: D7 | AK2: D8 | AL2: D9 | AM2: D10 | AN2: D11 | AO2: D12 | AP2: D13 | AQ2: D14 | AR2: D15 | AS2: D16 | AT2: D17 | AU2: D18 | AV2: D19 | AW2: D20 | AX2: D21 | AY2: D23 | AZ2: CH17 | BA2: CH18 | BB2: CH21 | BC2: CH30 | BD2: CH31 | BE2: Background | BG2: Average BH10, OS!, OS2) | BI2: Maximum
B3: Bq/L | C3: Bq/L | D3: Bq/L | E3: Bq/L | F3: Bq/L | G3: Bq/L | H3: Bq/L | I3: Bq/L | J3: Bq/L | K3: Bq/L | L3: Bq/L | M3: Bq/L | N3: Bq/L | O3: Bq/L | P3: Bq/L | Q3: Bq/L | R3: Bq/L | S3: Bq/L | T3: Bq/L | U3: Bq/L | V3: Bq/L | W3: Bq/L | X3: Bq/L | Y3: Bq/L | Z3: Bq/L | AA3: Bq/L | AB3: Bq/L | AC3: Bq/L | AD3: Bq/L | AE3: Bq/L | AF3: Bq/L | AG3: Bq/L | AH3: Bq/L | AI3: Bq/L | AJ3: Bq/L | AK3: Bq/L | AL3: Bq/L | AM3: Bq/L | AN3: Bq/L | AO3: Bq/L | AP3: Bq/L | AQ3: Bq/L | AR3: Bq/L | AS3: Bq/L | AT3: Bq/L | AU3: Bq/L | AV3: Bq/L | AW3: Bq/L | AX3: Bq/L | AY3: Bq/L | AZ3: Bq/L | BA3: Bq/L | BB3: Bq/L | BC3: Bq/L | BD3: Bq/L
A4: 27743 | AJ4: 30000 | AK4: 202500 | AL4: 142500 | AM4: 390000 | AN4: 52500 | AO4: 90000 | AP4: 7500 | AQ4: 86250 | AR4: 270000 | BI4: =MAX(B4:AY4) -> 390000
A5: 27805 | H5: 48.75 | I5: 75 | J5: 26.25 | K5: 26.25 | L5: 138.75 | AH5: 150 | AI5: 18750 | AJ5: 11250 | AK5: 150000 | AL5: 67500 | AM5: 213750 | AN5: 60000 | AO5: 30000 | AP5: 3750 | AQ5: 48750 | AR5: 26250 | AU5: 33750 | BI5: =MAX(B5:AY5) -> 213750
A6: 27865 | H6: 337.5 | J6: 1912.5 | BI6: =MAX(B6:AY6) -> 1912.5
A7: 27895 | AJ7: 3750 | AK7: 240000 | AL7: 225000 | AM7: 165000 | AN7: 127500 | AO7: 22500 | AP7: 0 | AQ7: 15000 | AR7: 90000 | AS7: 2250 | AT7: 33750 | AU7: 30000 | AV7: 15000 | AW7: 75000 | AX7: 22500 | AY7: 15000 | BI7: =MAX(B7:AY7) -> 240000
A8: 27926 | AJ8: 11250 | AK8: 131250 | AL8: 71250 | AM8: 97500 | AN8: 30000 | AO8: 11250 | AP8: 375 | AQ8: 2625 | AR8: 3750 | AS8: 750 | AT8: 37500 | AU8: 26250 | AV8: 15000 | AW8: 45000 | AX8: 22500 | AY8: 11250 | BI8: =MAX(B8:AY8) -> 131250
A9: 28676 | C9: 70 | G9: 100 | H9: 200 | L9: 100 | N9: 200 | P9: 10500 | Q9: 8900 | BG9: =AVERAGE(N9,P9,Q9) -> 6533.3333 | BI9: =MAX(B9:AY9) -> 10500
A10: 28837 | H10: 100 | N10: 280 | P10: 8600 | Q10: 18300 | BG10: =AVERAGE(N10,P10,Q10) -> 9060 | BI10: =MAX(B10:AY10) -> 18300
A11: 29021 | N11: 480 | BI11: =MAX(B11:AY11) -> 480
A12: 29204 | D12: 120 | J12: 80 | P12: 7200 | Q12: 33200 | BI12: =MAX(B12:AY12) -> 33200
A13: 29387 | P13: 3500 | Q13: 30200 | BI13: =MAX(B13:AY13) -> 30200
A14: 29570 | BI14: =MAX(B14:AY14) -> 0
A15: 29752 | N15: 800 | P15: 4000 | Q15: 10100 | BG15: =AVERAGE(N15,P15,Q15) -> 4966.6667 | BI15: =MAX(B15:AY15) -> 10100
A16: 30021 | BI16: =MAX(B16:AY16) -> 0
A17: 30141 | N17: 1100 | P17: 2650 | Q17: 30740 | BG17: =AVERAGE(N17,P17,Q17) -> 11496.667 | BI17: =MAX(B17:AY17) -> 30740
A18: 30308 | N18: 1210 | P18: 3120 | Q18: 34590 | BG18: =AVERAGE(N18,P18,Q18) -> 12973.333 | BI18: =MAX(B18:AY18) -> 34590
A19: 30482 | N19: 1200 | P19: 7400 | Q19: 14700 | BG19: =AVERAGE(N19,P19,Q19) -> 7766.6667 | BI19: =MAX(B19:AY19) -> 14700
A20: 30665 | N20: 1000 | P20: 5600 | Q20: 11500 | BG20: =AVERAGE(N20,P20,Q20) -> 6033.3333 | BI20: =MAX(B20:AY20) -> 11500
A21: 30848 | N21: 1760 | P21: 6260 | Q21: 7190 | BG21: =AVERAGE(N21,P21,Q21) -> 5070 | BI21: =MAX(B21:AY21) -> 7190
A22: 31031 | K22: 1180 | M22: 1530 | N22: 2190 | P22: 4400 | Q22: 11770 | BG22: =AVERAGE(N22,P22,Q22) -> 6120 | BI22: =MAX(B22:AY22) -> 11770
A23: 31215 | M23: 1380 | N23: 2360 | P23: 4600 | Q23: 11110 | BG23: =AVERAGE(N23,P23,Q23) -> 6023.3333 | BI23: =MAX(B23:AY23) -> 11110
A24: 31440 | M24: 1420 | N24: 1420 | P24: 3630 | Q24: 5090 | BE24: 5 | BG24: =AVERAGE(N24,P24,Q24) -> 3380 | BI24: =MAX(B24:AY24) -> 5090
A25: 31567 | M25: 1560 | N25: 3070 | P25: 3680 | Q25: 19720 | BE25: 5 | BG25: =AVERAGE(N25,P25,Q25) -> 8823.3333 | BI25: =MAX(B25:AY25) -> 19720
A26: 31751 | M26: 1020 | N26: 3010 | P26: 2690 | Q26: 15800 | BE26: 5 | BG26: =AVERAGE(N26,P26,Q26) -> 7166.6667 | BI26: =MAX(B26:AY26) -> 15800
A27: 31933 | M27: 1060 | N27: 3860 | Q27: 18700 | BE27: 5 | BI27: =MAX(B27:AY27) -> 18700
A28: 32126 | M28: 1320 | N28: 3860 | P28: 3700 | Q28: 15350 | BE28: 5 | BG28: =AVERAGE(N28,P28,Q28) -> 7636.6667 | BI28: =MAX(B28:AY28) -> 15350
A29: 32323 | M29: 1340 | N29: 3090 | P29: 4220 | Q29: 5640 | T29: 8820 | W29: 24120 | X29: 3190 | BE29: 5 | BG29: =AVERAGE(N29,P29,Q29) -> 4316.6667 | BI29: =MAX(B29:AY29) -> 24120
A30: 32484 | S30: 580 | T30: 4970 | W30: 23200 | X30: 3950 | BE30: 5 | BI30: =MAX(B30:AY30) -> 23200
A31: 32687 | T31: 4400 | W31: 15000 | X31: 2200 | BE31: 5 | BI31: =MAX(B31:AY31) -> 15000
A32: 32849 | S32: 1200 | T32: 12000 | W32: 17000 | X32: 3000 | AA32: 1000 | BE32: 5 | BI32: =MAX(B32:AY32) -> 17000
A33: 33049 | M33: 1200 | N33: 5500 | P33: 6700 | Q33: 3000 | T33: 8500 | W33: 16000 | X33: 3000 | AA33: 300 | BE33: 5 | BG33: =AVERAGE(N33,P33,Q33) -> 5066.6667 | BI33: =MAX(B33:AY33) -> 16000
A34: 33225 | M34: 3100 | N34: 6000 | P34: 2600 | Q34: 10100 | S34: 1000 | T34: 6800 | W34: 17600 | X34: 3300 | AA34: 600 | BE34: 5 | BG34: =AVERAGE(N34,P34,Q34) -> 6233.3333 | BI34: =MAX(B34:AY34) -> 17600
A35: 33413 | M35: 890 | N35: 920 | P35: 3200 | Q35: 2100 | T35: 3600 | V35: 1600 | W35: 15000 | BE35: 5 | BG35: =AVERAGE(N35,P35,Q35) -> 2073.3333 | BI35: =MAX(B35:AY35) -> 15000
A36: 33581 | M36: 1500 | N36: 7500 | P36: 3900 | Q36: 7100 | S36: 2240 | T36: 16000 | W36: 23000 | X36: 3700 | BE36: 5 | BG36: =AVERAGE(N36,P36,Q36) -> 6166.6667 | BI36: =MAX(B36:AY36) -> 23000
A37: 33777 | M37: 1100 | N37: 1200 | P37: 2300 | Q37: 3000 | R37: 60 | S37: 100 | T37: 5800 | W37: 14000 | X37: 1600 | Y37: 140 | AA37: 80 | AB37: 80 | BE37: 5 | BG37: =AVERAGE(N37,P37,Q37) -> 2166.6667 | BI37: =MAX(B37:AY37) -> 14000
A38: 33939 | M38: 390 | N38: 760 | P38: 2300 | Q38: 1500 | T38: 2900 | W38: 15000 | X38: 1700 | BE38: 5 | BG38: =AVERAGE(N38,P38,Q38) -> 1520 | BI38: =MAX(B38:AY38) -> 15000
A39: 34145 | M39: 660 | N39: 3900 | P39: 2790 | Q39: 3840 | T39: 4110 | W39: 12400 | X39: 1820 | BE39: 5 | BG39: =AVERAGE(N39,P39,Q39) -> 3510 | BI39: =MAX(B39:AY39) -> 12400
A40: 34323 | M40: 720 | N40: 5020 | P40: 2770 | Q40: 4570 | S40: 70 | T40: 5750 | W40: 12400 | X40: 1950 | Y40: 60 | BE40: 5 | BG40: =AVERAGE(N40,P40,Q40) -> 4120 | BI40: =MAX(B40:AY40) -> 12400
...

Sheet Final
A1: Compiled final dataset
A2: Reference: | B2: Hughes, C. E., Cendon, D. I., Harrison, J. J., Hankin, S. I., Johansen, M. P., Payne, T. E., Vine, M., Collins, R. N., Hoffmann, E. L., Loosz, T. (2010) Movement of a tritium plume in shallow groundwater at a legacy low-level radioactive waste disposal site in eastern Australia, Journal of Environmental Radioactivity, 1-10. http://dx.doi.org/10.1016/j.jenvrad.2010.05.009
B3: BH1 | C3: BH2 | D3: BH3 | E3: BH4 | F3: BH5 | G3: BH6 | H3: BHA | I3: BHB | J3: BHC | K3: BHD | L3: BHE | M3: BHF | N3: BH10 | O3: OS1 | P3: OS2 | Q3: OS3 | R3: MB11 | S3: MB12 | T3: MB13 | U3: MB14 | V3: MB15 | W3: MB16 | X3: MB17 | Y3: MB18 | Z3: MB19 | AA3: MB20 | AB3: MB21 | AC3: MB22 | AD3: P1s | AE3: P1d | AF3: P2d | AG3: CW | AH3: BH2/3 | AI3: OS2/W | AJ3: D7 | AK3: D8 | AL3: D9 | AM3: D10 | AN3: D11 | AO3: D12 | AP3: D13 | AQ3: D14 | AR3: D15 | AS3: D16 | AT3: D17 | AU3: D18 | AV3: D19 | AW3: D20 | AX3: D21 | AY3: D23 | AZ3: Background
A4: Date | B4: Bq/L | C4: Bq/L | D4: Bq/L | E4: Bq/L | F4: Bq/L | G4: Bq/L | H4: Bq/L | I4: Bq/L | J4: Bq/L | K4: Bq/L | L4: Bq/L | M4: Bq/L | N4: Bq/L | O4: Bq/L | P4: Bq/L | Q4: Bq/L | R4: Bq/L | S4: Bq/L | T4: Bq/L | U4: Bq/L | V4: Bq/L | W4: Bq/L | X4: Bq/L | Y4: Bq/L | Z4: Bq/L | AA4: Bq/L | AB4: Bq/L | AC4: Bq/L | AD4: Bq/L | AE4: Bq/L | AF4: Bq/L | AG4: Bq/L | AH4: Bq/L | AI4: Bq/L | AJ4: Bq/L | AK4: Bq/L | AL4: Bq/L | AM4: Bq/L | AN4: Bq/L | AO4: Bq/L | AP4: Bq/L | AQ4: Bq/L | AR4: Bq/L | AS4: Bq/L | AT4: Bq/L | AU4: Bq/L | AV4: Bq/L | AW4: Bq/L | AX4: Bq/L | AY4: Bq/L
A5: Dec 75 | AJ5: 30000 | AK5: 202500 | AL5: 142500 | AM5: 390000 | AN5: 52500 | AO5: 90000 | AP5: 7500 | AQ5: 86250 | AR5: 270000
A6: Feb 76 | H6: 49 | I6: 75 | J6: 26 | K6: 26 | L6: 139 | AH6: 150 | AI6: 18750 | AJ6: 11250 | AK6: 150000 | AL6: 67500 | AM6: 213750 | AN6: 60000 | AO6: 30000 | AP6: 3750 | AQ6: 48750 | AR6: 26250 | AU6: 33750
A7: Apr 76 | H7: 338 | J7: 1913
A8: May 76 | AJ8: 3750 | AK8: 240000 | AL8: 225000 | AM8: 165000 | AN8: 127500 | AO8: 22500 | AQ8: 15000 | AR8: 90000 | AS8: 2250 | AT8: 33750 | AU8: 30000 | AV8: 15000 | AW8: 75000 | AX8: 22500 | AY8: 15000
A9: Jun 76 | AJ9: 11250 | AK9: 131250 | AL9: 71250 | AM9: 97500 | AN9: 30000 | AO9: 11250 | AP9: 375 | AQ9: 2625 | AR9: 3750 | AS9: 750 | AT9: 37500 | AU9: 26250 | AV9: 15000 | AW9: 45000 | AX9: 22500 | AY9: 11250
A10: 28676 | B10: <40 | C10: 70 | D10: <40 | E10: <40 | F10: <40 | G10: 100 | H10: 200 | J10: <40 | K10: <40 | L10: 100 | N10: 200 | O10: <40 | P10: 10500 | Q10: 8900
A11: 28837 | B11: <40 | C11: <40 | D11: <40 | E11: <40 | F11: <40 | G11: <40 | H11: 100 | I11: <40 | J11: <40 | K11: <40 | L11: <40 | N11: 280 | O11: <40 | P11: 8600 | Q11: 18300
A12: Jun 79 | B12: <40 | C12: <40 | D12: <40 | E12: <40 | F12: <40 | G12: <40 | I12: <40 | J12: <40 | L12: <40 | N12: 480
A13: Dec 79 | B13: Dry | C13: Dry | D13: 120 | E13: <40 | F13: Dry | G13: <40 | H13: <40 | I13: <40 | J13: 80 | K13: <40 | L13: <40 | O13: <40 | P13: 7200 | Q13: 33200
A14: Jun 80 | B14: Dry | C14: Dry | D14: <40 | E14: <40 | F14: Dry | G14: <40 | H14: <40 | I14: <40 | J14: <40 | K14: <40 | L14: <40 | N14: <40 | O14: <40 | P14: 3500 | Q14: 30200
A15: Dec 80 | B15: Dry | C15: Dry | F15: Dry
A16: Jun 81 | B16: <250 | C16: <250 | D16: <250 | E16: <250 | F16: Dry | G16: <250 | H16: <250 | I16: <250 | J16: <250 | K16: <250 | L16: <250 | N16: 800 | O16: <250 | P16: 4000 | Q16: 10100
A17: 30021 | E17: <250
A18: 30141 | E18: <250 | G18: <250 | H18: <250 | I18: <250 | J18: <250 | K18: <250 | L18: <250 | N18: 1100 | O18: <250 | P18: 2650 | Q18: 30740
A19: 30308 | E19: <250 | G19: <250 | H19: <250 | I19: <250 | J19: <250 | K19: <250 | L19: <250 | N19: 1210 | O19: <250 | P19: 3120 | Q19: 34590
A20: Jun 83 | B20: <250 | C20: <250 | D20: <250 | E20: <250 | G20: <250 | H20: <250 | I20: <250 | J20: <250 | K20: <250 | L20: <250 | N20: 1200 | O20: <250 | P20: 7400 | Q20: 14700
A21: Dec'83 | B21: Dry | C21: Dry | D21: Dry | E21: <250 | G21: <250 | H21: <250 | I21: <250 | J21: <250 | K21: <250 | L21: <250 | N21: 1000 | O21: <250 | P21: 5600 | Q21: 11500
A22: Jun84 | B22: <250 | C22: <250 | D22: <250 | E22: <250 | G22: <250 | H22: <250 | I22: <250 | J22: <250 | K22: <250 | L22: <250 | N22: 1760 | O22: <250 | P22: 6260 | Q22: 7190
A23: Dec 84 | B23: Dry | C23: <250 | D23: Dry | E23: <250 | G23: <250 | H23: <250 | I23: <250 | J23: <250 | K23: 1180 | L23: <250 | M23: 1530 | N23: 2190 | O23: <250 | P23: 4400 | Q23: 11770
A24: 31215 | B24: <250 | C24: <250 | E24: <250 | G24: <250 | H24: <250 | I24: <250 | J24: <250 | K24: <250 | L24: <250 | M24: 1380 | N24: 2360 | O24: <250 | P24: 4600 | Q24: 11110
A25: 31440 | B25: <250 | C25: <250 | D25: <250 | E25: <250 | G25: <250 | H25: <250 | I25: <250 | J25: <250 | K25: <250 | L25: <250 | M25: 1420 | N25: 1420 | O25: <250 | P25: 3630 | Q25: 5090 | AZ25: 5
A26: 31567 | E26: <250 | G26: <250 | H26: <250 | I26: <250 | J26: <250 | K26: <250 | L26: <250 | M26: 1560 | N26: 3070 | O26: <250 | P26: 3680 | Q26: 19720 | AZ26: 5
A27: 31751 | C27: <250 | E27: <250 | G27: <250 | H27: <250 | I27: <250 | K27: <250 | L27: <250 | M27: 1020 | N27: 3010 | O27: <250 | P27: 2690 | Q27: 15800 | AZ27: 5
A28: 31933 | E28: <250 | H28: <250 | I28: <250 | J28: <250 | K28: <250 | L28: <250 | M28: 1060 | N28: 3860 | Q28: 18700 | AZ28: 5
A29: 32126 | E29: <250 | G29: <250 | H29: <250 | I29: <250 | J29: <250 | K29: <250 | L29: <250 | M29: 1320 | N29: 3860 | O29: <250 | P29: 3700 | Q29: 15350 | AZ29: 5
A30: 32323 | B30: <250 | C30: <250 | D30: <250 | E30: <250 | G30: <250 | H30: <250 | I30: <250 | K30: <250 | M30: 1340 | N30: 3090 | P30: 4220 | Q30: 5640 | R30: <250 | S30: <250 | T30: 8820 | U30: <250 | V30: <250 | W30: 24120 | X30: 3190 | Y30: <250 | Z30: <250 | AA30: <250 | AB30: <250 | AZ30: 5
A31: 32484 | R31: <250 | S31: 580 | T31: 4970 | U31: <250 | V31: <250 | W31: 23200 | X31: 3950 | Y31: <250 | Z31: <250 | AA31: <250 | AB31: <250 | AC31: <250 | AZ31: 5
A32: 32687 | R32: <250 | S32: <250 | T32: 4400 | U32: <250 | V32: <250 | W32: 15000 | X32: 2200 | Y32: <250 | Z32: <250 | AA32: <250 | AB32: <250 | AC32: <250 | AZ32: 5
A33: 32849 | R33: <250 | S33: 1200 | T33: 12000 | U33: <250 | V33: <250 | W33: 17000 | X33: 3000 | Y33: <250 | Z33: <250 | AA33: 1000 | AB33: <250 | AC33: <250 | AZ33: 5
A34: 33049 | M34: 1200 | N34: 5500 | P34: 6700 | Q34: 3000 | R34: <250 | S34: <250 | T34: 8500 | U34: <250 | V34: <250 | W34: 16000 | X34: 3000 | Y34: <250 | Z34: <250 | AA34: 300 | AB34: <250 | AZ34: 5
A35: 33225 | M35: 3100 | N35: 6000 | P35: 2600 | Q35: 10100 | R35: <250 | S35: 1000 | T35: 6800 | U35: <250 | V35: <250 | W35: 17600 | X35: 3300 | Y35: <250 | Z35: <250 | AA35: 600 | AB35: <250 | AZ35: 5
A36: 33413 | M36: 890 | N36: 920 | P36: 3200 | Q36: 2100 | S36: <250 | T36: 3600 | U36: <250 | V36: 1600 | W36: 15000 | X36: <250 | Y36: <250 | Z36: <250 | AA36: <250 | AB36: <250 | AZ36: 5
A37: 33581 | M37: 1500 | N37: 7500 | P37: 3900 | Q37: 7100 | R37: <250 | S37: 2240 | T37: 16000 | U37: <250 | V37: <250 | W37: 23000 | X37: 3700 | Y37: <250 | Z37: <250 | AA37: <250 | AB37: <250 | AZ37: 5
A38: 33777 | M38: 1100 | N38: 1200 | P38: 2300 | Q38: 3000 | R38: 60 | S38: 100 | T38: 5800 | U38: <50 | V38: <50 | W38: 14000 | X38: 1600 | Y38: 140 | Z38: <50 | AA38: 80 | AB38: 80 | AZ38: 5
A39: 33939 | M39: 390 | N39: 760 | P39: 2300 | Q39: 1500 | R39: <50 | S39: <50 | T39: 2900 | U39: <50 | V39: <50 | W39: 15000 | X39: 1700 | Y39: <50 | Z39: <50 | AA39: <50 | AB39: <50 | AZ39: 5
A40: 34145 | M40: 660 | N40: 3900 | P40: 2790 | Q40: 3840 | R40: <45 | S40: <45 | T40: 4110 | U40: <45 | V40: <45 | W40: 12400 | X40: 1820 | Y40: <45 | Z40: <45 | AA40: <45 | AB40: <45 | AZ40: 5
...

Sheet Tritium data
A1: Raw tritium data from environmental monitoring reports. Values are in Bq/l without correction for background or decay, and where known are reported even if they are <MDA.
A2: Reference: | B2: Hughes, C. E., Cendon, D. I., Harrison, J. J., Hankin, S. I., Johansen, M. P., Payne, T. E., Vine, M., Collins, R. N., Hoffmann, E. L., Loosz, T. (2010) Movement of a tritium plume in shallow groundwater at a legacy low-level radioactive waste disposal site in eastern Australia, Journal of Environmental Radioactivity, 1-10. http://dx.doi.org/10.1016/j.jenvrad.2010.05.009
A3: Date | B3: BH1 | C3: BH2 | D3: BH3 | E3: BH4 | F3: BH5 | G3: BH6 | H3: BHA | I3: BHB | J3: BHC | K3: BHD | L3: BHE | M3: BHF | N3: BH10 | O3: OS1 | P3: OS2 | Q3: OS3 | R3: MB11 | S3: MB12 | T3: MB13 | U3: MB14 | V3: MB15 | W3: MB16 | X3: MB17 | Y3: MB18 | Z3: MB19 | AA3: MB20 | AB3: MB21 | AC3: MB22 | AD3: P1s | AE3: P1d | AF3: P2d | AG3: CW | AH3: BH2/3 | AI3: OS2/W | AJ3: D7 | AK3: D8 | AL3: D9 | AM3: D10 | AN3: D11 | AO3: D12 | AP3: D13 | AQ3: D14 | AR3: D15 | AS3: D16 | AT3: D17 | AU3: D18 | AV3: D19 | AW3: D20 | AX3: D21 | AY3: D23 | AZ3: Background
B4: Bq/L | C4: Bq/L | D4: Bq/L | E4: Bq/L | F4: Bq/L | G4: Bq/L | H4: Bq/L | I4: Bq/L | J4: Bq/L | K4: Bq/L | L4: Bq/L | M4: Bq/L | N4: Bq/L | O4: Bq/L | P4: Bq/L | Q4: Bq/L | R4: Bq/L | S4: Bq/L | T4: Bq/L | U4: Bq/L | V4: Bq/L | W4: Bq/L | X4: Bq/L | Y4: Bq/L | Z4: Bq/L | AA4: Bq/L | AB4: Bq/L | AC4: Bq/L | AD4: Bq/L | AE4: Bq/L | AF4: Bq/L | AG4: Bq/L | AH4: Bq/L | AI4: Bq/L | AJ4: Bq/L | AK4: Bq/L | AL4: Bq/L | AM4: Bq/L | AN4: Bq/L | AO4: Bq/L | AP4: Bq/L | AQ4: Bq/L | AR4: Bq/L | AS4: Bq/L | AT4: Bq/L | AU4: Bq/L | AV4: Bq/L | AW4: Bq/L | AX4: Bq/L | AY4: Bq/L
A5: 27743 | AJ5: 30000 | AK5: 202500 | AL5: 142500 | AM5: 390000 | AN5: 52500 | AO5: 90000 | AP5: 7500 | AQ5: 86250 | AR5: 270000
A6: 27805 | H6: 48.75 | I6: 75 | J6: 26.25 | K6: 26.25 | L6: 138.75 | AH6: 150 | AI6: 18750 | AJ6: 11250 | AK6: 150000 | AL6: 67500 | AM6: 213750 | AN6: 60000 | AO6: 30000 | AP6: 3750 | AQ6: 48750 | AR6: 26250 | AU6: 33750
A7: 27865 | H7: 337.5 | J7: 1912.5
A8: 27895 | AJ8: 3750 | AK8: 240000 | AL8: 225000 | AM8: 165000 | AN8: 127500 | AO8: 22500 | AP8: 0 | AQ8: 15000 | AR8: 90000 | AS8: 2250 | AT8: 33750 | AU8: 30000 | AV8: 15000 | AW8: 75000 | AX8: 22500 | AY8: 15000
A9: 27926 | AJ9: 11250 | AK9: 131250 | AL9: 71250 | AM9: 97500 | AN9: 30000 | AO9: 11250 | AP9: 375 | AQ9: 2625 | AR9: 3750 | AS9: 750 | AT9: 37500 | AU9: 26250 | AV9: 15000 | AW9: 45000 | AX9: 22500 | AY9: 11250
A10: 28676 | C10: 70 | G10: 100 | H10: 200 | L10: 100 | N10: 200 | P10: 10500 | Q10: 8900
A11: 28837 | H11: 100 | N11: 280 | P11: 8600 | Q11: 18300
A12: 29021 | N12: 480
A13: 29204 | D13: 120 | J13: 80 | P13: 7200 | Q13: 33200
A14: 29387 | P14: 3500 | Q14: 30200
A15: 29570
A16: 29752 | N16: 800 | P16: 4000 | Q16: 10100
A17: 30021
A18: 30141 | N18: 1100 | P18: 2650 | Q18: 30740
A19: 30308 | N19: 1210 | P19: 3120 | Q19: 34590
A20: 30482 | N20: 1200 | P20: 7400 | Q20: 14700
A21: 30665 | N21: 1000 | P21: 5600 | Q21: 11500
A22: 30848 | N22: 1760 | P22: 6260 | Q22: 7190
A23: 31031 | K23: 1180 | M23: 1530 | N23: 2190 | P23: 4400 | Q23: 11770
A24: 31215 | M24: 1380 | N24: 2360 | P24: 4600 | Q24: 11110
A25: 31440 | M25: 1420 | N25: 1420 | P25: 3630 | Q25: 5090 | AZ25: 5
A26: 31567 | M26: 1560 | N26: 3070 | P26: 3680 | Q26: 19720 | AZ26: 5
A27: 31751 | M27: 1020 | N27: 3010 | P27: 2690 | Q27: 15800 | AZ27: 5
A28: 31933 | M28: 1060 | N28: 3860 | Q28: 18700 | AZ28: 5
A29: 32126 | M29: 1320 | N29: 3860 | P29: 3700 | Q29: 15350 | AZ29: 5
A30: 32323 | M30: 1340 | N30: 3090 | P30: 4220 | Q30: 5640 | T30: 8820 | W30: 24120 | X30: 3190 | AZ30: 5
A31: 32484 | S31: 580 | T31: 4970 | W31: 23200 | X31: 3950 | AZ31: 5
A32: 32687 | T32: 4400 | W32: 15000 | X32: 2200 | AZ32: 5
A33: 32849 | S33: 1200 | T33: 12000 | W33: 17000 | X33: 3000 | AA33: 1000 | AZ33: 5
A34: 33049 | M34: 1200 | N34: 5500 | P34: 6700 | Q34: 3000 | T34: 8500 | W34: 16000 | X34: 3000 | AA34: 300 | AZ34: 5
A35: 33225 | M35: 3100 | N35: 6000 | P35: 2600 | Q35: 10100 | S35: 1000 | T35: 6800 | W35: 17600 | X35: 3300 | AA35: 600 | AZ35: 5
A36: 33413 | M36: 890 | N36: 920 | P36: 3200 | Q36: 2100 | T36: 3600 | V36: 1600 | W36: 15000 | AZ36: 5
A37: 33581 | M37: 1500 | N37: 7500 | P37: 3900 | Q37: 7100 | S37: 2240 | T37: 16000 | W37: 23000 | X37: 3700 | AZ37: 5
A38: 33777 | M38: 1100 | N38: 1200 | P38: 2300 | Q38: 3000 | R38: 60 | S38: 100 | T38: 5800 | W38: 14000 | X38: 1600 | Y38: 140 | AA38: 80 | AB38: 80 | AZ38: 5
A39: 33939 | M39: 390 | N39: 760 | P39: 2300 | Q39: 1500 | T39: 2900 | W39: 15000 | X39: 1700 | AZ39: 5
A40: 34145 | M40: 660 | N40: 3900 | P40: 2790 | Q40: 3840 | T40: 4110 | W40: 12400 | X40: 1820 | AZ40: 5
...

Sheet Error
A1: Analytical error where reported
A2: Reference: | B2: Hughes, C. E., Cendon, D. I., Harrison, J. J., Hankin, S. I., Johansen, M. P., Payne, T. E., Vine, M., Collins, R. N., Hoffmann, E. L., Loosz, T. (2010) Movement of a tritium plume in shallow groundwater at a legacy low-level radioactive waste disposal site in eastern Australia, Journal of Environmental Radioactivity, 1-10. http://dx.doi.org/10.1016/j.jenvrad.2010.05.009
A3: Date | B3: BH1 | C3: BH2 | D3: BH3 | E3: BH4 | F3: BH5 | G3: BH6 | H3: BHA | I3: BHB | J3: BHC | K3: BHD | L3: BHE | M3: BHF | N3: BH10 | O3: OS1 | P3: OS2 | Q3: OS3 | R3: MB11 | S3: MB12 | T3: MB13 | U3: MB14 | V3: MB15 | W3: MB16 | X3: MB17 | Y3: MB18 | Z3: MB19 | AA3: MB20 | AB3: MB21 | AC3: MB22 | AD3: P1s | AE3: P1d | AF3: P2d | AG3: CW | AH3: BH2/3 | AI3: OS2/W | AJ3: D7 | AK3: D8 | AL3: D9 | AM3: D10 | AN3: D11 | AO3: D12 | AP3: D13 | AQ3: D14 | AR3: D15 | AS3: D16 | AT3: D17 | AU3: D18 | AV3: D19 | AW3: D20 | AX3: D21 | AY3: D23 | AZ3: Background | BA3: Error
B4: Bq/L | C4: Bq/L | D4: Bq/L | E4: Bq/L | F4: Bq/L | G4: Bq/L | H4: Bq/L | I4: Bq/L | J4: Bq/L | K4: Bq/L | L4: Bq/L | M4: Bq/L | N4: Bq/L | O4: Bq/L | P4: Bq/L | Q4: Bq/L | R4: Bq/L | S4: Bq/L | T4: Bq/L | U4: Bq/L | V4: Bq/L | W4: Bq/L | X4: Bq/L | Y4: Bq/L | Z4: Bq/L | AA4: Bq/L | AB4: Bq/L | AC4: Bq/L | AD4: Bq/L | AE4: Bq/L | AF4: Bq/L | AG4: Bq/L | AH4: Bq/L | AI4: Bq/L | AJ4: Bq/L | AK4: Bq/L | AL4: Bq/L | AM4: Bq/L | AN4: Bq/L | AO4: Bq/L | AP4: Bq/L | AQ4: Bq/L | AR4: Bq/L | AS4: Bq/L | AT4: Bq/L | AU4: Bq/L | AV4: Bq/L | AW4: Bq/L | AX4: Bq/L | AY4: Bq/L
A5: 27729
A6: 27805
A7: 27865
A8: 27895
A9: 27926
A10: 28676
A11: 28837
A12: 29021
A13: 29204
A14: 29387
A15: 29570
A16: 29752
... A24: 31215
A25: 31440 | AZ25: 5
A26: 31567 | AZ26: 5
A27: 31751 | AZ27: 5
A28: 31933 | AZ28: 5
A29: 32126 | AZ29: 5
A30: 32323 | AZ30: 5
A31: 32484 | AZ31: 5
A32: 32687 | AZ32: 5
A33: 32849 | AZ33: 5
A34: 33049 | AZ34: 5
A35: 33225 | AZ35: 5
A36: 33413 | AZ36: 5
... A45: 35041 | AZ45: 5
A46: 35202 | K46: 40 | M46: 20 | N46: 30 | P46: 20 | Q46: 80 | S46: 40 | T46: 100 | W46: 160 | X46: 30 | Z46: 30 | AA46: 30 | AZ46: 5
A47: 35405 | M47: 60 | N47: 30 | P47: 100 | Q47: 80 | T47: 110 | W47: 230 | X47: 30 | AZ47: 5
A48: 35586 | M48: 10 | N48: 40 | P48: 40 | Q48: 20 | S48: 10 | T48: 70 | U48: 10 | W48: 100 | X48: 20 | Y48: 10 | Z48: 10 | AB48: 10 | AZ48: 5
A49: 35738 | M49: 20 | N49: 10 | P49: 40 | Q49: 20 | T49: 40 | W49: 50 | X49: 30 | Y49: 10 | Z49: 10 | AB49: 10 | AZ49: 5
A50: 35940 | M50: 20 | N50: 20 | P50: 30 | Q50: 30 | T50: 20 | W50: 30 | X50: 20 | Y50: 30 | AZ50: 5
A51: 36066 | M51: 20 | N51: 50 | P51: 40 | Q51: 20 | T51: 60 | W51: 70 | X51: 40 | AZ51: 5
A52: 36308 | M52: 20 | N52: 10 | P52: 20 | Q52: 10 | T52: 60 | W52: 60 | X52: 20 | Y52: 10 | AZ52: 5
A53: 36475 | M53: 10 | N53: 10 | P53: 30 | Q53: 20 | T53: 30 | W53: 40 | X53: 20 | AZ53: 5
A54: 36669 | M54: 20 | N54: 10 | P54: 30 | Q54: 30 | S54: 10 | T54: 20 | U54: 10 | W54: 50 | X54: 20 | Y54: 10 | Z54: 10 | AA54: 20 | AZ54: 5
A55: 36840 | M55: 50 | N55: 20 | P55: 20 | Q55: 50 | T55: 100 | U55: 10 | W55: 80 | X55: 20 | Y55: 10 | Z55: 10 | AB55: 10 | AZ55: 5
...

Sheet <MDA
A1: Minimum detectable activity (MDA)
A2: Reference: | B2: Hughes, C. E., Cendon, D. I., Harrison, J. J., Hankin, S. I., Johansen, M. P., Payne, T. E., Vine, M., Collins, R. N., Hoffmann, E. L., Loosz, T. (2010) Movement of a tritium plume in shallow groundwater at a legacy low-level radioactive waste disposal site in eastern Australia, Journal of Environmental Radioactivity, 1-10. http://dx.doi.org/10.1016/j.jenvrad.2010.05.009
A3: Date | B3: BH1 | C3: BH2 | D3: BH3 | E3: BH4 | F3: BH5 | G3: BH6 | H3: BHA | I3: BHB | J3: BHC | K3: BHD | L3: BHE | M3: BHF | N3: BH10 | O3: OS1 | P3: OS2 | Q3: OS3 | R3: MB11 | S3: MB12 | T3: MB13 | U3: MB14 | V3: MB15 | W3: MB16 | X3: MB17 | Y3: MB18 | Z3: MB19 | AA3: MB20 | AB3: MB21 | AC3: MB22 | AD3: P1s | AE3: P1d | AF3: P2d | AG3: CW | AH3: BH2/3 | AI3: OS2/W | AJ3: D7 | AK3: D8 | AL3: D9 | AM3: D10 | AN3: D11 | AO3: D12 | AP3: D13 | AQ3: D14 | AR3: D15 | AS3: D16 | AT3: D17 | AU3: D18 | AV3: D19 | AW3: D20 | AX3: D21 | AY3: D23 | AZ3: Background | BA3: MDA from E-rep
B4: Bq/L | C4: Bq/L | D4: Bq/L | E4: Bq/L | F4: Bq/L | G4: Bq/L | H4: Bq/L | I4: Bq/L | J4: Bq/L | K4: Bq/L | L4: Bq/L | M4: Bq/L | N4: Bq/L | O4: Bq/L | P4: Bq/L | Q4: Bq/L | R4: Bq/L | S4: Bq/L | T4: Bq/L | U4: Bq/L | V4: Bq/L | W4: Bq/L | X4: Bq/L | Y4: Bq/L | Z4: Bq/L | AA4: Bq/L | AB4: Bq/L | AC4: Bq/L | AD4: Bq/L | AE4: Bq/L | AF4: Bq/L | AG4: Bq/L | AH4: Bq/L | AI4: Bq/L | AJ4: Bq/L | AK4: Bq/L | AL4: Bq/L | AM4: Bq/L | AN4: Bq/L | AO4: Bq/L | AP4: Bq/L | AQ4: Bq/L | AR4: Bq/L | AS4: Bq/L | AT4: Bq/L | AU4: Bq/L | AV4: Bq/L | AW4: Bq/L | AX4: Bq/L | AY4: Bq/L
A5: 27729
A6: 27805
A7: 27865
A8: 27895
A9: 27926
A10: 28676 | B10: 40 | D10: 40 | E10: 40 | F10: 40 | J10: 40 | K10: 40 | O10: 40
A11: 28837 | B11: 40 | C11: 40 | D11: 40 | E11: 40 | F11: 40 | G11: 40 | I11: 40 | J11: 40 | K11: 40 | L11: 40 | O11: 40
A12: 29021 | B12: 40 | C12: 40 | D12: 40 | E12: 40 | F12: 40 | G12: 40 | I12: 40 | J12: 40 | L12: 40
A13: 29204 | B13: D | C13: D | E13: 40 | F13: D | G13: 40 | H13: 40 | I13: 40 | K13: 40 | L13: 40 | O13: 40
A14: 29387 | B14: D | C14: D | D14: 40 | E14: 40 | F14: D | G14: 40 | H14: 40 | I14: 40 | J14: 40 | K14: 40 | L14: 40 | N14: 40 | O14: 40
A15: 29570 | B15: D | C15: D | F15: D
A16: 29752 | B16: 250 | C16: 250 | D16: 250 | E16: 250 | F16: D | G16: 250 | H16: 250 | I16: 250 | J16: 250 | K16: 250 | L16: 250 | O16: 250
A17: 30021 | E17: 250
A18: 30141 | E18: 250 | G18: 250 | H18: 250 | I18: 250 | J18: 250 | K18: 250 | L18: 250 | O18: 250
A19: 30308 | E19: 250 | G19: 250 | H19: 250 | I19: 250 | J19: 250 | K19: 250 | L19: 250 | O19: 250
A20: 30482 | B20: 250 | C20: 250 | D20: 250 | E20: 250 | G20: 250 | H20: 250 | I20: 250 | J20: 250 | K20: 250 | L20: 250 | O20: 250
A21: 30665 | B21: D | C21: D | D21: D | E21: 250 | G21: 250 | H21: 250 | I21: 250 | J21: 250 | K21: 250 | L21: 250 | O21: 250
A22: 30848 | B22: 250 | C22: 250 | D22: 250 | E22: 250 | G22: 250 | H22: 250 | I22: 250 | J22: 250 | K22: 250 | L22: 250 | O22: 250
A23: 31031 | B23: D | C23: 250 | D23: D | E23: 250 | G23: 250 | H23: 250 | I23: 250 | J23: 250 | L23: 250 | O23: 250
A24: 31215 | B24: 250 | C24: 250 | E24: 250 | G24: 250 | H24: 250 | I24: 250 | J24: 250 | K24: 250 | L24: 250 | O24: 250
A25: 31440 | B25: 250 | C25: 250 | D25: 250 | E25: 250 | G25: 250 | H25: 250 | I25: 250 | J25: 250 | K25: 250 | L25: 250 | O25: 250 | AZ25: 5
A26: 31567 | E26: 250 | G26: 250 | H26: 250 | I26: 250 | J26: 250 | K26: 250 | L26: 250 | O26: 250 | AZ26: 5
A27: 31751 | C27: 250 | E27: 250 | G27: 250 | H27: 250 | I27: 250 | K27: 250 | L27: 250 | O27: 250 | AZ27: 5
A28: 31933 | E28: 250 | H28: 250 | I28: 250 | J28: 250 | K28: 250 | L28: 250 | AZ28: 5
A29: 32126 | E29: 250 | G29: 250 | H29: 250 | I29: 250 | J29: 250 | K29: 250 | L29: 250 | O29: 250 | AZ29: 5
A30: 32323 | B30: 250 | C30: 250 | D30: 250 | E30: 250 | G30: 250 | H30: 250 | I30: 250 | K30: 250 | R30: 250 | S30: 250 | U30: 250 | V30: 250 | Y30: 250 | Z30: 250 | AA30: 250 | AB30: 250 | AZ30: 5
A31: 32484 | R31: 250 | U31: 250 | V31: 250 | Y31: 250 | Z31: 250 | AA31: 250 | AB31: 250 | AC31: 250 | AZ31: 5
A32: 32687 | R32: 250 | S32: 250 | U32: 250 | V32: 250 | Y32: 250 | Z32: 250 | AA32: 250 | AB32: 250 | AC32: 250 | AZ32: 5
A33: 32849 | R33: 250 | U33: 250 | V33: 250 | Y33: 250 | Z33: 250 | AB33: 250 | AC33: 250 | AZ33: 5
A34: 33049 | R34: 250 | S34: 250 | U34: 250 | V34: 250 | Y34: 250 | Z34: 250 | AB34: 250 | AZ34: 5
A35: 33225 | R35: 250 | U35: 250 | V35: 250 | Y35: 250 | Z35: 250 | AB35: 250 | AZ35: 5
A36: 33413 | S36: 250 | U36: 250 | X36: 250 | Y36: 250 | Z36: 250 | AA36: 250 | AB36: 250 | AZ36: 5
A37: 33581 | R37: 250 | U37: 250 | V37: 250 | Y37: 250 | Z37: 250 | AA37: 250 | AB37: 250 | AZ37: 5
A38: 33777 | U38: 50 | V38: 50 | Z38: 50 | AZ38: 5
A39: 33939 | R39: 50 | S39: 50 | U39: 50 | V39: 50 | Y39: 50 | Z39: 50 | AA39: 50 | AB39: 50 | AZ39: 5
A40: 34145 | R40: 45 | S40: 45 | U40: 45 | V40: 45 | Y40: 45 | Z40: 45 | AA40: 45 | AB40: 45 | AZ40: 5
...

Sheet References
A1: List of references for ANSTO/AAEC environmental survey reports from which data was sourced
A3: Giles, M.S., Stockdale, J.A., (1966). Results of the Lucas Heights Biological Survey, December 1959 to December 1964. AAEC/E-151 Supplement No.1.
