Workbook

Sheet 1970's tritium
A1: Data from Isaac & Mears (1977) & Ellis (1977) | F1: NB D9 is closest to MB16
B2: Ref Date: | C2: 23924 | D2: T 1/2 (d) = | E2: =12.28*365.25 -> 4485.27
A3: Isaacs SR & Mears KF (1977) A study of the burial ground used for radioactive waste at the Little Forest area near Lucas Heights New South Wales. ANSTO/E427, 50pp.
A4: Ellis WR (1977) Possible methods of disposal of the AAEC's low and medium level solid radiactive waste and environmental impact assessment of the reopening of an existing burial ground. ANSTO/E421, 53pp.
D6: 27729 | E6: Drought since mid July. Nov-Dec 1975 sampling period | H6: 27791 | I6: After rain - 200mm event late Jan | L6: 27851 | M6: 250mm in March. From Ellis (1977) | P6: 27881 | Q6: Very dry April and May | T6: 27912 | U6: Very dry April to mid June | X6: Normalise all results to D9 and take that to be same as MB16
A7: Borehole | B7: Easting | C7: Northing | D7: H3 (uCi/L) | E7: H3 (Bq/L) | F7: Decay corr H3 (Bq/L) | G7: Activity/D9 for each sampling | H7: H3 (uCi/L) | I7: H3 (Bq/L) | J7: Decay corr H3 (Bq/L) | K7: Activity/D9 for each sampling | L7: H3 (uCi/L) | M7: H3 (Bq/L) | N7: Decay corr H3 (Bq/L) | O7: Activity/D9 for each sampling | P7: H3 (uCi/L) | Q7: H3 (Bq/L) | R7: Decay corr H3 (Bq/L) | S7: Activity/D9 for each sampling | T7: H3 (uCi/L) | U7: H3 (Bq/L) | V7: Decay corr H3 (Bq/L) | W7: Activity/D9 for each sampling | X7: n | Y7: average quotient | Z7: SD quotient | AA7: Average activity | AB7: SD activity
A8: D7 | B8: 313279.54 | C8: 6232060.1 | D8: 0.8 | E8: =D8*37500 -> 30000 | F8: =IF(E8>0,E8*EXP(-0.693*($C$2-$D$6)/$E$2),"") -> 54005.817 | G8: =E8/E$10 -> 0.21052632 | H8: 0.3 | I8: =H8*37500 -> 11250 | J8: =IF(I8>0,I8*EXP(-0.693*($C$2-$H$6)/$E$2),"") -> 20447.116 | K8: =I8/I$10 -> 0.16666667 | P8: 0.1 | Q8: =P8*37500 -> 3750 | R8: =IF(Q8>0,Q8*EXP(-0.693*($C$2-$P$6)/$E$2),"") -> 6911.1434 | S8: =Q8/Q$10 -> 0.016666667 | T8: 0.3 | U8: =T8*37500 -> 11250 | V8: =IF(U8>0,U8*EXP(-0.693*($C$2-$T$6)/$E$2),"") -> 20832.975 | W8: =V8/V$10 -> 0.15789474 | X8: =COUNT(S8,O8,K8,G8,W8) -> 4 | Y8: =AVERAGE(S8,O8,K8,G8,W8) -> 0.1379386 | Z8: =STDEV(S8,O8,K8,G8,W8) -> 0.084062293 | AA8: =AVERAGE(Q8,M8,I8,E8,W8) -> 11250.039 | AB8: =STDEV(Q8,M8,I8,E8,W8) -> 13346.303
A9: D8 | B9: 313273.14 | C9: 6232020.6 | D9: 5.4 | E9: =D9*37500 -> 202500 | F9: =IF(E9>0,E9*EXP(-0.693*($C$2-$D$6)/$E$2),"") -> 364539.26 | G9: =E9/E$10 -> 1.4210526 | H9: 4 | I9: =H9*37500 -> 150000 | J9: =IF(I9>0,I9*EXP(-0.693*($C$2-$H$6)/$E$2),"") -> 272628.22 | K9: =I9/I$10 -> 2.2222222 | P9: 6.4 | Q9: =P9*37500 -> 240000 | R9: =IF(Q9>0,Q9*EXP(-0.693*($C$2-$P$6)/$E$2),"") -> 442313.17 | S9: =Q9/Q$10 -> 1.0666667 | T9: 3.5 | U9: =T9*37500 -> 131250 | V9: =IF(U9>0,U9*EXP(-0.693*($C$2-$T$6)/$E$2),"") -> 243051.37 | W9: =V9/V$10 -> 1.8421053 | X9: =COUNT(S9,O9,K9,G9,W9) -> 4 | Y9: =AVERAGE(S9,O9,K9,G9,W9) -> 1.6380117 | Z9: =STDEV(S9,O9,K9,G9,W9) -> 0.50214955 | AA9: =AVERAGE(Q9,M9,I9,E9,W9) -> 148125.46 | AB9: =STDEV(Q9,M9,I9,E9,W9) -> 105422.39
A10: D9 | B10: 313270.71 | C10: 6232000.5 | D10: 3.8 | E10: =D10*37500 -> 142500 | F10: =IF(E10>0,E10*EXP(-0.693*($C$2-$D$6)/$E$2),"") -> 256527.63 | G10: =E10/E$10 -> 1 | H10: 1.8 | I10: =H10*37500 -> 67500 | J10: =IF(I10>0,I10*EXP(-0.693*($C$2-$H$6)/$E$2),"") -> 122682.7 | K10: =I10/I$10 -> 1 | P10: 6 | Q10: =P10*37500 -> 225000 | R10: =IF(Q10>0,Q10*EXP(-0.693*($C$2-$P$6)/$E$2),"") -> 414668.6 | S10: =Q10/Q$10 -> 1 | T10: 1.9 | U10: =T10*37500 -> 71250 | V10: =IF(U10>0,U10*EXP(-0.693*($C$2-$T$6)/$E$2),"") -> 131942.17 | W10: =V10/V$10 -> 1 | X10: =COUNT(S10,O10,K10,G10,W10) -> 4 | Y10: =AVERAGE(S10,O10,K10,G10,W10) -> 1 | Z10: =STDEV(S10,O10,K10,G10,W10) -> 0 | AA10: =AVERAGE(Q10,M10,I10,E10,W10) -> 108750.25 | AB10: =STDEV(Q10,M10,I10,E10,W10) -> 96920.986
A11: D10 | B11: 313267.51 | C11: 6231981.4 | D11: 10.4 | E11: =D11*37500 -> 390000 | F11: =IF(E11>0,E11*EXP(-0.693*($C$2-$D$6)/$E$2),"") -> 702075.62 | G11: =E11/E$10 -> 2.7368421 | H11: 5.7 | I11: =H11*37500 -> 213750 | J11: =IF(I11>0,I11*EXP(-0.693*($C$2-$H$6)/$E$2),"") -> 388495.21 | K11: =I11/I$10 -> 3.1666667 | P11: 4.4 | Q11: =P11*37500 -> 165000 | R11: =IF(Q11>0,Q11*EXP(-0.693*($C$2-$P$6)/$E$2),"") -> 304090.31 | S11: =Q11/Q$10 -> 0.73333333 | T11: 2.6 | U11: =T11*37500 -> 97500 | V11: =IF(U11>0,U11*EXP(-0.693*($C$2-$T$6)/$E$2),"") -> 180552.45 | W11: =V11/V$10 -> 1.3684211 | X11: =COUNT(S11,O11,K11,G11,W11) -> 4 | Y11: =AVERAGE(S11,O11,K11,G11,W11) -> 2.0013158 | Z11: =STDEV(S11,O11,K11,G11,W11) -> 1.1412532 | AA11: =AVERAGE(Q11,M11,I11,E11,W11) -> 192187.84 | AB11: =STDEV(Q11,M11,I11,E11,W11) -> 160488.21
A12: D11 | B12: 313262.84 | C12: 6231954 | D12: 1.4 | E12: =D12*37500 -> 52500 | F12: =IF(E12>0,E12*EXP(-0.693*($C$2-$D$6)/$E$2),"") -> 94510.179 | G12: =E12/E$10 -> 0.36842105 | H12: 1.6 | I12: =H12*37500 -> 60000 | J12: =IF(I12>0,I12*EXP(-0.693*($C$2-$H$6)/$E$2),"") -> 109051.29 | K12: =I12/I$10 -> 0.88888889 | P12: 3.4 | Q12: =P12*37500 -> 127500 | R12: =IF(Q12>0,Q12*EXP(-0.693*($C$2-$P$6)/$E$2),"") -> 234978.87 | S12: =Q12/Q$10 -> 0.56666667 | T12: 0.8 | U12: =T12*37500 -> 30000 | V12: =IF(U12>0,U12*EXP(-0.693*($C$2-$T$6)/$E$2),"") -> 55554.599 | W12: =V12/V$10 -> 0.42105263 | X12: =COUNT(S12,O12,K12,G12,W12) -> 4 | Y12: =AVERAGE(S12,O12,K12,G12,W12) -> 0.56125731 | Z12: =STDEV(S12,O12,K12,G12,W12) -> 0.23396217 | AA12: =AVERAGE(Q12,M12,I12,E12,W12) -> 60000.105 | AB12: =STDEV(Q12,M12,I12,E12,W12) -> 52320.963
A13: D12 | B13: 313247.41 | C13: 6231951.6 | D13: 2.4 | E13: =D13*37500 -> 90000 | F13: =IF(E13>0,E13*EXP(-0.693*($C$2-$D$6)/$E$2),"") -> 162017.45 | G13: =E13/E$10 -> 0.63157895 | H13: 0.8 | I13: =H13*37500 -> 30000 | J13: =IF(I13>0,I13*EXP(-0.693*($C$2-$H$6)/$E$2),"") -> 54525.643 | K13: =I13/I$10 -> 0.44444444 | P13: 0.6 | Q13: =P13*37500 -> 22500 | R13: =IF(Q13>0,Q13*EXP(-0.693*($C$2-$P$6)/$E$2),"") -> 41466.86 | S13: =Q13/Q$10 -> 0.1 | T13: 0.3 | U13: =T13*37500 -> 11250 | V13: =IF(U13>0,U13*EXP(-0.693*($C$2-$T$6)/$E$2),"") -> 20832.975 | W13: =V13/V$10 -> 0.15789474 | X13: =COUNT(S13,O13,K13,G13,W13) -> 4 | Y13: =AVERAGE(S13,O13,K13,G13,W13) -> 0.33347953 | Z13: =STDEV(S13,O13,K13,G13,W13) -> 0.24934527 | AA13: =AVERAGE(Q13,M13,I13,E13,W13) -> 35625.039 | AB13: =STDEV(Q13,M13,I13,E13,W13) -> 38426.017
A14: D13 | B14: 313229.92 | C14: 6231962.1 | D14: 0.2 | E14: =D14*37500 -> 7500 | F14: =IF(E14>0,E14*EXP(-0.693*($C$2-$D$6)/$E$2),"") -> 13501.454 | G14: =E14/E$10 -> 0.052631579 | H14: 0.1 | I14: =H14*37500 -> 3750 | J14: =IF(I14>0,I14*EXP(-0.693*($C$2-$H$6)/$E$2),"") -> 6815.7054 | K14: =I14/I$10 -> 0.055555556 | P14: 0 | Q14: =P14*37500 -> 0 | R14: =IF(Q14>0,Q14*EXP(-0.693*($C$2-$P$6)/$E$2),"") | S14: =Q14/Q$10 -> 0 | T14: 0.01 | U14: =T14*37500 -> 375 | V14: =IF(U14>0,U14*EXP(-0.693*($C$2-$T$6)/$E$2),"") -> 694.43249 | W14: =V14/V$10 -> 0.0052631579 | X14: =COUNT(S14,O14,K14,G14,W14) -> 4 | Y14: =AVERAGE(S14,O14,K14,G14,W14) -> 0.028362573 | Z14: =STDEV(S14,O14,K14,G14,W14) -> 0.029813093 | AA14: =AVERAGE(Q14,M14,I14,E14,W14) -> 2812.5013 | AB14: =STDEV(Q14,M14,I14,E14,W14) -> 3590.3503
A15: D14 | B15: 313234.54 | C15: 6231988.1 | D15: 2.3 | E15: =D15*37500 -> 86250 | F15: =IF(E15>0,E15*EXP(-0.693*($C$2-$D$6)/$E$2),"") -> 155266.72 | G15: =E15/E$10 -> 0.60526316 | H15: 1.3 | I15: =H15*37500 -> 48750 | J15: =IF(I15>0,I15*EXP(-0.693*($C$2-$H$6)/$E$2),"") -> 88604.171 | K15: =I15/I$10 -> 0.72222222 | P15: 0.4 | Q15: =P15*37500 -> 15000 | R15: =IF(Q15>0,Q15*EXP(-0.693*($C$2-$P$6)/$E$2),"") -> 27644.573 | S15: =Q15/Q$10 -> 0.066666667 | T15: 0.07 | U15: =T15*37500 -> 2625 | V15: =IF(U15>0,U15*EXP(-0.693*($C$2-$T$6)/$E$2),"") -> 4861.0274 | W15: =V15/V$10 -> 0.036842105 | X15: =COUNT(S15,O15,K15,G15,W15) -> 4 | Y15: =AVERAGE(S15,O15,K15,G15,W15) -> 0.35774854 | Z15: =STDEV(S15,O15,K15,G15,W15) -> 0.35675115 | AA15: =AVERAGE(Q15,M15,I15,E15,W15) -> 37500.009 | AB15: =STDEV(Q15,M15,I15,E15,W15) -> 38365.011
A16: D15 | B16: 313238.8 | C16: 6232009.6 | D16: 7.2 | E16: =D16*37500 -> 270000 | F16: =IF(E16>0,E16*EXP(-0.693*($C$2-$D$6)/$E$2),"") -> 486052.35 | G16: =E16/E$10 -> 1.8947368 | H16: 0.7 | I16: =H16*37500 -> 26250 | J16: =IF(I16>0,I16*EXP(-0.693*($C$2-$H$6)/$E$2),"") -> 47709.938 | K16: =I16/I$10 -> 0.38888889 | P16: 2.4 | Q16: =P16*37500 -> 90000 | R16: =IF(Q16>0,Q16*EXP(-0.693*($C$2-$P$6)/$E$2),"") -> 165867.44 | S16: =Q16/Q$10 -> 0.4 | T16: 0.1 | U16: =T16*37500 -> 3750 | V16: =IF(U16>0,U16*EXP(-0.693*($C$2-$T$6)/$E$2),"") -> 6944.3249 | W16: =V16/V$10 -> 0.052631579 | X16: =COUNT(S16,O16,K16,G16,W16) -> 4 | Y16: =AVERAGE(S16,O16,K16,G16,W16) -> 0.68406433 | Z16: =STDEV(S16,O16,K16,G16,W16) -> 0.82305454 | AA16: =AVERAGE(Q16,M16,I16,E16,W16) -> 96562.513 | AB16: =STDEV(Q16,M16,I16,E16,W16) -> 121644
A17: D16 | B17: 313239.36 | C17: 6232025.2 | P17: 0.06 | Q17: =P17*37500 -> 2250 | R17: =IF(Q17>0,Q17*EXP(-0.693*($C$2-$P$6)/$E$2),"") -> 4146.686 | S17: =Q17/Q$10 -> 0.01 | T17: 0.02 | U17: =T17*37500 -> 750 | V17: =IF(U17>0,U17*EXP(-0.693*($C$2-$T$6)/$E$2),"") -> 1388.865 | W17: =V17/V$10 -> 0.010526316 | X17: =COUNT(S17,O17,K17,G17,W17) -> 2 | Y17: =AVERAGE(S17,O17,K17,G17,W17) -> 0.010263158 | Z17: =STDEV(S17,O17,K17,G17,W17) -> 0.00037216146 | AA17: =AVERAGE(Q17,M17,I17,E17,W17) -> 1125.0053 | AB17: =STDEV(Q17,M17,I17,E17,W17) -> 1590.9828
A18: D17 | B18: 313254.65 | C18: 6232030.5 | P18: 0.9 | Q18: =P18*37500 -> 33750 | R18: =IF(Q18>0,Q18*EXP(-0.693*($C$2-$P$6)/$E$2),"") -> 62200.29 | S18: =Q18/Q$10 -> 0.15 | T18: 1 | U18: =T18*37500 -> 37500 | V18: =IF(U18>0,U18*EXP(-0.693*($C$2-$T$6)/$E$2),"") -> 69443.249 | W18: =V18/V$10 -> 0.52631579 | X18: =COUNT(S18,O18,K18,G18,W18) -> 2 | Y18: =AVERAGE(S18,O18,K18,G18,W18) -> 0.33815789 | Z18: =STDEV(S18,O18,K18,G18,W18) -> 0.26609545 | AA18: =AVERAGE(Q18,M18,I18,E18,W18) -> 16875.263 | AB18: =STDEV(Q18,M18,I18,E18,W18) -> 23864.482
A19: D18 | B19: 313265.11 | C19: 6232029.2 | H19: 0.9 | I19: =H19*37500 -> 33750 | J19: =IF(I19>0,I19*EXP(-0.693*($C$2-$H$6)/$E$2),"") -> 61341.349 | K19: =I19/I$10 -> 0.5 | P19: 0.8 | Q19: =P19*37500 -> 30000 | R19: =IF(Q19>0,Q19*EXP(-0.693*($C$2-$P$6)/$E$2),"") -> 55289.147 | S19: =Q19/Q$10 -> 0.13333333 | T19: 0.7 | U19: =T19*37500 -> 26250 | V19: =IF(U19>0,U19*EXP(-0.693*($C$2-$T$6)/$E$2),"") -> 48610.274 | W19: =V19/V$10 -> 0.36842105 | X19: =COUNT(S19,O19,K19,G19,W19) -> 3 | Y19: =AVERAGE(S19,O19,K19,G19,W19) -> 0.33391813 | Z19: =STDEV(S19,O19,K19,G19,W19) -> 0.18575239 | AA19: =AVERAGE(Q19,M19,I19,E19,W19) -> 21250.123 | AB19: =STDEV(Q19,M19,I19,E19,W19) -> 18498.099
A20: D19 | B20: 313296.88 | C20: 6232065.9 | P20: 0.4 | Q20: =P20*37500 -> 15000 | R20: =IF(Q20>0,Q20*EXP(-0.693*($C$2-$P$6)/$E$2),"") -> 27644.573 | S20: =Q20/Q$10 -> 0.066666667 | T20: 0.4 | U20: =T20*37500 -> 15000 | V20: =IF(U20>0,U20*EXP(-0.693*($C$2-$T$6)/$E$2),"") -> 27777.3 | W20: =V20/V$10 -> 0.21052632 | X20: =COUNT(S20,O20,K20,G20,W20) -> 2 | Y20: =AVERAGE(S20,O20,K20,G20,W20) -> 0.13859649 | Z20: =STDEV(S20,O20,K20,G20,W20) -> 0.10172413 | AA20: =AVERAGE(Q20,M20,I20,E20,W20) -> 7500.1053 | AB20: =STDEV(Q20,M20,I20,E20,W20) -> 10606.453
A21: D20 | B21: 313307.59 | C21: 6232017 | P21: 2 | Q21: =P21*37500 -> 75000 | R21: =IF(Q21>0,Q21*EXP(-0.693*($C$2-$P$6)/$E$2),"") -> 138222.87 | S21: =Q21/Q$10 -> 0.33333333 | T21: 1.2 | U21: =T21*37500 -> 45000 | V21: =IF(U21>0,U21*EXP(-0.693*($C$2-$T$6)/$E$2),"") -> 83331.899 | W21: =V21/V$10 -> 0.63157895 | X21: =COUNT(S21,O21,K21,G21,W21) -> 2 | Y21: =AVERAGE(S21,O21,K21,G21,W21) -> 0.48245614 | Z21: =STDEV(S21,O21,K21,G21,W21) -> 0.2108915 | AA21: =AVERAGE(Q21,M21,I21,E21,W21) -> 37500.316 | AB21: =STDEV(Q21,M21,I21,E21,W21) -> 53032.562
A22: D21 | B22: 313302.24 | C22: 6231998.9 | P22: 0.6 | Q22: =P22*37500 -> 22500 | R22: =IF(Q22>0,Q22*EXP(-0.693*($C$2-$P$6)/$E$2),"") -> 41466.86 | S22: =Q22/Q$10 -> 0.1 | T22: 0.6 | U22: =T22*37500 -> 22500 | V22: =IF(U22>0,U22*EXP(-0.693*($C$2-$T$6)/$E$2),"") -> 41665.949 | W22: =V22/V$10 -> 0.31578947 | X22: =COUNT(S22,O22,K22,G22,W22) -> 2 | Y22: =AVERAGE(S22,O22,K22,G22,W22) -> 0.20789474 | Z22: =STDEV(S22,O22,K22,G22,W22) -> 0.1525862 | AA22: =AVERAGE(Q22,M22,I22,E22,W22) -> 11250.158 | AB22: =STDEV(Q22,M22,I22,E22,W22) -> 15909.679
A23: D23 | B23: 313296.01 | C23: 6231949.6 | P23: 0.4 | Q23: =P23*37500 -> 15000 | R23: =IF(Q23>0,Q23*EXP(-0.693*($C$2-$P$6)/$E$2),"") -> 27644.573 | S23: =Q23/Q$10 -> 0.066666667 | T23: 0.3 | U23: =T23*37500 -> 11250 | V23: =IF(U23>0,U23*EXP(-0.693*($C$2-$T$6)/$E$2),"") -> 20832.975 | W23: =V23/V$10 -> 0.15789474 | X23: =COUNT(S23,O23,K23,G23,W23) -> 2 | Y23: =AVERAGE(S23,O23,K23,G23,W23) -> 0.1122807 | Z23: =STDEV(S23,O23,K23,G23,W23) -> 0.064507987 | AA23: =AVERAGE(Q23,M23,I23,E23,W23) -> 7500.0789 | AB23: =STDEV(Q23,M23,I23,E23,W23) -> 10606.49
A24: BH2/3 | B24: 313219.72 | C24: 6232019.6 | H24: 0.004 | I24: =H24*37500 -> 150 | J24: =IF(I24>0,I24*EXP(-0.693*($C$2-$H$6)/$E$2),"") -> 272.62822 | K24: =I24/I$10 -> 0.0022222222 | X24: =COUNT(S24,O24,K24,G24,W24) -> 1 | Y24: =AVERAGE(S24,O24,K24,G24,W24) -> 0.0022222222 | AA24: =AVERAGE(Q24,M24,I24,E24,W24) -> 150
A25: OS2/W | B25: 313276.87 | C25: 6231937.9 | H25: 0.5 | I25: =H25*37500 -> 18750 | J25: =IF(I25>0,I25*EXP(-0.693*($C$2-$H$6)/$E$2),"") -> 34078.527 | K25: =I25/I$10 -> 0.27777778 | X25: =COUNT(S25,O25,K25,G25,W25) -> 1 | Y25: =AVERAGE(S25,O25,K25,G25,W25) -> 0.27777778 | AA25: =AVERAGE(Q25,M25,I25,E25,W25) -> 18750
A26: BHA | B26: 313270.28 | C26: 6232156.3 | H26: 0.0013 | I26: =H26*37500 -> 48.75 | J26: =IF(I26>0,I26*EXP(-0.693*($C$2-$H$6)/$E$2),"") -> 88.604171 | K26: =I26/I$10 -> 0.00072222222 | L26: 0.009 | M26: =L26*37500 -> 337.5 | N26: =IF(M26>0,M26*EXP(-0.693*($C$2-$L$6)/$E$2),"") -> 619.12648 | O26: =M26/I$10 -> 0.005 | X26: =COUNT(S26,O26,K26,G26,W26) -> 2 | Y26: =AVERAGE(S26,O26,K26,G26,W26) -> 0.0028611111 | Z26: =STDEV(S26,O26,K26,G26,W26) -> 0.0030248457 | AA26: =AVERAGE(Q26,M26,I26,E26,W26) -> 193.125 | AB26: =STDEV(Q26,M26,I26,E26,W26) -> 204.17708
A27: BHB | B27: 313330.9 | C27: 6232148.7 | H27: 0.002 | I27: =H27*37500 -> 75 | J27: =IF(I27>0,I27*EXP(-0.693*($C$2-$H$6)/$E$2),"") -> 136.31411 | K27: =I27/I$10 -> 0.0011111111 | L27: 0 | M27: =L27*37500 -> 0 | N27: =IF(M27>0,M27*EXP(-0.693*($C$2-$L$6)/$E$2),"") | O27: =M27/I$10 -> 0 | X27: =COUNT(S27,O27,K27,G27,W27) -> 2 | Y27: =AVERAGE(S27,O27,K27,G27,W27) -> 0.00055555556 | Z27: =STDEV(S27,O27,K27,G27,W27) -> 0.0007856742 | AA27: =AVERAGE(Q27,M27,I27,E27,W27) -> 37.5 | AB27: =STDEV(Q27,M27,I27,E27,W27) -> 53.033009
A28: BHC | B28: 313367.71 | C28: 6232144.8 | H28: 0.0007 | I28: =H28*37500 -> 26.25 | J28: =IF(I28>0,I28*EXP(-0.693*($C$2-$H$6)/$E$2),"") -> 47.709938 | K28: =I28/I$10 -> 0.00038888889 | L28: 0.051 | M28: =L28*37500 -> 1912.5 | N28: =IF(M28>0,M28*EXP(-0.693*($C$2-$L$6)/$E$2),"") -> 3508.3834 | O28: =M28/I$10 -> 0.028333333 | X28: =COUNT(S28,O28,K28,G28,W28) -> 2 | Y28: =AVERAGE(S28,O28,K28,G28,W28) -> 0.014361111 | Z28: =STDEV(S28,O28,K28,G28,W28) -> 0.019759706 | AA28: =AVERAGE(Q28,M28,I28,E28,W28) -> 969.375 | AB28: =STDEV(Q28,M28,I28,E28,W28) -> 1333.7802
A29: BHD | B29: 313402.92 | C29: 6232113.8 | H29: 0.0007 | I29: =H29*37500 -> 26.25 | J29: =IF(I29>0,I29*EXP(-0.693*($C$2-$H$6)/$E$2),"") -> 47.709938 | K29: =I29/I$10 -> 0.00038888889 | L29: 0 | M29: =L29*37500 -> 0 | N29: =IF(M29>0,M29*EXP(-0.693*($C$2-$L$6)/$E$2),"") | O29: =M29/I$10 -> 0 | X29: =COUNT(S29,O29,K29,G29,W29) -> 2 | Y29: =AVERAGE(S29,O29,K29,G29,W29) -> 0.00019444444 | Z29: =STDEV(S29,O29,K29,G29,W29) -> 0.00027498597 | AA29: =AVERAGE(Q29,M29,I29,E29,W29) -> 13.125 | AB29: =STDEV(Q29,M29,I29,E29,W29) -> 18.561553
A30: BHE | B30: 313238.7 | C30: 6232160.8 | H30: 0.0037 | I30: =H30*37500 -> 138.75 | J30: =IF(I30>0,I30*EXP(-0.693*($C$2-$H$6)/$E$2),"") -> 252.1811 | K30: =I30/I$10 -> 0.0020555556 | L30: 0 | M30: =L30*37500 -> 0 | N30: =IF(M30>0,M30*EXP(-0.693*($C$2-$L$6)/$E$2),"") | O30: =M30/I$10 -> 0 | X30: =COUNT(S30,O30,K30,G30,W30) -> 2 | Y30: =AVERAGE(S30,O30,K30,G30,W30) -> 0.0010277778 | Z30: =STDEV(S30,O30,K30,G30,W30) -> 0.0014534973 | AA30: =AVERAGE(Q30,M30,I30,E30,W30) -> 69.375 | AB30: =STDEV(Q30,M30,I30,E30,W30) -> 98.111066
A34: Tritium amount estimate using grid statistics from ArcView for May and Jun 1976 | T34: 27912
T35: Cell size | U35: 0.5 x 0.5

Sheet Raw data
A1: LFBG Tritium data | C1: Data from environmental monitoring reports | H1: Data from Isaac & Mears (1977) & Ellis (1977) | M1: NB D9 is closest to MB16
B3: Ref Date: | C3: 23924 | D3: T 1/2 (d) = | E3: =12.28*365.25 -> 4485.27 | H3: Isaacs SR & Mears KF (1977) A study of the burial ground used for radioactive waste at the Little Forest area near Lucas Heights New South Wales. ANSTO/E427, 50pp.
H4: Ellis WR (1977) Possible methods of disposal of the AAEC's low and medium level solid radiactive waste and environmental impact assessment of the reopening of an existing burial ground. ANSTO/E421, 53pp.
O5: Recent data from EM
A6: Sample date | B6: Borehole | C6: H3 (Bq/L) | D6: Purge date | E6: Decay corr H3 (Bq/L) | H6: Sample date | I6: Borehole | J6: H3 (uCi/L) | K6: H3 (Bq/L) | L6: Decay corr H3 (Bq/L) | M6: Comment | P6: 37946 | R6: 38092 | T6: 38268 | V6: 38457 | X6: 38650 | Z6: 38806 | AB6: 39010 | AD6: 39209 | AG6: 39310
A7: 31440 | B7: BHF | C7: 1420 | E7: =IF(C7>0,C7*EXP(-0.693*($C$3-$A7)/$E$3),"") -> 4535.4399 | H7: 27729 | I7: D7 | J7: 0.8 | K7: =J7*37500 -> 30000 | L7: =IF(K7>0,K7*EXP(-0.693*($C$3-$H7)/$E$3),"") -> 54005.817 | M7: Drought. Nov-Dec 1975 sampling period | O7: BHF | P7: 310 | Q7: BHF | R7: 598 | S7: BHF | T7: 1609 | U7: BHF | V7: 1563 | W7: BHF | X7: 2237 | Y7: BHF | Z7: 4336 | AA7: BHF | AB7: 5480 | AC7: BHF | AD7: 5834 | AE7: BHF | AF7: dce07-01 | AG7: 152.18942
A8: 31440 | B8: BH10 | C8: 1420 | E8: =IF(C8>0,C8*EXP(-0.693*($C$3-$A8)/$E$3),"") -> 4535.4399 | H8: 27729 | I8: D8 | J8: 5.4 | K8: =J8*37500 -> 202500 | L8: =IF(K8>0,K8*EXP(-0.693*($C$3-$H8)/$E$3),"") -> 364539.26 | M8: Drought. Nov-Dec 1975 sampling period | O8: BH10 | P8: 7288 | Q8: BH10 | R8: 7146 | S8: BH10 | U8: BH10 | V8: 7359 | W8: BH10 | X8: 7152 | Y8: BH10 | Z8: 7173 | AA8: BH10 | AB8: 342 | AC8: BH10 | AD8: 6923 | AE8: BH10 | AF8: dce07-02 | AG8: 158.95339
A9: 31440 | B9: OS2 | C9: 3630 | E9: =IF(C9>0,C9*EXP(-0.693*($C$3-$A9)/$E$3),"") -> 11594.117 | H9: 27729 | I9: D9 | J9: 3.8 | K9: =J9*37500 -> 142500 | L9: =IF(K9>0,K9*EXP(-0.693*($C$3-$H9)/$E$3),"") -> 256527.63 | M9: Drought. Nov-Dec 1975 sampling period | O9: OS2 | P9: 591 | Q9: OS2 | R9: - | S9: OS2 | U9: OS2 | V9: - | W9: OS2 | Y9: OS2 | AA9: OS2 | AC9: OS2 | AD9: 65 | AE9: OS2 | AF9: dce07-03 | AG9: 341.58069
A10: 31440 | B10: OS3 | C10: 5090 | E10: =IF(C10>0,C10*EXP(-0.693*($C$3-$A10)/$E$3),"") -> 16257.316 | H10: 27729 | I10: D10 | J10: 10.4 | K10: =J10*37500 -> 390000 | L10: =IF(K10>0,K10*EXP(-0.693*($C$3-$H10)/$E$3),"") -> 702075.62 | M10: Drought. Nov-Dec 1975 sampling period | O10: OS3 | P10: 1402 | Q10: OS3 | R10: 1117 | S10: OS3 | T10: 878 | U10: OS3 | V10: 988 | W10: OS3 | X10: 1205 | Y10: OS3 | Z10: 815 | AA10: OS3 | AB10: 450 | AC10: OS3 | AD10: 255 | AE10: OS3 | AF10: dce07-04 | AG10: 290.85088
A11: 31567 | B11: BHF | C11: 1560 | E11: =IF(C11>0,C11*EXP(-0.693*($C$3-$A11)/$E$3),"") -> 5081.3311 | H11: 27729 | I11: D11 | J11: 1.4 | K11: =J11*37500 -> 52500 | L11: =IF(K11>0,K11*EXP(-0.693*($C$3-$H11)/$E$3),"") -> 94510.179 | M11: Drought. Nov-Dec 1975 sampling period | O11: MB11 | P11: 11 | Q11: MB11 | R11: 4 | S11: MB11 | T11: 11 | U11: MB11 | V11: 15 | W11: MB11 | X11: 11 | Y11: MB11 | Z11: 11 | AA11: MB11 | AB11: 3 | AC11: MB11 | AD11: 3 | AE11: MB11 | AF11: dce07-05 | AG11: 3.381987
A12: 31567 | B12: BH10 | C12: 3070 | E12: =IF(C12>0,C12*EXP(-0.693*($C$3-$A12)/$E$3),"") -> 9999.7991 | H12: 27729 | I12: D12 | J12: 2.4 | K12: =J12*37500 -> 90000 | L12: =IF(K12>0,K12*EXP(-0.693*($C$3-$H12)/$E$3),"") -> 162017.45 | M12: Drought. Nov-Dec 1975 sampling period | O12: MB12 | P12: 5 | Q12: MB12 | R12: 4 | S12: MB12 | T12: 11 | U12: MB12 | V12: 15 | W12: MB12 | X12: 11 | Y12: MB12 | Z12: 11 | AA12: MB12 | AB12: 11 | AC12: MB12 | AD12: 5 | AE12: MB12 | AF12: dce07-06 | AG12: 3.381987
A13: 31567 | B13: OS2 | C13: 3680 | E13: =IF(C13>0,C13*EXP(-0.693*($C$3-$A13)/$E$3),"") -> 11986.73 | H13: 27729 | I13: D13 | J13: 0.2 | K13: =J13*37500 -> 7500 | L13: =IF(K13>0,K13*EXP(-0.693*($C$3-$H13)/$E$3),"") -> 13501.454 | M13: Drought. Nov-Dec 1975 sampling period | O13: MB13 | P13: 2316 | Q13: MB13 | R13: 1495 | S13: MB13 | T13: 780 | U13: MB13 | V13: 1209 | W13: MB13 | X13: 1512 | Y13: MB13 | Z13: 1042 | AA13: MB13 | AB13: 927 | AC13: MB13 | AD13: 248 | AE13: MB13 | AF13: dce07-07 | AG13: 470.0962
A14: 31567 | B14: OS3 | C14: 19720 | E14: =IF(C14>0,C14*EXP(-0.693*($C$3-$A14)/$E$3),"") -> 64233.237 | H14: 27729 | I14: D14 | J14: 2.3 | K14: =J14*37500 -> 86250 | L14: =IF(K14>0,K14*EXP(-0.693*($C$3-$H14)/$E$3),"") -> 155266.72 | M14: Drought. Nov-Dec 1975 sampling period | O14: MB14 | P14: 23 | Q14: MB14 | R14: 49 | S14: MB14 | T14: 78 | U14: MB14 | V14: 100 | W14: MB14 | X14: 162 | Y14: MB14 | Z14: 177 | AA14: MB14 | AB14: 242 | AC14: MB14 | AD14: 291 | AE14: MB14 | AF14: dce07-08 | AG14: 33.81987
A15: 31751 | B15: BHF | C15: 1020 | E15: =IF(C15>0,C15*EXP(-0.693*($C$3-$A15)/$E$3),"") -> 3418.2172 | H15: 27729 | I15: D15 | J15: 7.2 | K15: =J15*37500 -> 270000 | L15: =IF(K15>0,K15*EXP(-0.693*($C$3-$H15)/$E$3),"") -> 486052.35 | M15: Drought. Nov-Dec 1975 sampling period | O15: MB15 | P15: 7 | Q15: MB15 | R15: 56 | S15: MB15 | T15: 38 | U15: MB15 | V15: 106 | W15: MB15 | X15: 211 | Y15: MB15 | Z15: 217 | AA15: MB15 | AB15: 157 | AC15: MB15 | AD15: 306 | AE15: MB15 | AF15: dce07-09 | AG15: 104.8416
A16: 31751 | B16: BH10 | C16: 3010 | E16: =IF(C16>0,C16*EXP(-0.693*($C$3-$A16)/$E$3),"") -> 10087.092 | H16: 27791 | I16: D7 | J16: 0.3 | K16: =J16*37500 -> 11250 | L16: =IF(K16>0,K16*EXP(-0.693*($C$3-$H16)/$E$3),"") -> 20447.116 | M16: After Rain | O16: MB16 | P16: 4172 | Q16: MB16 | R16: 5874 | S16: MB16 | T16: 7844 | U16: MB16 | V16: 5114 | W16: MB16 | X16: 6124 | Y16: MB16 | Z16: 4825 | AA16: MB16 | AB16: 3773 | AC16: MB16 | AD16: 4481 | AE16: MB16 | AF16: dce07-10 | AG16: 2309.8971
A17: 31751 | B17: OS2 | C17: 2690 | E17: =IF(C17>0,C17*EXP(-0.693*($C$3-$A17)/$E$3),"") -> 9014.71 | H17: 27791 | I17: D8 | J17: 4 | K17: =J17*37500 -> 150000 | L17: =IF(K17>0,K17*EXP(-0.693*($C$3-$H17)/$E$3),"") -> 272628.22 | M17: After Rain | O17: MB17 | P17: 729 | Q17: MB17 | R17: 922 | S17: MB17 | T17: 884 | U17: MB17 | V17: 782 | W17: MB17 | X17: 763 | Y17: MB17 | Z17: 664 | AA17: MB17 | AB17: 409 | AC17: MB17 | AD17: 200 | AE17: MB17 | AF17: dce07-11 | AG17: 196.15525
A18: 31751 | B18: OS3 | C18: 15800 | E18: =IF(C18>0,C18*EXP(-0.693*($C$3-$A18)/$E$3),"") -> 52948.854 | H18: 27791 | I18: D9 | J18: 1.8 | K18: =J18*37500 -> 67500 | L18: =IF(K18>0,K18*EXP(-0.693*($C$3-$H18)/$E$3),"") -> 122682.7 | M18: After Rain | O18: MB18 | P18: 258 | Q18: MB18 | R18: 918 | S18: MB18 | T18: 995 | U18: MB18 | V18: 897 | W18: MB18 | X18: 880 | Y18: MB18 | Z18: 797 | AA18: MB18 | AB18: 567 | AC18: MB18 | AD18: 795 | AE18: MB18 | AF18: dce07-12 | AG18: 84.549676
A19: 31933 | B19: BHF | C19: 1060 | E19: =IF(C19>0,C19*EXP(-0.693*($C$3-$A19)/$E$3),"") -> 3653.5725 | H19: 27791 | I19: D10 | J19: 5.7 | K19: =J19*37500 -> 213750 | L19: =IF(K19>0,K19*EXP(-0.693*($C$3-$H19)/$E$3),"") -> 388495.21 | M19: After Rain | O19: MB19 | P19: 198 | Q19: MB19 | R19: 158 | S19: MB19 | T19: 129 | U19: MB19 | V19: 213 | W19: MB19 | X19: 236 | Y19: MB19 | Z19: 237 | AA19: MB19 | AB19: 277 | AC19: MB19 | AD19: 326 | AE19: MB19 | AF19: dce07-13 | AG19: 402.45646
A20: 31933 | B20: BH10 | C20: 3860 | E20: =IF(C20>0,C20*EXP(-0.693*($C$3-$A20)/$E$3),"") -> 13304.519 | H20: 27791 | I20: D11 | J20: 1.6 | K20: =J20*37500 -> 60000 | L20: =IF(K20>0,K20*EXP(-0.693*($C$3-$H20)/$E$3),"") -> 109051.29 | M20: After Rain | O20: MB20 | P20: 7 | Q20: MB20 | R20: 8 | S20: MB20 | T20: 11 | U20: MB20 | V20: 15 | W20: MB20 | X20: 11 | Y20: MB20 | Z20: 11 | AA20: MB20 | AB20: 14 | AC20: MB20 | AD20: 15 | AE20: MB20 | AF20: dce07-14 | AG20: 3.381987
A21: 31933 | B21: OS3 | C21: 18700 | E21: =IF(C21>0,C21*EXP(-0.693*($C$3-$A21)/$E$3),"") -> 64454.533 | H21: 27791 | I21: D12 | J21: 0.8 | K21: =J21*37500 -> 30000 | L21: =IF(K21>0,K21*EXP(-0.693*($C$3-$H21)/$E$3),"") -> 54525.643 | M21: After Rain | O21: MB21 | P21: 200 | Q21: MB21 | R21: 98 | S21: MB21 | T21: 11 | U21: MB21 | V21: 79 | W21: MB21 | X21: 106 | Y21: MB21 | Z21: 48 | AA21: MB21 | AB21: 22 | AC21: MB21 | AD21: 21 | AE21: MB21 | AF21: dce07-15 | AG21: 13.527948
... A25: 32126 | B25: OS3 | C25: 15350 | E25: =IF(C25>0,C25*EXP(-0.693*($C$3-$A25)/$E$3),"") -> 54509.316 | H25: 27791 | I25: D18 | J25: 0.9 | K25: =J25*37500 -> 33750 | L25: =IF(K25>0,K25*EXP(-0.693*($C$3-$H25)/$E$3),"") -> 61341.349 | M25: After Rain | O25: CW | P25: 1113 | Q25: CW | R25: 1135 | S25: CW | T25: 934 | U25: CW | V25: 1013 | W25: CW | X25: 802 | Y25: CW | Z25: 806 | AA25: CW | AB25: 733 | AC25: CW | AD25: 661 | AE25: CW | AF25: dce07-19 | AG25: 710.21728
A26: 32323 | B26: BHF | C26: 1340 | E26: =IF(C26>0,C26*EXP(-0.693*($C$3-$A26)/$E$3),"") -> 4905.5313 | H26: 27791 | I26: BH2/3 | J26: 0.004 | K26: =J26*37500 -> 150 | L26: =IF(K26>0,K26*EXP(-0.693*($C$3-$H26)/$E$3),"") -> 272.62822 | M26: From Ellis (1977) | O26: MB16 Duplicate | P26: 4330 | Q26: MB16 Duplicate | R26: 5576 | S26: OS3 Field Dup. | T26: 740 | U26: MB16 Field Dup. | V26: 5143 | W26: MB16 Field Dup. | X26: 6092 | Y26: MB16 Field Dup. | Z26: 4930 | AA26: MB16 Field Dup. | AC26: MB16 Field Dup. | AD26: 4456
A27: 32323 | B27: BH10 | C27: 3090 | E27: =IF(C27>0,C27*EXP(-0.693*($C$3-$A27)/$E$3),"") -> 11312.009 | H27: 27791 | I27: OS2/W | J27: 0.5 | K27: =J27*37500 -> 18750 | L27: =IF(K27>0,K27*EXP(-0.693*($C$3-$H27)/$E$3),"") -> 34078.527 | M27: From Ellis (1977) | O27: Wash Blank | P27: 11 | Q27: P1D Duplicate | R27: 199 | S27: P1D Field Dup. | T27: 143 | U27: P2D Field Dup. | V27: 82 | W27: P1D Field Dup. | X27: 170 | Y27: P2D Field Dup. | Z27: 76 | AA27: P1D Field Dup. | AC27: P1D Field Dup. | AD27: 144
A28: 32323 | B28: OS2 | C28: 4220 | E28: =IF(C28>0,C28*EXP(-0.693*($C$3-$A28)/$E$3),"") -> 15448.763 | H28: 27791 | I28: BHA | J28: 0.0013 | K28: =J28*37500 -> 48.75 | L28: =IF(K28>0,K28*EXP(-0.693*($C$3-$H28)/$E$3),"") -> 88.604171 | M28: From Ellis (1977) | Q28: Wash Blank | R28: 1 | S28: Wash Blank | T28: 11 | U28: Wash Blank | V28: 15 | W28: Wash Blank | X28: 11 | Y28: Wash Blank | Z28: 11 | AA28: Wash Blank | AB28: 1 | AC28: Wash Blank | AD28: 13 | AE28: Wash Blank | AF28: not log number | AG28: 0
A29: 32323 | B29: OS3 | C29: 5640 | E29: =IF(C29>0,C29*EXP(-0.693*($C$3-$A29)/$E$3),"") -> 20647.161 | H29: 27791 | I29: BHB | J29: 0.002 | K29: =J29*37500 -> 75 | L29: =IF(K29>0,K29*EXP(-0.693*($C$3-$H29)/$E$3),"") -> 136.31411 | M29: From Ellis (1977)
A30: 32323 | B30: MB13 | C30: 8820 | E30: =IF(C30>0,C30*EXP(-0.693*($C$3-$A30)/$E$3),"") -> 32288.646 | H30: 27791 | I30: BHC | J30: 0.0007 | K30: =J30*37500 -> 26.25 | L30: =IF(K30>0,K30*EXP(-0.693*($C$3-$H30)/$E$3),"") -> 47.709938 | M30: From Ellis (1977)
A31: 32323 | B31: MB16 | C31: 24120 | E31: =IF(C31>0,C31*EXP(-0.693*($C$3-$A31)/$E$3),"") -> 88299.563 | H31: 27791 | I31: BHD | J31: 0.0007 | K31: =J31*37500 -> 26.25 | L31: =IF(K31>0,K31*EXP(-0.693*($C$3-$H31)/$E$3),"") -> 47.709938 | M31: From Ellis (1977) | O31: Old data compiled for OPAL related docs from LFBGH3.xls
A32: 32323 | B32: MB17 | C32: 3190 | E32: =IF(C32>0,C32*EXP(-0.693*($C$3-$A32)/$E$3),"") -> 11678.093 | H32: 27791 | I32: BHE | J32: 0.0037 | K32: =J32*37500 -> 138.75 | L32: =IF(K32>0,K32*EXP(-0.693*($C$3-$H32)/$E$3),"") -> 252.1811 | M32: From Ellis (1977) | P32: Borehole | Q32: BH1 | R32: BH2 | S32: BH3 | T32: BH4 | U32: BH5 | V32: BH6 | W32: BH10 | X32: OS1 | Y32: OS2 | Z32: OS3 | AA32: BHA | AB32: BHB | AC32: BHC | AD32: BHD | AE32: BHE | AF32: BHF | AH32: MB11 | AI32: MB12 | AJ32: MB13 | AK32: MB14 | AL32: MB15 | AM32: MB16 | AN32: MB17 | AO32: MB18 | AP32: MB19 | AQ32: MB20 | AR32: MB21 | AS32: MB22
A33: 32484 | B33: MB12 | C33: 580 | E33: =IF(C33>0,C33*EXP(-0.693*($C$3-$A33)/$E$3),"") -> 2176.7698 | H33: 27851 | I33: BHA | J33: 0.009 | K33: =J33*37500 -> 337.5 | L33: =IF(K33>0,K33*EXP(-0.693*($C$3-$H33)/$E$3),"") -> 619.12648 | M33: From Ellis (1977) | O33: 1978 | P33: June | Q33: 0.04 | R33: 0.07 | S33: 0.04 | T33: 0.04 | U33: 0.4 | V33: 0.1 | W33: 0.2 | X33: 0.04 | Y33: 10.5 | Z33: 8.9 | AA33: 0.2 | AB33: 0.04 | AC33: 0.04 | AD33: 0.04 | AE33: 0.1
A34: 32484 | B34: MB13 | C34: 4970 | E34: =IF(C34>0,C34*EXP(-0.693*($C$3-$A34)/$E$3),"") -> 18652.665 | H34: 27851 | I34: BHB | J34: 0 | K34: =J34*37500 -> 0 | L34: =IF(K34>0,K34*EXP(-0.693*($C$3-$H34)/$E$3),"") | M34: From Ellis (1977) | P34: Dec | Q34: 0.04 | R34: 0.04 | S34: 0.04 | T34: 0.04 | U34: 0.04 | V34: 0.04 | W34: 0.28 | X34: 0.04 | Y34: 8.6 | Z34: 18.3 | AA34: 0.1 | AB34: 0.04 | AC34: 0.04 | AD34: 0.04 | AE34: 0.04
A35: 32484 | B35: MB16 | C35: 23200 | E35: =IF(C35>0,C35*EXP(-0.693*($C$3-$A35)/$E$3),"") -> 87070.792 | H35: 27851 | I35: BHC | J35: 0.051 | K35: =J35*37500 -> 1912.5 | L35: =IF(K35>0,K35*EXP(-0.693*($C$3-$H35)/$E$3),"") -> 3508.3834 | M35: From Ellis (1977) | O35: 1979 | P35: June | Q35: 0.04 | R35: 0.04 | S35: 0.04 | T35: 0.04 | U35: 0.04 | V35: 0.04 | W35: 0.48 | AB35: 0.04 | AC35: 0.04 | AE35: 0.04
A36: 32484 | B36: MB17 | C36: 3950 | E36: =IF(C36>0,C36*EXP(-0.693*($C$3-$A36)/$E$3),"") -> 14824.553 | H36: 27851 | I36: BHD | J36: 0 | K36: =J36*37500 -> 0 | L36: =IF(K36>0,K36*EXP(-0.693*($C$3-$H36)/$E$3),"") | M36: From Ellis (1977) | P36: Dec | S36: 0.12 | T36: 0.04 | V36: 0.04 | X36: 0.04 | Y36: 7.2 | Z36: 33.2 | AA36: 0.04 | AB36: 0.04 | AC36: 0.08 | AD36: 0.04 | AE36: 0.04
A37: 32687 | B37: MB13 | C37: 4400 | E37: =IF(C37>0,C37*EXP(-0.693*($C$3-$A37)/$E$3),"") -> 17039.572 | H37: 27851 | I37: BHE | J37: 0 | K37: =J37*37500 -> 0 | L37: =IF(K37>0,K37*EXP(-0.693*($C$3-$H37)/$E$3),"") | M37: From Ellis (1977) | O37: 1980 | P37: June | S37: 0.04 | T37: 0.04 | V37: 0.04 | W37: 0.04 | X37: 0.04 | Y37: 3.5 | Z37: 30.2 | AA37: 0.04 | AB37: 0.04 | AC37: 0.04 | AD37: 0.04 | AE37: 0.04
A38: 32687 | B38: MB16 | C38: 15000 | E38: =IF(C38>0,C38*EXP(-0.693*($C$3-$A38)/$E$3),"") -> 58089.451 | H38: 27881 | I38: D7 | J38: 0.1 | K38: =J38*37500 -> 3750 | L38: =IF(K38>0,K38*EXP(-0.693*($C$3-$H38)/$E$3),"") -> 6911.1434 | P38: Dec
A39: 32687 | B39: MB17 | C39: 2200 | E39: =IF(C39>0,C39*EXP(-0.693*($C$3-$A39)/$E$3),"") -> 8519.7861 | H39: 27881 | I39: D8 | J39: 6.4 | K39: =J39*37500 -> 240000 | L39: =IF(K39>0,K39*EXP(-0.693*($C$3-$H39)/$E$3),"") -> 442313.17 | O39: 1981 | P39: June | Q39: 0.25 | R39: 0.25 | S39: 0.25 | T39: 0.25 | V39: 0.25 | W39: 0.8 | X39: 0.25 | Y39: 4 | Z39: 10.1 | AA39: 0.25 | AB39: 0.25 | AC39: 0.25 | AD39: 0.25 | AE39: 0.25
A40: 32849 | B40: MB12 | C40: 1200 | E40: =IF(C40>0,C40*EXP(-0.693*($C$3-$A40)/$E$3),"") -> 4764.942 | H40: 27881 | I40: D9 | J40: 6 | K40: =J40*37500 -> 225000 | L40: =IF(K40>0,K40*EXP(-0.693*($C$3-$H40)/$E$3),"") -> 414668.6 | P40: March | T40: 0.25
A41: 32849 | B41: MB13 | C41: 12000 | E41: =IF(C41>0,C41*EXP(-0.693*($C$3-$A41)/$E$3),"") -> 47649.42 | H41: 27881 | I41: D10 | J41: 4.4 | K41: =J41*37500 -> 165000 | L41: =IF(K41>0,K41*EXP(-0.693*($C$3-$H41)/$E$3),"") -> 304090.31 | O41: 1982 | P41: July | T41: 0.25 | V41: 0.25 | W41: 1.1 | X41: 0.25 | Y41: 2.65 | Z41: 30.7 | AA41: 0.25 | AB41: 0.25 | AC41: 0.25 | AD41: 0.25 | AE41: 0.25
A42: 32849 | B42: MB16 | C42: 17000 | E42: =IF(C42>0,C42*EXP(-0.693*($C$3-$A42)/$E$3),"") -> 67503.345 | H42: 27881 | I42: D11 | J42: 3.4 | K42: =J42*37500 -> 127500 | L42: =IF(K42>0,K42*EXP(-0.693*($C$3-$H42)/$E$3),"") -> 234978.87 | P42: Dec | T42: 0.25 | V42: 0.25 | W42: 1.21 | Y42: 3.12 | Z42: 34.59 | AA42: 0.25 | AB42: 0.25 | AC42: 0.25 | AD42: 0.25 | AE42: 0.25
A43: 32849 | B43: MB17 | C43: 3000 | E43: =IF(C43>0,C43*EXP(-0.693*($C$3-$A43)/$E$3),"") -> 11912.355 | H43: 27881 | I43: D12 | J43: 0.6 | K43: =J43*37500 -> 22500 | L43: =IF(K43>0,K43*EXP(-0.693*($C$3-$H43)/$E$3),"") -> 41466.86 | O43: 1983 | P43: June | Q43: 0.25 | R43: 0.25 | S43: 0.25 | T43: 0.25 | V43: 0.25 | W43: 1.2 | X43: 0.25 | Y43: 7.4 | Z43: 14.7 | AA43: 0.25 | AB43: 0.25 | AC43: 0.25 | AD43: 0.25 | AE43: 0.25
A44: 32849 | B44: MB20 | C44: 1000 | E44: =IF(C44>0,C44*EXP(-0.693*($C$3-$A44)/$E$3),"") -> 3970.785 | H44: 27881 | I44: D13 | J44: 0 | K44: =J44*37500 -> 0 | L44: =IF(K44>0,K44*EXP(-0.693*($C$3-$H44)/$E$3),"") | P44: Dec | T44: 0.25 | V44: 0.25 | W44: 1 | X44: 0.25 | Y44: 5.6 | Z44: 11.5 | AA44: 0.25 | AB44: 0.25 | AC44: 0.25 | AD44: 0.25 | AE44: 0.25
A45: 33049 | B45: BHF | C45: 1200 | E45: =IF(C45>0,C45*EXP(-0.693*($C$3-$A45)/$E$3),"") -> 4914.4828 | H45: 27881 | I45: D14 | J45: 0.4 | K45: =J45*37500 -> 15000 | L45: =IF(K45>0,K45*EXP(-0.693*($C$3-$H45)/$E$3),"") -> 27644.573 | O45: 1984 | P45: June | Q45: 0.25 | R45: 0.25 | S45: 0.25 | T45: 0.25 | V45: 0.25 | W45: 1.76 | X45: 0.25 | Y45: 6.26 | Z45: 7.19 | AA45: 0.25 | AB45: 0.25 | AC45: 0.25 | AD45: 0.25 | AE45: 0.25
A46: 33049 | B46: BH10 | C46: 5500 | E46: =IF(C46>0,C46*EXP(-0.693*($C$3-$A46)/$E$3),"") -> 22524.713 | H46: 27881 | I46: D15 | J46: 2.4 | K46: =J46*37500 -> 90000 | L46: =IF(K46>0,K46*EXP(-0.693*($C$3-$H46)/$E$3),"") -> 165867.44 | P46: Dec | R46: 0.25 | T46: 0.25 | V46: 0.25 | W46: 2.19 | X46: 0.25 | Y46: 4.4 | Z46: 11.77 | AA46: 0.25 | AB46: 0.25 | AC46: 0.25 | AD46: 1.18 | AE46: 0.25 | AF46: 1.53
A47: 33049 | B47: OS2 | C47: 6700 | E47: =IF(C47>0,C47*EXP(-0.693*($C$3-$A47)/$E$3),"") -> 27439.196 | H47: 27881 | I47: D16 | J47: 0.06 | K47: =J47*37500 -> 2250 | L47: =IF(K47>0,K47*EXP(-0.693*($C$3-$H47)/$E$3),"") -> 4146.686 | O47: 1985 | Q47: 0.25 | R47: 0.25 | T47: 0.25 | V47: 0.25 | W47: 2.36 | X47: 0.25 | Y47: 4.6 | Z47: 11.11 | AA47: 0.25 | AB47: 0.25 | AC47: 0.25 | AD47: 0.25 | AE47: 0.25 | AF47: 1.38
A48: 33049 | B48: OS3 | C48: 3000 | E48: =IF(C48>0,C48*EXP(-0.693*($C$3-$A48)/$E$3),"") -> 12286.207 | H48: 27881 | I48: D17 | J48: 0.9 | K48: =J48*37500 -> 33750 | L48: =IF(K48>0,K48*EXP(-0.693*($C$3-$H48)/$E$3),"") -> 62200.29 | P48: Jan | Q48: 0.25 | R48: 0.25 | S48: 0.25 | T48: 0.25 | V48: 0.25 | W48: 1.42 | X48: 0.25 | Y48: 3.63 | Z48: 5.09 | AA48: 0.25 | AB48: 0.25 | AC48: 0.25 | AD48: 0.25 | AE48: 0.25 | AF48: 1.42
A49: 33049 | B49: MB13 | C49: 8500 | E49: =IF(C49>0,C49*EXP(-0.693*($C$3-$A49)/$E$3),"") -> 34810.92 | H49: 27881 | I49: D18 | J49: 0.8 | K49: =J49*37500 -> 30000 | L49: =IF(K49>0,K49*EXP(-0.693*($C$3-$H49)/$E$3),"") -> 55289.147 | O49: 1986 | P49: June | T49: 0.25 | V49: 0.25 | W49: 3.07 | Y49: 3.68 | Z49: 19.72 | AA49: 0.25 | AB49: 0.25 | AC49: 0.25 | AD49: 0.25 | AE49: 0.25 | AF49: 1.56
A50: 33049 | B50: MB16 | C50: 16000 | E50: =IF(C50>0,C50*EXP(-0.693*($C$3-$A50)/$E$3),"") -> 65526.437 | H50: 27881 | I50: D19 | J50: 0.4 | K50: =J50*37500 -> 15000 | L50: =IF(K50>0,K50*EXP(-0.693*($C$3-$H50)/$E$3),"") -> 27644.573 | P50: Dec | R50: 0.25 | T50: 0.25 | V50: 0.25 | W50: 3.01 | X50: 0.25 | Y50: 2.69 | Z50: 15.8 | AA50: 0.25 | AB50: 0.25 | AD50: 0.25 | AE50: 0.25 | AF50: 1.02
A51: 33049 | B51: MB17 | C51: 3000 | E51: =IF(C51>0,C51*EXP(-0.693*($C$3-$A51)/$E$3),"") -> 12286.207 | H51: 27881 | I51: D20 | J51: 2 | K51: =J51*37500 -> 75000 | L51: =IF(K51>0,K51*EXP(-0.693*($C$3-$H51)/$E$3),"") -> 138222.87 | O51: 1987 | P51: June | T51: 0.25 | W51: 3.86 | Z51: 18.7 | AA51: 0.25 | AB51: 0.25 | AC51: 0.25 | AD51: 0.25 | AE51: 0.25 | AF51: 1.06
A52: 33049 | B52: MB20 | C52: 300 | E52: =IF(C52>0,C52*EXP(-0.693*($C$3-$A52)/$E$3),"") -> 1228.6207 | H52: 27881 | I52: D21 | J52: 0.6 | K52: =J52*37500 -> 22500 | L52: =IF(K52>0,K52*EXP(-0.693*($C$3-$H52)/$E$3),"") -> 41466.86 | P52: Dec | T52: 0.25 | V52: 0.25 | W52: 3.86 | X52: 0.25 | Y52: 3.7 | Z52: 15.35 | AA52: 0.25 | AB52: 0.25 | AC52: 0.25 | AD52: 0.25 | AE52: 0.25 | AF52: 1.32
A53: 33225 | B53: BHF | C53: 3100 | E53: =IF(C53>0,C53*EXP(-0.693*($C$3-$A53)/$E$3),"") -> 13045.72 | H53: 27881 | I53: D23 | J53: 0.4 | K53: =J53*37500 -> 15000 | L53: =IF(K53>0,K53*EXP(-0.693*($C$3-$H53)/$E$3),"") -> 27644.573 | O53: 1988 | P53: June | Q53: 0.25 | R53: 0.25 | S53: 0.25 | T53: 0.25 | V53: 0.25 | W53: 3.09 | X53: 0.25 | Y53: 4.22 | Z53: 5.64 | AA53: 0.25 | AB53: 0.25 | AC53: 0.25 | AD53: 0.25 | AE53: 0.25 | AF53: 1.34 | AH53: 0.25 | AI53: 0.25 | AJ53: 8.82 | AK53: 0.25 | AL53: 0.25 | AM53: 24.12 | AN53: 3.19 | AO53: 0.25 | AP53: 0.25 | AQ53: 0.25 | AR53: 0.25
A54: 33225 | B54: BH10 | C54: 6000 | E54: =IF(C54>0,C54*EXP(-0.693*($C$3-$A54)/$E$3),"") -> 25249.78 | H54: 27912 | I54: D7 | J54: 0.3 | K54: =J54*37500 -> 11250 | L54: =IF(K54>0,K54*EXP(-0.693*($C$3-$H54)/$E$3),"") -> 20832.975 | P54: Dec | AH54: 0.25 | AI54: 0.58 | AJ54: 4.97 | AK54: 0.25 | AL54: 0.25 | AM54: 23.2 | AN54: 3.95 | AO54: 0.25 | AP54: 0.25 | AQ54: 0.25 | AR54: 0.25 | AS54: 0.25
A55: 33225 | B55: OS2 | C55: 2600 | E55: =IF(C55>0,C55*EXP(-0.693*($C$3-$A55)/$E$3),"") -> 10941.571 | H55: 27912 | I55: D8 | J55: 3.5 | K55: =J55*37500 -> 131250 | L55: =IF(K55>0,K55*EXP(-0.693*($C$3-$H55)/$E$3),"") -> 243051.37 | O55: 1989 | P55: June | AH55: 0.25 | AI55: 0.25 | AJ55: 4.4 | AK55: 0.25 | AL55: 0.25 | AM55: 15 | AN55: 2.2 | AO55: 0.25 | AP55: 0.25 | AQ55: 0.25 | AR55: 0.25
A56: 33225 | B56: OS3 | C56: 10100 | E56: =IF(C56>0,C56*EXP(-0.693*($C$3-$A56)/$E$3),"") -> 42503.796 | H56: 27912 | I56: D9 | J56: 1.9 | K56: =J56*37500 -> 71250 | L56: =IF(K56>0,K56*EXP(-0.693*($C$3-$H56)/$E$3),"") -> 131942.17 | P56: Dec | AH56: 0.25 | AI56: 1.2 | AJ56: 12 | AK56: 0.25 | AL56: 0.25 | AM56: 17 | AN56: 3 | AO56: 0.25 | AP56: 0.25 | AQ56: 1 | AR56: 0.25
A57: 33225 | B57: MB12 | C57: 1000 | E57: =IF(C57>0,C57*EXP(-0.693*($C$3-$A57)/$E$3),"") -> 4208.2967 | H57: 27912 | I57: D10 | J57: 2.6 | K57: =J57*37500 -> 97500 | L57: =IF(K57>0,K57*EXP(-0.693*($C$3-$H57)/$E$3),"") -> 180552.45 | O57: 1990 | P57: June | W57: 5.5 | Y57: 6.7 | Z57: 3 | AF57: 1.2 | AH57: 0.25 | AI57: 0.25 | AJ57: 8.5 | AK57: 0.25 | AL57: 0.25 | AM57: 16 | AN57: 3 | AO57: 0.25 | AP57: 0.25 | AQ57: 0.3 | AR57: 0.25
A58: 33225 | B58: MB13 | C58: 6800 | E58: =IF(C58>0,C58*EXP(-0.693*($C$3-$A58)/$E$3),"") -> 28616.417 | H58: 27912 | I58: D11 | J58: 0.8 | K58: =J58*37500 -> 30000 | L58: =IF(K58>0,K58*EXP(-0.693*($C$3-$H58)/$E$3),"") -> 55554.599 | P58: Dec | W58: 6 | Y58: 2.6 | Z58: 10.1 | AF58: 3.1 | AH58: 0.25 | AI58: 1 | AJ58: 6.8 | AK58: 0.25 | AL58: 0.25 | AM58: 17.6 | AN58: 3.3 | AO58: 0.25 | AP58: 0.25 | AQ58: 0.6 | AR58: 0.25
A59: 33225 | B59: MB16 | C59: 17600 | E59: =IF(C59>0,C59*EXP(-0.693*($C$3-$A59)/$E$3),"") -> 74066.021 | H59: 27912 | I59: D12 | J59: 0.3 | K59: =J59*37500 -> 11250 | L59: =IF(K59>0,K59*EXP(-0.693*($C$3-$H59)/$E$3),"") -> 20832.975 | O59: 1991 | P59: June | W59: 0.92 | Y59: 3.2 | Z59: 2.1 | AF59: 0.89 | AH59: 0.25 | AI59: 0.25 | AJ59: 3.6 | AK59: 0.25 | AL59: 1.6 | AM59: 15.4 | AN59: 0.25 | AO59: 0.25 | AP59: 0.25 | AQ59: 0.25 | AR59: 0.25
A60: 33225 | B60: MB17 | C60: 3300 | E60: =IF(C60>0,C60*EXP(-0.693*($C$3-$A60)/$E$3),"") -> 13887.379 | H60: 27912 | I60: D13 | J60: 0.01 | K60: =J60*37500 -> 375 | L60: =IF(K60>0,K60*EXP(-0.693*($C$3-$H60)/$E$3),"") -> 694.43249 | P60: Dec | W60: 7.53 | Y60: 3.87 | Z60: 7.1 | AF60: 1.46 | AH60: 0.25 | AI60: 2.24 | AJ60: 16.22 | AK60: 0.25 | AL60: 0.25 | AM60: 23.49 | AN60: 3.67 | AO60: 0.25 | AP60: 0.25 | AQ60: 0.25 | AR60: 0.25
A61: 33225 | B61: MB20 | C61: 600 | E61: =IF(C61>0,C61*EXP(-0.693*($C$3-$A61)/$E$3),"") -> 2524.978 | H61: 27912 | I61: D14 | J61: 0.07 | K61: =J61*37500 -> 2625 | L61: =IF(K61>0,K61*EXP(-0.693*($C$3-$H61)/$E$3),"") -> 4861.0274 | O61: 1992 | P61: June | W61: 1.2 | Y61: 2.3 | Z61: 3 | AF61: 1.1 | AH61: 0.06 | AI61: 0.1 | AJ61: 5.8 | AK61: 0.05 | AL61: 0.05 | AM61: 14.4 | AN61: 1.6 | AO61: 0.14 | AP61: 0.05 | AQ61: 0.08 | AR61: 0.08
A62: 33413 | B62: BHF | C62: 890 | E62: =IF(C62>0,C62*EXP(-0.693*($C$3-$A62)/$E$3),"") -> 3855.772 | H62: 27912 | I62: D15 | J62: 0.1 | K62: =J62*37500 -> 3750 | L62: =IF(K62>0,K62*EXP(-0.693*($C$3-$H62)/$E$3),"") -> 6944.3249 | P62: Dec | W62: 0.76 | Y62: 2.28 | Z62: 1.54 | AF62: 0.39 | AH62: 0.05 | AI62: 0.05 | AJ62: 2.94 | AK62: 0.05 | AL62: 0.05 | AM62: 15.53 | AN62: 1.72 | AO62: 0.05 | AP62: 0.05 | AQ62: 0.05 | AR62: 0.05
A63: 33413 | B63: BH10 | C63: 920 | E63: =IF(C63>0,C63*EXP(-0.693*($C$3-$A63)/$E$3),"") -> 3985.7418 | H63: 27912 | I63: D16 | J63: 0.02 | K63: =J63*37500 -> 750 | L63: =IF(K63>0,K63*EXP(-0.693*($C$3-$H63)/$E$3),"") -> 1388.865 | O63: Data in Bq/ml. Limit of detection 0.04 from 78-80 and 0.25 from 1980-1992. This is written in instead of leaving a blank
A64: 33413 | B64: OS2 | C64: 3200 | E64: =IF(C64>0,C64*EXP(-0.693*($C$3-$A64)/$E$3),"") -> 13863.45 | H64: 27912 | I64: D17 | J64: 1 | K64: =J64*37500 -> 37500 | L64: =IF(K64>0,K64*EXP(-0.693*($C$3-$H64)/$E$3),"") -> 69443.249
A65: 33413 | B65: OS3 | C65: 2100 | E65: =IF(C65>0,C65*EXP(-0.693*($C$3-$A65)/$E$3),"") -> 9097.8889 | H65: 27912 | I65: D18 | J65: 0.7 | K65: =J65*37500 -> 26250 | L65: =IF(K65>0,K65*EXP(-0.693*($C$3-$H65)/$E$3),"") -> 48610.274
A66: 33413 | B66: MB13 | C66: 3600 | E66: =IF(C66>0,C66*EXP(-0.693*($C$3-$A66)/$E$3),"") -> 15596.381 | H66: 27912 | I66: D19 | J66: 0.4 | K66: =J66*37500 -> 15000 | L66: =IF(K66>0,K66*EXP(-0.693*($C$3-$H66)/$E$3),"") -> 27777.3
A67: 33413 | B67: MB15 | C67: 1600 | E67: =IF(C67>0,C67*EXP(-0.693*($C$3-$A67)/$E$3),"") -> 6931.7249 | H67: 27912 | I67: D20 | J67: 1.2 | K67: =J67*37500 -> 45000 | L67: =IF(K67>0,K67*EXP(-0.693*($C$3-$H67)/$E$3),"") -> 83331.899
A68: 33413 | B68: MB16 | C68: 15000 | E68: =IF(C68>0,C68*EXP(-0.693*($C$3-$A68)/$E$3),"") -> 64984.921 | H68: 27912 | I68: D21 | J68: 0.6 | K68: =J68*37500 -> 22500 | L68: =IF(K68>0,K68*EXP(-0.693*($C$3-$H68)/$E$3),"") -> 41665.949
A69: 33581 | B69: BHF | C69: 1500 | E69: =IF(C69>0,C69*EXP(-0.693*($C$3-$A69)/$E$3),"") -> 6669.3815 | H69: 27912 | I69: D23 | J69: 0.3 | K69: =J69*37500 -> 11250 | L69: =IF(K69>0,K69*EXP(-0.693*($C$3-$H69)/$E$3),"") -> 20832.975
A70: 33581 | B70: BH10 | C70: 7500 | E70: =IF(C70>0,C70*EXP(-0.693*($C$3-$A70)/$E$3),"") -> 33346.907
A71: 33581 | B71: OS2 | C71: 3900 | E71: =IF(C71>0,C71*EXP(-0.693*($C$3-$A71)/$E$3),"") -> 17340.392 | H71: Notes from Isaacs and Mears (1977).
A72: 33581 | B72: OS3 | C72: 7100 | E72: =IF(C72>0,C72*EXP(-0.693*($C$3-$A72)/$E$3),"") -> 31568.406 | H72: Bores D1, D2 and D3 were drilled to 8.8m (sandsstone) with the top of the consolidated shale at ~6m)
A73: 33581 | B73: MB12 | C73: 2200 | E73: =IF(C73>0,C73*EXP(-0.693*($C$3-$A73)/$E$3),"") -> 9781.7595 | H73: Bores D4 - D23 were drilled to 3m deep.
A74: 33581 | B74: MB13 | C74: 16000 | E74: =IF(C74>0,C74*EXP(-0.693*($C$3-$A74)/$E$3),"") -> 71140.069 | H74: Adjacent to Bores D15 and D18, D15A and D18A were drilled to 6m. Higher tritium activity was found in the deeper bores.
A75: 33581 | B75: MB16 | C75: 23000 | E75: =IF(C75>0,C75*EXP(-0.693*($C$3-$A75)/$E$3),"") -> 102263.85 | H75: D9 had the highest Sr-90, Co-60, gross alpha and beta results. This is where MB16 is located today
A76: 33581 | B76: MB17 | C76: 3700 | E76: =IF(C76>0,C76*EXP(-0.693*($C$3-$A76)/$E$3),"") -> 16451.141 | H76: D10 had the highest tritium results.
A77: 33777 | B77: BHF | C77: 1100 | E77: =IF(C77>0,C77*EXP(-0.693*($C$3-$A77)/$E$3),"") -> 5041.2563
A78: 33777 | B78: BH10 | C78: 1200 | E78: =IF(C78>0,C78*EXP(-0.693*($C$3-$A78)/$E$3),"") -> 5499.5524
A79: 33777 | B79: OS2 | C79: 2300 | E79: =IF(C79>0,C79*EXP(-0.693*($C$3-$A79)/$E$3),"") -> 10540.809
A80: 33777 | B80: OS3 | C80: 3000 | E80: =IF(C80>0,C80*EXP(-0.693*($C$3-$A80)/$E$3),"") -> 13748.881
A81: 33777 | B81: MB11 | C81: 60 | E81: =IF(C81>0,C81*EXP(-0.693*($C$3-$A81)/$E$3),"") -> 274.97762
A82: 33777 | B82: MB12 | C82: 100 | E82: =IF(C82>0,C82*EXP(-0.693*($C$3-$A82)/$E$3),"") -> 458.29603
A83: 33777 | B83: MB13 | C83: 5800 | E83: =IF(C83>0,C83*EXP(-0.693*($C$3-$A83)/$E$3),"") -> 26581.17
A84: 33777 | B84: MB16 | C84: 14000 | E84: =IF(C84>0,C84*EXP(-0.693*($C$3-$A84)/$E$3),"") -> 64161.444
A85: 33777 | B85: MB17 | C85: 1600 | E85: =IF(C85>0,C85*EXP(-0.693*($C$3-$A85)/$E$3),"") -> 7332.7365
A86: 33777 | B86: MB18 | C86: 140 | E86: =IF(C86>0,C86*EXP(-0.693*($C$3-$A86)/$E$3),"") -> 641.61444
A87: 33777 | B87: MB20 | C87: 80 | E87: =IF(C87>0,C87*EXP(-0.693*($C$3-$A87)/$E$3),"") -> 366.63682
A88: 33777 | B88: MB21 | C88: 80 | E88: =IF(C88>0,C88*EXP(-0.693*($C$3-$A88)/$E$3),"") -> 366.63682
... A418: 39206 | B418: CW | C418: 661 | E418: =IF(C418>0,C418*EXP(-0.693*($C$3-$A418)/$E$3),"") -> 7008.7223
A419: 39310 | B419: BHF | C419: 152.18942 | D419: 39307 | E419: =IF(C419>0,C419*EXP(-0.693*($C$3-$A419)/$E$3),"") -> 1639.8357
A420: 39308 | B420: BH10 | C420: 158.95339 | D420: 39307 | E420: =IF(C420>0,C420*EXP(-0.693*($C$3-$A420)/$E$3),"") -> 1712.1882
A421: 39311 | B421: OS2 | C421: 341.58069 | D421: 39307 | E421: =IF(C421>0,C421*EXP(-0.693*($C$3-$A421)/$E$3),"") -> 3681.0889
A422: 39308 | B422: OS3 | C422: 290.85088 | D422: 39307 | E422: =IF(C422>0,C422*EXP(-0.693*($C$3-$A422)/$E$3),"") -> 3132.94
A423: 39309 | B423: MB11 | C423: 3.381987 | D423: 39304 | E423: =IF(C423>0,C423*EXP(-0.693*($C$3-$A423)/$E$3),"") -> 36.435164
A424: 39310 | B424: MB12 | C424: 3.381987 | D424: 39304 | E424: =IF(C424>0,C424*EXP(-0.693*($C$3-$A424)/$E$3),"") -> 36.440794
A425: 39308 | B425: MB13 | C425: 470.0962 | D425: 39307 | E425: =IF(C425>0,C425*EXP(-0.693*($C$3-$A425)/$E$3),"") -> 5063.7054
B426: MB14 | C426: 33.81987 | D426: 39304 | E426: =IF(C426>0,C426*EXP(-0.693*($C$3-$A426)/$E$3),"") -> 0.83916576
A427: 39309 | B427: MB15 | C427: 104.8416 | D427: 39307 | E427: =IF(C427>0,C427*EXP(-0.693*($C$3-$A427)/$E$3),"") -> 1129.4901
A428: 39311 | B428: MB16 | C428: 2309.8971 | D428: 39307 | E428: =IF(C428>0,C428*EXP(-0.693*($C$3-$A428)/$E$3),"") -> 24892.908
A429: 39308 | B429: MB17 | C429: 196.15525 | D429: 39307 | E429: =IF(C429>0,C429*EXP(-0.693*($C$3-$A429)/$E$3),"") -> 2112.913
A430: 39309 | B430: MB18 | C430: 84.549676 | D430: 39307 | E430: =IF(C430>0,C430*EXP(-0.693*($C$3-$A430)/$E$3),"") -> 910.87911
A431: 39310 | B431: MB19 | C431: 402.45646 | D431: 39307 | E431: =IF(C431>0,C431*EXP(-0.693*($C$3-$A431)/$E$3),"") -> 4336.4545
A432: 39310 | B432: MB20 | C432: 3.381987 | D432: 39307 | E432: =IF(C432>0,C432*EXP(-0.693*($C$3-$A432)/$E$3),"") -> 36.440794
A433: 39310 | B433: MB21 | C433: 13.527948 | D433: 39307 | E433: =IF(C433>0,C433*EXP(-0.693*($C$3-$A433)/$E$3),"") -> 145.76318
...

Sheet 3H BqL
A1: Date | C1: Well | D1: Dry | F1: 1978-1980 MDA=40 | H1: 1981-1991 MDA=250 | K1: 1992-? MDA=50 | N1: <MDA listed in column on right approx 10
B2: BH1 | C2: BH2 | D2: BH3 | E2: BH4 | F2: BH5 | G2: BH6 | H2: BHA | I2: BHB | J2: BHC | K2: BHD | L2: BHE | M2: BHF | N2: BH10 | O2: OS1 | P2: OS2 | Q2: OS3 | R2: MB11 | S2: MB12 | T2: MB13 | U2: MB14 | V2: MB15 | W2: MB16 | X2: MB17 | Y2: MB18 | Z2: MB19 | AA2: MB20 | AB2: MB21 | AC2: MB22 | AD2: P1s | AE2: P1d | AF2: P2d | AG2: CW | AH2: BH2/3 | AI2: OS2/W | AJ2: D7 | AK2: D8 | AL2: D9 | AM2: D10 | AN2: D11 | AO2: D12 | AP2: D13 | AQ2: D14 | AR2: D15 | AS2: D16 | AT2: D17 | AU2: D18 | AV2: D19 | AW2: D20 | AX2: D21 | AY2: D23 | AZ2: CH17 | BA2: CH18 | BB2: CH21 | BC2: CH30 | BD2: CH31 | BE2: Background | BG2: Average BH10, OS!, OS2) | BI2: Maximum
B3: Bq/L | C3: Bq/L | D3: Bq/L | E3: Bq/L | F3: Bq/L | G3: Bq/L | H3: Bq/L | I3: Bq/L | J3: Bq/L | K3: Bq/L | L3: Bq/L | M3: Bq/L | N3: Bq/L | O3: Bq/L | P3: Bq/L | Q3: Bq/L | R3: Bq/L | S3: Bq/L | T3: Bq/L | U3: Bq/L | V3: Bq/L | W3: Bq/L | X3: Bq/L | Y3: Bq/L | Z3: Bq/L | AA3: Bq/L | AB3: Bq/L | AC3: Bq/L | AD3: Bq/L | AE3: Bq/L | AF3: Bq/L | AG3: Bq/L | AH3: Bq/L | AI3: Bq/L | AJ3: Bq/L | AK3: Bq/L | AL3: Bq/L | AM3: Bq/L | AN3: Bq/L | AO3: Bq/L | AP3: Bq/L | AQ3: Bq/L | AR3: Bq/L | AS3: Bq/L | AT3: Bq/L | AU3: Bq/L | AV3: Bq/L | AW3: Bq/L | AX3: Bq/L | AY3: Bq/L | AZ3: Bq/L | BA3: Bq/L | BB3: Bq/L | BC3: Bq/L | BD3: Bq/L
A4: 27743 | AJ4: 30000 | AK4: 202500 | AL4: 142500 | AM4: 390000 | AN4: 52500 | AO4: 90000 | AP4: 7500 | AQ4: 86250 | AR4: 270000 | BI4: =MAX(B4:AY4) -> 390000
A5: 27805 | H5: 48.75 | I5: 75 | J5: 26.25 | K5: 26.25 | L5: 138.75 | AH5: 150 | AI5: 18750 | AJ5: 11250 | AK5: 150000 | AL5: 67500 | AM5: 213750 | AN5: 60000 | AO5: 30000 | AP5: 3750 | AQ5: 48750 | AR5: 26250 | AU5: 33750 | BI5: =MAX(B5:AY5) -> 213750
A6: 27865 | H6: 337.5 | J6: 1912.5 | BI6: =MAX(B6:AY6) -> 1912.5
A7: 27895 | AJ7: 3750 | AK7: 240000 | AL7: 225000 | AM7: 165000 | AN7: 127500 | AO7: 22500 | AP7: 0 | AQ7: 15000 | AR7: 90000 | AS7: 2250 | AT7: 33750 | AU7: 30000 | AV7: 15000 | AW7: 75000 | AX7: 22500 | AY7: 15000 | BI7: =MAX(B7:AY7) -> 240000
A8: 27926 | AJ8: 11250 | AK8: 131250 | AL8: 71250 | AM8: 97500 | AN8: 30000 | AO8: 11250 | AP8: 375 | AQ8: 2625 | AR8: 3750 | AS8: 750 | AT8: 37500 | AU8: 26250 | AV8: 15000 | AW8: 45000 | AX8: 22500 | AY8: 11250 | BI8: =MAX(B8:AY8) -> 131250
A9: 28676 | C9: 70 | G9: 100 | H9: 200 | L9: 100 | N9: 200 | P9: 10500 | Q9: 8900 | BG9: =AVERAGE(N9,P9,Q9) -> 6533.3333 | BI9: =MAX(B9:AY9) -> 10500
A10: 28837 | H10: 100 | N10: 280 | P10: 8600 | Q10: 18300 | BG10: =AVERAGE(N10,P10,Q10) -> 9060 | BI10: =MAX(B10:AY10) -> 18300
A11: 29021 | N11: 480 | BI11: =MAX(B11:AY11) -> 480
A12: 29204 | D12: 120 | J12: 80 | P12: 7200 | Q12: 33200 | BI12: =MAX(B12:AY12) -> 33200
A13: 29387 | P13: 3500 | Q13: 30200 | BI13: =MAX(B13:AY13) -> 30200
A14: 29570 | BI14: =MAX(B14:AY14) -> 0
A15: 29752 | N15: 800 | P15: 4000 | Q15: 10100 | BG15: =AVERAGE(N15,P15,Q15) -> 4966.6667 | BI15: =MAX(B15:AY15) -> 10100
A16: 30021 | BI16: =MAX(B16:AY16) -> 0
A17: 30141 | N17: 1100 | P17: 2650 | Q17: 30740 | BG17: =AVERAGE(N17,P17,Q17) -> 11496.667 | BI17: =MAX(B17:AY17) -> 30740
A18: 30308 | N18: 1210 | P18: 3120 | Q18: 34590 | BG18: =AVERAGE(N18,P18,Q18) -> 12973.333 | BI18: =MAX(B18:AY18) -> 34590
A19: 30482 | N19: 1200 | P19: 7400 | Q19: 14700 | BG19: =AVERAGE(N19,P19,Q19) -> 7766.6667 | BI19: =MAX(B19:AY19) -> 14700
A20: 30665 | N20: 1000 | P20: 5600 | Q20: 11500 | BG20: =AVERAGE(N20,P20,Q20) -> 6033.3333 | BI20: =MAX(B20:AY20) -> 11500
A21: 30848 | N21: 1760 | P21: 6260 | Q21: 7190 | BG21: =AVERAGE(N21,P21,Q21) -> 5070 | BI21: =MAX(B21:AY21) -> 7190
A22: 31031 | K22: 1180 | M22: 1530 | N22: 2190 | P22: 4400 | Q22: 11770 | BG22: =AVERAGE(N22,P22,Q22) -> 6120 | BI22: =MAX(B22:AY22) -> 11770
A23: 31215 | M23: 1380 | N23: 2360 | P23: 4600 | Q23: 11110 | BG23: =AVERAGE(N23,P23,Q23) -> 6023.3333 | BI23: =MAX(B23:AY23) -> 11110
A24: 31440 | M24: 1420 | N24: 1420 | P24: 3630 | Q24: 5090 | BE24: 5 | BG24: =AVERAGE(N24,P24,Q24) -> 3380 | BI24: =MAX(B24:AY24) -> 5090
A25: 31567 | M25: 1560 | N25: 3070 | P25: 3680 | Q25: 19720 | BE25: 5 | BG25: =AVERAGE(N25,P25,Q25) -> 8823.3333 | BI25: =MAX(B25:AY25) -> 19720
A26: 31751 | M26: 1020 | N26: 3010 | P26: 2690 | Q26: 15800 | BE26: 5 | BG26: =AVERAGE(N26,P26,Q26) -> 7166.6667 | BI26: =MAX(B26:AY26) -> 15800
A27: 31933 | M27: 1060 | N27: 3860 | Q27: 18700 | BE27: 5 | BI27: =MAX(B27:AY27) -> 18700
A28: 32126 | M28: 1320 | N28: 3860 | P28: 3700 | Q28: 15350 | BE28: 5 | BG28: =AVERAGE(N28,P28,Q28) -> 7636.6667 | BI28: =MAX(B28:AY28) -> 15350
A29: 32323 | M29: 1340 | N29: 3090 | P29: 4220 | Q29: 5640 | T29: 8820 | W29: 24120 | X29: 3190 | BE29: 5 | BG29: =AVERAGE(N29,P29,Q29) -> 4316.6667 | BI29: =MAX(B29:AY29) -> 24120
A30: 32484 | S30: 580 | T30: 4970 | W30: 23200 | X30: 3950 | BE30: 5 | BI30: =MAX(B30:AY30) -> 23200
A31: 32687 | T31: 4400 | W31: 15000 | X31: 2200 | BE31: 5 | BI31: =MAX(B31:AY31) -> 15000
A32: 32849 | S32: 1200 | T32: 12000 | W32: 17000 | X32: 3000 | AA32: 1000 | BE32: 5 | BI32: =MAX(B32:AY32) -> 17000
A33: 33049 | M33: 1200 | N33: 5500 | P33: 6700 | Q33: 3000 | T33: 8500 | W33: 16000 | X33: 3000 | AA33: 300 | BE33: 5 | BG33: =AVERAGE(N33,P33,Q33) -> 5066.6667 | BI33: =MAX(B33:AY33) -> 16000
A34: 33225 | M34: 3100 | N34: 6000 | P34: 2600 | Q34: 10100 | S34: 1000 | T34: 6800 | W34: 17600 | X34: 3300 | AA34: 600 | BE34: 5 | BG34: =AVERAGE(N34,P34,Q34) -> 6233.3333 | BI34: =MAX(B34:AY34) -> 17600
A35: 33413 | M35: 890 | N35: 920 | P35: 3200 | Q35: 2100 | T35: 3600 | V35: 1600 | W35: 15000 | BE35: 5 | BG35: =AVERAGE(N35,P35,Q35) -> 2073.3333 | BI35: =MAX(B35:AY35) -> 15000
A36: 33581 | M36: 1500 | N36: 7500 | P36: 3900 | Q36: 7100 | S36: 2240 | T36: 16000 | W36: 23000 | X36: 3700 | BE36: 5 | BG36: =AVERAGE(N36,P36,Q36) -> 6166.6667 | BI36: =MAX(B36:AY36) -> 23000
A37: 33777 | M37: 1100 | N37: 1200 | P37: 2300 | Q37: 3000 | R37: 60 | S37: 100 | T37: 5800 | W37: 14000 | X37: 1600 | Y37: 140 | AA37: 80 | AB37: 80 | BE37: 5 | BG37: =AVERAGE(N37,P37,Q37) -> 2166.6667 | BI37: =MAX(B37:AY37) -> 14000
A38: 33939 | M38: 390 | N38: 760 | P38: 2300 | Q38: 1500 | T38: 2900 | W38: 15000 | X38: 1700 | BE38: 5 | BG38: =AVERAGE(N38,P38,Q38) -> 1520 | BI38: =MAX(B38:AY38) -> 15000
A39: 34145 | M39: 660 | N39: 3900 | P39: 2790 | Q39: 3840 | T39: 4110 | W39: 12400 | X39: 1820 | BE39: 5 | BG39: =AVERAGE(N39,P39,Q39) -> 3510 | BI39: =MAX(B39:AY39) -> 12400
A40: 34323 | M40: 720 | N40: 5020 | P40: 2770 | Q40: 4570 | S40: 70 | T40: 5750 | W40: 12400 | X40: 1950 | Y40: 60 | BE40: 5 | BG40: =AVERAGE(N40,P40,Q40) -> 4120 | BI40: =MAX(B40:AY40) -> 12400
A41: 34500 | M41: 560 | N41: 1620 | P41: 1820 | Q41: 1690 | T41: 4030 | W41: 13200 | X41: 1550 | Z41: 620 | BE41: 5 | BG41: =AVERAGE(N41,P41,Q41) -> 1710 | BI41: =MAX(B41:AY41) -> 13200
A42: 34687 | M42: 1090 | N42: 5700 | P42: 5660 | Q42: 3720 | S42: 1430 | T42: 7420 | W42: 15600 | X42: 2240 | BE42: 5 | BG42: =AVERAGE(N42,P42,Q42) -> 5026.6667 | BI42: =MAX(B42:AY42) -> 15600
A43: 34886 | M43: 240 | N43: 450 | P43: 2100 | Q43: 1250 | T43: 3300 | W43: 11600 | X43: 1050 | BE43: 5 | BG43: =AVERAGE(N43,P43,Q43) -> 1266.6667 | BI43: =MAX(B43:AY43) -> 11600
A44: 35041 | M44: 280 | N44: 500 | P44: 1830 | Q44: 1270 | T44: 3040 | W44: 3540 | X44: 990 | BE44: 5 | BG44: =AVERAGE(N44,P44,Q44) -> 1200 | BI44: =MAX(B44:AY44) -> 3540
A45: 35202 | K45: 90 | M45: 140 | N45: 530 | P45: 1800 | Q45: 1360 | S45: 80 | T45: 2520 | W45: 8720 | X45: 940 | Z45: 70 | AA45: 60 | BE45: 5 | BG45: =AVERAGE(N45,P45,Q45) -> 1230 | BI45: =MAX(B45:AY45) -> 8720
A46: 35405 | M46: 300 | N46: 550 | P46: 1790 | Q46: 1630 | T46: 4350 | W46: 8880 | X46: 1290 | BE46: 5 | BG46: =AVERAGE(N46,P46,Q46) -> 1323.3333 | BI46: =MAX(B46:AY46) -> 8880
A47: 35586 | M47: 380 | N47: 4240 | P47: 1110 | Q47: 3260 | S47: 30 | T47: 3460 | U47: 50 | W47: 9930 | X47: 1650 | Y47: 90 | Z47: 80 | AB47: 80 | BE47: 5 | BG47: =AVERAGE(N47,P47,Q47) -> 2870 | BI47: =MAX(B47:AY47) -> 9930
A48: 35738 | M48: 250 | N48: 870 | P48: 1300 | Q48: 3380 | T48: 2200 | W48: 10560 | X48: 1110 | Y48: 70 | Z48: 40 | AB48: 30 | BE48: 5 | BG48: =AVERAGE(N48,P48,Q48) -> 1850 | BI48: =MAX(B48:AY48) -> 10560
A49: 35940 | M49: 70 | N49: 150 | P49: 730 | Q49: 240 | T49: 910 | W49: 1940 | X49: 310 | Y49: 90 | BE49: 5 | BG49: =AVERAGE(N49,P49,Q49) -> 373.33333 | BI49: =MAX(B49:AY49) -> 1940
A50: 36066 | M50: 150 | N50: 4810 | P50: 1410 | Q50: 750 | T50: 1740 | W50: 7010 | X50: 1880 | BE50: 5 | BG50: =AVERAGE(N50,P50,Q50) -> 2323.3333 | BI50: =MAX(B50:AY50) -> 7010
A51: 36308 | M51: 180 | N51: 270 | P51: 810 | Q51: 790 | T51: 1590 | W51: 6460 | X51: 520 | Y51: 70 | BE51: 5 | BG51: =AVERAGE(N51,P51,Q51) -> 623.33333 | BI51: =MAX(B51:AY51) -> 6460
A52: 36475 | M52: 230 | N52: 700 | P52: 900 | Q52: 710 | T52: 1330 | W52: 1700 | X52: 500 | BE52: 5 | BG52: =AVERAGE(N52,P52,Q52) -> 770 | BI52: =MAX(B52:AY52) -> 1700
A53: 36669 | M53: 270 | N53: 400 | P53: 670 | Q53: 1230 | S53: 40 | T53: 1280 | U53: 40 | W53: 6050 | X53: 530 | Y53: 190 | Z53: 110 | AA53: 40 | BE53: 5 | BG53: =AVERAGE(N53,P53,Q53) -> 766.66667 | BI53: =MAX(B53:AY53) -> 6050
A54: 36840 | M54: 430 | N54: 760 | P54: 390 | Q54: 1900 | T54: 3700 | U54: 150 | W54: 8160 | X54: 880 | Y54: 80 | Z54: 80 | AB54: 110 | BE54: 5 | BG54: =AVERAGE(N54,P54,Q54) -> 1016.6667 | BI54: =MAX(B54:AY54) -> 8160
A55: 37050 | M55: 340 | N55: 150 | P55: 800 | Q55: 660 | T55: 1080 | W55: 2280 | X55: 600 | BE55: 5 | BG55: =AVERAGE(N55,P55,Q55) -> 536.66667 | BI55: =MAX(B55:AY55) -> 2280
A56: 37204 | M56: 290 | N56: 5690 | P56: 900 | Q56: 1520 | R56: 30 | T56: 1750 | U56: 30 | V56: 30 | W56: 3570 | X56: 570 | Y56: 60 | Z56: 100 | AB56: 40 | BE56: 5 | BG56: =AVERAGE(N56,P56,Q56) -> 2703.3333 | BI56: =MAX(B56:AY56) -> 5690
A57: 37385 | M57: 160 | N57: 6860 | P57: 660 | Q57: 920 | T57: 900 | W57: 3000 | X57: 610 | Y57: 140 | Z57: 120 | BE57: 5 | BG57: =AVERAGE(N57,P57,Q57) -> 2813.3333 | BI57: =MAX(B57:AY57) -> 6860
A58: 37552 | M58: 270 | N58: 4890 | P58: 620 | Q58: 1330 | T58: 2220 | U58: 40 | V58: 10 | W58: 4230 | X58: 720 | Y58: 140 | Z58: 160 | BE58: 5 | BG58: =AVERAGE(N58,P58,Q58) -> 2280 | BI58: =MAX(B58:AY58) -> 4890
A59: 37742 | M59: 360 | N59: 7180 | P59: 220 | Q59: 230 | T59: 640 | V59: 15 | W59: 5530 | X59: 760 | Y59: 220 | AE59: 30 | AF59: 60 | AG59: 820 | BG59: =AVERAGE(N59,P59,Q59) -> 2543.3333 | BI59: =MAX(B59:AY59) -> 7180
A60: 37946 | M60: 310 | N60: 7288 | P60: 591 | Q60: 1402 | R60: 11 | S60: 5 | T60: 2316 | U60: 23 | V60: 7 | W60: =AVERAGE('Raw data'!P26,'Raw data'!P16) -> 4251 | X60: 729 | Y60: 258 | Z60: 198 | AA60: 7 | AB60: 200 | AD60: =AVERAGE(10,15) -> 12.5 | AE60: =AVERAGE(177,176,) -> 117.66667 | AF60: =AVERAGE(95,88) -> 91.5 | AG60: =AVERAGE(1113,1026) -> 1069.5 | BE60: 5 | BG60: =AVERAGE(N60,P60,Q60) -> 3093.6667 | BI60: =MAX(B60:AY60) -> 7288
A61: 38092 | M61: 598 | N61: 7146 | Q61: 1117 | R61: 4 | S61: 4 | T61: 1495 | U61: 49 | V61: 56 | W61: =AVERAGE('Raw data'!R26,'Raw data'!R16) -> 5725 | X61: 922 | Y61: 918 | Z61: 158 | AA61: 8 | AB61: 98 | AD61: 3 | AE61: =AVERAGE('Raw data'!R27,'Raw data'!R23) -> 200.5 | AF61: 104 | AG61: 1135 | BE61: 5 | BI61: =MAX(B61:AY61) -> 7146
A62: 38268 | M62: 1609 | Q62: =AVERAGE('Raw data'!T26,'Raw data'!T10) -> 809 | R62: 2 | S62: 3 | T62: 780 | U62: 78 | V62: 38 | W62: 7844 | X62: 884 | Y62: 995 | Z62: 129 | AA62: 0 | AB62: 3 | AD62: 8 | AE62: =AVERAGE('Raw data'!T27,'Raw data'!T23) -> 142 | AF62: 116 | AG62: 934 | BE62: 5 | BI62: =MAX(B62:AY62) -> 7844
A63: 38457 | M63: 1563 | N63: 7359 | Q63: 988 | R63: 15 | S63: 15 | T63: 1209 | U63: 100 | V63: 106 | W63: =AVERAGE('Raw data'!V16,'Raw data'!V26) -> 5128.5 | X63: 782 | Y63: 897 | Z63: 213 | AA63: 15 | AB63: 79 | AD63: 15 | AE63: 160 | AF63: =AVERAGE('Raw data'!V24,'Raw data'!V27) -> 86 | AG63: 1013 | BE63: 5 | BI63: =MAX(B63:AY63) -> 7359
A64: 38650 | M64: 2237 | N64: 7152 | Q64: 1205 | R64: 4 | S64: 4 | T64: 1512 | U64: 162 | V64: 211 | W64: =AVERAGE('Raw data'!X16,'Raw data'!X26) -> 6108 | X64: 763 | Y64: 880 | Z64: 236 | AA64: 2 | AB64: 106 | AD64: 21 | AE64: =AVERAGE('Raw data'!X23,'Raw data'!X27) -> 168 | AF64: 59 | AG64: 802 | BE64: 5 | BI64: =MAX(B64:AY64) -> 7152
A65: 38806 | M65: 4336 | N65: 7173 | Q65: 815 | R65: 2 | S65: 6 | T65: 1042 | U65: 177 | V65: 217 | W65: =AVERAGE('Raw data'!Z16,'Raw data'!Z26) -> 4877.5 | X65: 664 | Y65: 797 | Z65: 237 | AA65: 2 | AB65: 48 | AD65: 16 | AE65: 153 | AF65: =AVERAGE('Raw data'!Z24,'Raw data'!Z27) -> 75 | AG65: 806 | BE65: 5 | BI65: =MAX(B65:AY65) -> 7173
A66: 39010 | M66: 5480 | N66: 342 | Q66: 450 | R66: 3 | S66: 11 | T66: 927 | U66: 242 | V66: 157 | W66: 3773 | X66: 409 | Y66: 567 | Z66: 277 | AA66: 14 | AB66: 22 | AD66: 15 | AE66: 125 | AF66: 100 | AG66: 733 | BE66: 5 | BI66: =MAX(B66:AY66) -> 5480
A67: 39209 | M67: 5834 | N67: 6923 | P67: 65 | Q67: 255 | R67: 3 | S67: 5 | T67: 248 | U67: 291 | V67: 306 | W67: =AVERAGE('Raw data'!AD16,'Raw data'!AD26) -> 4468.5 | X67: 200 | Y67: 795 | Z67: 326 | AA67: 15 | AB67: 21 | AD67: 10 | AE67: =AVERAGE('Raw data'!AD23,'Raw data'!AD27) -> 140 | AF67: 121 | AG67: 661 | BE67: 5 | BG67: =AVERAGE(N67,P67,Q67) -> 2414.3333 | BI67: =MAX(B67:AY67) -> 6923
A68: 39310 | M68: 152.18942 | N68: 158.95339 | P68: 341.58069 | Q68: 290.85088 | R68: 3.381987 | S68: 3.381987 | T68: 470.0962 | U68: 33.81987 | V68: 104.8416 | W68: 2309.8971 | X68: 196.15525 | Y68: 84.549676 | Z68: 402.45646 | AA68: 3.381987 | AB68: 13.527948 | AD68: 40.583844 | AE68: 125.13352 | AF68: 108.22358 | AG68: 710.21728 | BE68: 5 | BG68: =AVERAGE(N68,P68,Q68) -> 263.79499 | BI68: =MAX(B68:AY68) -> 2309.8971
A69: 39380 | M69: 409 | N69: 455 | Q69: 289 | T69: 640 | U69: 18 | V69: 16 | W69: 2613 | X69: 241 | Y69: 336 | Z69: 380 | AA69: 11 | AB69: 130 | AD69: 30 | AE69: 107 | AF69: 70 | AG69: 632 | BE69: 5 | BI69: =MAX(B69:AY69) -> 2613
A70: 39535 | M70: 735 | N70: 288 | P70: 243 | Q70: 300 | R70: 3 | S70: 3 | T70: 582 | U70: 24 | V70: 18 | W70: =AVERAGE(1759,1785) -> 1772 | X70: 163 | Y70: =AVERAGE(2441, 1300) -> 1870.5 | Z70: 348 | AA70: 1 | AB70: 40 | AD70: 1 | AE70: =AVERAGE(91,92) -> 91.5 | AF70: 57 | AG70: 638 | BE70: 5 | BG70: =AVERAGE(N70,P70,Q70) -> 277 | BI70: =MAX(B70:AY70) -> 1870.5
A71: 39535 | H71: 51.7 | M71: 642.9 | N71: 476.7 | P71: 273.1 | Q71: 662.9 | S71: 1.352 | T71: 500.765 | U71: 21.813 | V71: 13.453 | W71: 1589.019 | X71: 271.801 | Y71: 1318.214 | Z71: 360.818 | AB71: 259.513 | AD71: 29 | AE71: 117.9 | AF71: 87.3 | AG71: 543.3 | BE71: 5 | BG71: =AVERAGE(N71,P71,Q71) -> 470.9 | BI71: =MAX(B71:AY71) -> 1589.019
A72: 39618 | H72: 36 | I72: =AVERAGE(37,1035) -> 536 | M72: =AVERAGE(56,57,86) -> 66.333333 | Z72: 319 | AI72: 526 | BE72: 5 | BI72: =MAX(B72:AY72) -> 536
A73: 39722 | H73: 49.744 | I73: 53.473 | M73: 554.72 | N73: 1928.75 | P73: 352.48 | Q73: 338.51 | R73: 9.01 | S73: 2.32 | T73: 491.773 | U73: 22.241 | V73: 27.169 | W73: 1377.755 | X73: 421.91 | Y73: 29.147 | Z73: 342.634 | AA73: 0.29 | AB73: 5.451 | AC73: 7.893 | AD73: 34.095 | AE73: 106.163 | AF73: 104.324 | AG73: 629.276 | AQ73: 480.347 | BG73: =AVERAGE(N73,P73,Q73) -> 873.24667 | BI73: =MAX(B73:AY73) -> 1928.75
A74: 40118 | M74: 1832.7 | N74: 275.5 | Q74: 476.2 | R74: 2.2 | S74: -5 | T74: 354.6 | U74: 137.3 | V74: 210.8 | W74: 3289.9 | X74: 489.3 | Y74: 2058.7 | Z74: 572 | AA74: 3.9 | AB74: 279.3 | AD74: 37.1 | AE74: 108.7 | AF74: 90.5 | AG74: 1256.1 | AQ74: 695.6 | AU74: 365.7 | AZ74: 13.8 | BA74: 2585.3 | BB74: 12164.6 | BC74: 12489 | BD74: 8287.1
A83: Stats | BF83: Totals
A84: No of data>MDA | B84: =COUNT(B4:B73) -> 0 | C84: =COUNT(C4:C73) -> 1 | D84: =COUNT(D4:D73) -> 1 | E84: =COUNT(E4:E73) -> 0 | F84: =COUNT(F4:F73) -> 0 | G84: =COUNT(G4:G73) -> 1 | H84: =COUNT(H4:H73) -> 7 | I84: =COUNT(I4:I73) -> 3 | ... AY84: =COUNT(AY4:AY73) -> 2 | BF84: =SUM(B84:AY84) -> 630
A85: No of data< MDA | B85: 9 | C85: 10 | D85: 9 | E85: 20 | F85: 2 | G85: 17 | H85: 16 | I85: 18 | J85: 16 | K85: 18 | L85: 17 | M85: 0 | N85: 1 | O85: 16 | P85: 0 | Q85: 0 | R85: 28 | S85: 21 | T85: 0 | U85: 26 | V85: 27 | W85: 0 | X85: 1 | Y85: 19 | Z85: 22 | AA85: 25 | AB85: 26 | AC85: 4 | AD85: 1 | BF85: =SUM(B85:AY85) -> 369
A86: No. dry | B86: 5 | C86: 4 | D86: 2 | E86: 0 | F86: 4 | G86: 0 | H86: 0 | I86: 0 | J86: 0 | K86: 0 | L86: 0 | M86: 0 | N86: 1 | O86: 0 | P86: 6 | Q86: 0 | R86: 0 | S86: 0 | T86: 0 | U86: 0 | V86: 0 | W86: 0 | X86: 0 | Y86: 0 | Z86: 0 | AA86: 0 | AB86: 0 | AC86: 0 | AD86: 0 | AE86: 0 | AF86: 0 | AG86: 0 | BF86: =SUM(B86:AY86) -> 22
A87: Total sample times | B87: =SUM(B84:B86) -> 14 | C87: =SUM(C84:C86) -> 15 | D87: =SUM(D84:D86) -> 12 | E87: =SUM(E84:E86) -> 20 | F87: =SUM(F84:F86) -> 6 | G87: =SUM(G84:G86) -> 18 | H87: =SUM(H84:H86) -> 23 | I87: =SUM(I84:I86) -> 21 | ... V87: =SUM(V84:V86) -> 44
A88: Max | C88: =MAX(C4:C73) -> 70 | D88: =MAX(D4:D73) -> 120 | F88: =MAX(F4:F73) -> 0 | G88: =MAX(G4:G73) -> 100 | H88: =MAX(H4:H73) -> 337.5 | I88: =MAX(I4:I73) -> 536 | J88: =MAX(J4:J73) -> 1912.5 | K88: =MAX(K4:K73) -> 1180 | L88: =MAX(L4:L73) -> 138.75 | M88: =MAX(M4:M73) -> 5834 | N88: =MAX(N4:N73) -> 7500 | P88: =MAX(P4:P73) -> 10500 | Q88: =MAX(Q4:Q73) -> 34590 | R88: =MAX(R4:R73) -> 60 | S88: =MAX(S4:S73) -> 2240 | T88: =MAX(T4:T73) -> 16000 | U88: =MAX(U4:U73) -> 291 | V88: =MAX(V4:V73) -> 1600 | W88: =MAX(W4:W73) -> 24120 | ... AY88: =MAX(AY4:AY73) -> 15000 | BE88: Average | BF88: =AVERAGE(B4:AY82) -> 7547.429
A89: Average | C89: =AVERAGE(C4:C73) -> 70 | D89: =AVERAGE(D4:D73) -> 120 | F89: =AVERAGE(F4:F73) -> #DIV/0! | G89: =AVERAGE(G4:G73) -> 100 | H89: =AVERAGE(H4:H73) -> 117.67057 | I89: =AVERAGE(I4:I73) -> 221.491 | J89: =AVERAGE(J4:J73) -> 672.91667 | K89: =AVERAGE(K4:K73) -> 432.08333 | L89: =AVERAGE(L4:L73) -> 119.375 | M89: =AVERAGE(M4:M73) -> 1034.8396 | N89: =AVERAGE(N4:N73) -> 2762.5072 | P89: =AVERAGE(P4:P73) -> 2793.9232 | Q89: =AVERAGE(Q4:Q73) -> 6458.1424 | R89: =AVERAGE(R4:R73) -> 11.491691 | S89: =AVERAGE(S4:S73) -> 310.59336 | T89: =AVERAGE(T4:T73) -> 3257.3553 | U89: =AVERAGE(U4:U73) -> 86.215215 | V89: =AVERAGE(V4:V73) -> 172.49786 | W89: =AVERAGE(W4:W73) -> 8829.9357 | ... AY89: =AVERAGE(AY4:AY73) -> 13125 | BE89: Std dev | BF89: =STDEV(B4:AY82) -> 29696.938
BE90: 1st quartile | BF90: =PERCENTILE((B4:AY82),0.25) -> 129.25
BE91: Median | BF91: =MEDIAN(B4:AY82) -> 760
BE92: 3rd quartile | BF92: =PERCENTILE((B4:AY82),0.75) -> 3440
BE93: Max | BF93: =MAX(B4:AY82) -> 390000
BE94: IQ range | BF94: =PERCENTILE((B4:AY82),0.75)-PERCENTILE((B4:AY82),0.25) -> 3310.75

Sheet Final
A1: Compiled final dataset
A2: Reference: | B2: Hughes, C. E., Cendon, D. I., Harrison, J. J., Hankin, S. I., Johansen, M. P., Payne, T. E., Vine, M., Collins, R. N., Hoffmann, E. L., Loosz, T. (2010) Movement of a tritium plume in shallow groundwater at a legacy low-level radioactive waste disposal site in eastern Australia, Journal of Environmental Radioactivity, 1-10. http://dx.doi.org/10.1016/j.jenvrad.2010.05.009
B3: BH1 | C3: BH2 | D3: BH3 | E3: BH4 | F3: BH5 | G3: BH6 | H3: BHA | I3: BHB | J3: BHC | K3: BHD | L3: BHE | M3: BHF | N3: BH10 | O3: OS1 | P3: OS2 | Q3: OS3 | R3: MB11 | S3: MB12 | T3: MB13 | U3: MB14 | V3: MB15 | W3: MB16 | X3: MB17 | Y3: MB18 | Z3: MB19 | AA3: MB20 | AB3: MB21 | AC3: MB22 | AD3: P1s | AE3: P1d | AF3: P2d | AG3: CW | AH3: BH2/3 | AI3: OS2/W | AJ3: D7 | AK3: D8 | AL3: D9 | AM3: D10 | AN3: D11 | AO3: D12 | AP3: D13 | AQ3: D14 | AR3: D15 | AS3: D16 | AT3: D17 | AU3: D18 | AV3: D19 | AW3: D20 | AX3: D21 | AY3: D23 | AZ3: Background
A4: Date | B4: Bq/L | C4: Bq/L | D4: Bq/L | E4: Bq/L | F4: Bq/L | G4: Bq/L | H4: Bq/L | I4: Bq/L | J4: Bq/L | K4: Bq/L | L4: Bq/L | M4: Bq/L | N4: Bq/L | O4: Bq/L | P4: Bq/L | Q4: Bq/L | R4: Bq/L | S4: Bq/L | T4: Bq/L | U4: Bq/L | V4: Bq/L | W4: Bq/L | X4: Bq/L | Y4: Bq/L | Z4: Bq/L | AA4: Bq/L | AB4: Bq/L | AC4: Bq/L | AD4: Bq/L | AE4: Bq/L | AF4: Bq/L | AG4: Bq/L | AH4: Bq/L | AI4: Bq/L | AJ4: Bq/L | AK4: Bq/L | AL4: Bq/L | AM4: Bq/L | AN4: Bq/L | AO4: Bq/L | AP4: Bq/L | AQ4: Bq/L | AR4: Bq/L | AS4: Bq/L | AT4: Bq/L | AU4: Bq/L | AV4: Bq/L | AW4: Bq/L | AX4: Bq/L | AY4: Bq/L
A5: Dec 75 | AJ5: 30000 | AK5: 202500 | AL5: 142500 | AM5: 390000 | AN5: 52500 | AO5: 90000 | AP5: 7500 | AQ5: 86250 | AR5: 270000
A6: Feb 76 | H6: 49 | I6: 75 | J6: 26 | K6: 26 | L6: 139 | AH6: 150 | AI6: 18750 | AJ6: 11250 | AK6: 150000 | AL6: 67500 | AM6: 213750 | AN6: 60000 | AO6: 30000 | AP6: 3750 | AQ6: 48750 | AR6: 26250 | AU6: 33750
A7: Apr 76 | H7: 338 | J7: 1913
A8: May 76 | AJ8: 3750 | AK8: 240000 | AL8: 225000 | AM8: 165000 | AN8: 127500 | AO8: 22500 | AQ8: 15000 | AR8: 90000 | AS8: 2250 | AT8: 33750 | AU8: 30000 | AV8: 15000 | AW8: 75000 | AX8: 22500 | AY8: 15000
A9: Jun 76 | AJ9: 11250 | AK9: 131250 | AL9: 71250 | AM9: 97500 | AN9: 30000 | AO9: 11250 | AP9: 375 | AQ9: 2625 | AR9: 3750 | AS9: 750 | AT9: 37500 | AU9: 26250 | AV9: 15000 | AW9: 45000 | AX9: 22500 | AY9: 11250
A10: 28676 | B10: <40 | C10: 70 | D10: <40 | E10: <40 | F10: <40 | G10: 100 | H10: 200 | J10: <40 | K10: <40 | L10: 100 | N10: 200 | O10: <40 | P10: 10500 | Q10: 8900
A11: 28837 | B11: <40 | C11: <40 | D11: <40 | E11: <40 | F11: <40 | G11: <40 | H11: 100 | I11: <40 | J11: <40 | K11: <40 | L11: <40 | N11: 280 | O11: <40 | P11: 8600 | Q11: 18300
A12: Jun 79 | B12: <40 | C12: <40 | D12: <40 | E12: <40 | F12: <40 | G12: <40 | I12: <40 | J12: <40 | L12: <40 | N12: 480
A13: Dec 79 | B13: Dry | C13: Dry | D13: 120 | E13: <40 | F13: Dry | G13: <40 | H13: <40 | I13: <40 | J13: 80 | K13: <40 | L13: <40 | O13: <40 | P13: 7200 | Q13: 33200
A14: Jun 80 | B14: Dry | C14: Dry | D14: <40 | E14: <40 | F14: Dry | G14: <40 | H14: <40 | I14: <40 | J14: <40 | K14: <40 | L14: <40 | N14: <40 | O14: <40 | P14: 3500 | Q14: 30200
A15: Dec 80 | B15: Dry | C15: Dry | F15: Dry
A16: Jun 81 | B16: <250 | C16: <250 | D16: <250 | E16: <250 | F16: Dry | G16: <250 | H16: <250 | I16: <250 | J16: <250 | K16: <250 | L16: <250 | N16: 800 | O16: <250 | P16: 4000 | Q16: 10100
A17: 30021 | E17: <250
A18: 30141 | E18: <250 | G18: <250 | H18: <250 | I18: <250 | J18: <250 | K18: <250 | L18: <250 | N18: 1100 | O18: <250 | P18: 2650 | Q18: 30740
A19: 30308 | E19: <250 | G19: <250 | H19: <250 | I19: <250 | J19: <250 | K19: <250 | L19: <250 | N19: 1210 | O19: <250 | P19: 3120 | Q19: 34590
A20: Jun 83 | B20: <250 | C20: <250 | D20: <250 | E20: <250 | G20: <250 | H20: <250 | I20: <250 | J20: <250 | K20: <250 | L20: <250 | N20: 1200 | O20: <250 | P20: 7400 | Q20: 14700
A21: Dec'83 | B21: Dry | C21: Dry | D21: Dry | E21: <250 | G21: <250 | H21: <250 | I21: <250 | J21: <250 | K21: <250 | L21: <250 | N21: 1000 | O21: <250 | P21: 5600 | Q21: 11500
A22: Jun84 | B22: <250 | C22: <250 | D22: <250 | E22: <250 | G22: <250 | H22: <250 | I22: <250 | J22: <250 | K22: <250 | L22: <250 | N22: 1760 | O22: <250 | P22: 6260 | Q22: 7190
A23: Dec 84 | B23: Dry | C23: <250 | D23: Dry | E23: <250 | G23: <250 | H23: <250 | I23: <250 | J23: <250 | K23: 1180 | L23: <250 | M23: 1530 | N23: 2190 | O23: <250 | P23: 4400 | Q23: 11770
A24: 31215 | B24: <250 | C24: <250 | E24: <250 | G24: <250 | H24: <250 | I24: <250 | J24: <250 | K24: <250 | L24: <250 | M24: 1380 | N24: 2360 | O24: <250 | P24: 4600 | Q24: 11110
A25: 31440 | B25: <250 | C25: <250 | D25: <250 | E25: <250 | G25: <250 | H25: <250 | I25: <250 | J25: <250 | K25: <250 | L25: <250 | M25: 1420 | N25: 1420 | O25: <250 | P25: 3630 | Q25: 5090 | AZ25: 5
A26: 31567 | E26: <250 | G26: <250 | H26: <250 | I26: <250 | J26: <250 | K26: <250 | L26: <250 | M26: 1560 | N26: 3070 | O26: <250 | P26: 3680 | Q26: 19720 | AZ26: 5
A27: 31751 | C27: <250 | E27: <250 | G27: <250 | H27: <250 | I27: <250 | K27: <250 | L27: <250 | M27: 1020 | N27: 3010 | O27: <250 | P27: 2690 | Q27: 15800 | AZ27: 5
A28: 31933 | E28: <250 | H28: <250 | I28: <250 | J28: <250 | K28: <250 | L28: <250 | M28: 1060 | N28: 3860 | Q28: 18700 | AZ28: 5
A29: 32126 | E29: <250 | G29: <250 | H29: <250 | I29: <250 | J29: <250 | K29: <250 | L29: <250 | M29: 1320 | N29: 3860 | O29: <250 | P29: 3700 | Q29: 15350 | AZ29: 5
A30: 32323 | B30: <250 | C30: <250 | D30: <250 | E30: <250 | G30: <250 | H30: <250 | I30: <250 | K30: <250 | M30: 1340 | N30: 3090 | P30: 4220 | Q30: 5640 | R30: <250 | S30: <250 | T30: 8820 | U30: <250 | V30: <250 | W30: 24120 | X30: 3190 | Y30: <250 | Z30: <250 | AA30: <250 | AB30: <250 | AZ30: 5
A31: 32484 | R31: <250 | S31: 580 | T31: 4970 | U31: <250 | V31: <250 | W31: 23200 | X31: 3950 | Y31: <250 | Z31: <250 | AA31: <250 | AB31: <250 | AC31: <250 | AZ31: 5
A32: 32687 | R32: <250 | S32: <250 | T32: 4400 | U32: <250 | V32: <250 | W32: 15000 | X32: 2200 | Y32: <250 | Z32: <250 | AA32: <250 | AB32: <250 | AC32: <250 | AZ32: 5
A33: 32849 | R33: <250 | S33: 1200 | T33: 12000 | U33: <250 | V33: <250 | W33: 17000 | X33: 3000 | Y33: <250 | Z33: <250 | AA33: 1000 | AB33: <250 | AC33: <250 | AZ33: 5
A34: 33049 | M34: 1200 | N34: 5500 | P34: 6700 | Q34: 3000 | R34: <250 | S34: <250 | T34: 8500 | U34: <250 | V34: <250 | W34: 16000 | X34: 3000 | Y34: <250 | Z34: <250 | AA34: 300 | AB34: <250 | AZ34: 5
A35: 33225 | M35: 3100 | N35: 6000 | P35: 2600 | Q35: 10100 | R35: <250 | S35: 1000 | T35: 6800 | U35: <250 | V35: <250 | W35: 17600 | X35: 3300 | Y35: <250 | Z35: <250 | AA35: 600 | AB35: <250 | AZ35: 5
A36: 33413 | M36: 890 | N36: 920 | P36: 3200 | Q36: 2100 | S36: <250 | T36: 3600 | U36: <250 | V36: 1600 | W36: 15000 | X36: <250 | Y36: <250 | Z36: <250 | AA36: <250 | AB36: <250 | AZ36: 5
A37: 33581 | M37: 1500 | N37: 7500 | P37: 3900 | Q37: 7100 | R37: <250 | S37: 2240 | T37: 16000 | U37: <250 | V37: <250 | W37: 23000 | X37: 3700 | Y37: <250 | Z37: <250 | AA37: <250 | AB37: <250 | AZ37: 5
A38: 33777 | M38: 1100 | N38: 1200 | P38: 2300 | Q38: 3000 | R38: 60 | S38: 100 | T38: 5800 | U38: <50 | V38: <50 | W38: 14000 | X38: 1600 | Y38: 140 | Z38: <50 | AA38: 80 | AB38: 80 | AZ38: 5
A39: 33939 | M39: 390 | N39: 760 | P39: 2300 | Q39: 1500 | R39: <50 | S39: <50 | T39: 2900 | U39: <50 | V39: <50 | W39: 15000 | X39: 1700 | Y39: <50 | Z39: <50 | AA39: <50 | AB39: <50 | AZ39: 5
A40: 34145 | M40: 660 | N40: 3900 | P40: 2790 | Q40: 3840 | R40: <45 | S40: <45 | T40: 4110 | U40: <45 | V40: <45 | W40: 12400 | X40: 1820 | Y40: <45 | Z40: <45 | AA40: <45 | AB40: <45 | AZ40: 5
A41: 34323 | M41: 720 | N41: 5020 | P41: 2770 | Q41: 4570 | R41: <45 | S41: 70 | T41: 5750 | U41: <45 | V41: <45 | W41: 12400 | X41: 1950 | Y41: 60 | Z41: <45 | AA41: <45 | AB41: <45 | AZ41: 5
A42: 34500 | M42: 560 | N42: 1620 | P42: 1820 | Q42: 1690 | R42: <50 | S42: <50 | T42: 4030 | U42: <50 | V42: <50 | W42: 13200 | X42: 1550 | Y42: <50 | Z42: 620 | AA42: <50 | AB42: <50 | AZ42: 5
A43: 34687 | M43: 1090 | N43: 5700 | P43: 5660 | Q43: 3720 | R43: <50 | S43: 1430 | T43: 7420 | U43: <50 | V43: <50 | W43: 15600 | X43: 2240 | Y43: <50 | Z43: <50 | AA43: <50 | AB43: <50 | AZ43: 5
A44: 34886 | M44: 240 | N44: 450 | P44: 2100 | Q44: 1250 | R44: <50 | S44: <50 | T44: 3300 | U44: <50 | V44: <50 | W44: 11600 | X44: 1050 | Y44: <50 | Z44: <50 | AA44: <50 | AB44: <50 | AZ44: 5
A45: 35041 | K45: <50 | M45: 280 | N45: 500 | P45: 1830 | Q45: 1270 | R45: <50 | S45: <50 | T45: 3040 | U45: <50 | V45: <50 | W45: 3540 | X45: 990 | Y45: <50 | Z45: <50 | AA45: <50 | AB45: <50 | AZ45: 5
A46: 35202 | K46: 90±40 | M46: 140±20 | N46: 530±30 | P46: 1800±20 | Q46: 1360±80 | R46: <60 | S46: 80±40 | T46: 2520±100 | U46: <60 | V46: <60 | W46: 8720±160 | X46: 940±30 | Y46: <60 | Z46: 70±30 | AA46: 60±30 | AB46: <60 | AZ46: 5
A47: 35405 | M47: 300±60 | N47: 550±30 | P47: 1790±100 | Q47: 1630±80 | R47: <60 | S47: <60 | T47: 4350±110 | U47: <60 | V47: <60 | W47: 8880±230 | X47: 1290±30 | Y47: <60 | Z47: <60 | AA47: <60 | AB47: <60 | AZ47: 5
A48: 35586 | M48: 380±10 | N48: 4240±40 | P48: 1110±40 | Q48: 3260±20 | R48: <30 | S48: 30±10 | T48: 3460±70 | U48: 50±10 | V48: <40 | W48: 9930±100 | X48: 1650±20 | Y48: 90±10 | Z48: 80±10 | AA48: <30 | AB48: 80±10 | AZ48: 5
A49: 35738 | M49: 250±20 | N49: 870±10 | P49: 1300±40 | Q49: 3380±20 | R49: <10 | S49: <20 | T49: 2200±40 | U49: <40 | V49: <20 | W49: 10560±50 | X49: 1110±30 | Y49: 70±10 | Z49: 40±10 | AA49: <20 | AB49: 30±10 | AZ49: 5
A50: 35940 | M50: 70±20 | N50: 150±20 | P50: 730±30 | Q50: 240±30 | R50: <10 | S50: <50 | T50: 910±20 | U50: <10 | V50: <20 | W50: 1940±30 | X50: 310±20 | Y50: 90±30 | Z50: <10 | AA50: <30 | AB50: <10 | AZ50: 5
A51: 36066 | M51: 150±20 | N51: 4810±50 | P51: 1410±40 | Q51: 750±20 | R51: <10 | S51: <30 | T51: 1740±60 | U51: <10 | V51: <10 | W51: 7010±70 | X51: 1880±40 | Y51: <20 | Z51: <10 | AA51: <20 | AB51: <20 | AZ51: 5
A52: 36308 | M52: 180±20 | N52: 270±10 | P52: 810±20 | Q52: 790±10 | R52: <10 | S52: <10 | T52: 1590±60 | U52: <20 | V52: <10 | W52: 6460±60 | X52: 520±20 | Y52: 70±10 | Z52: <40 | AA52: <10 | AB52: <10 | AZ52: 5
A53: 36475 | M53: 230±10 | N53: 700±10 | P53: 900±30 | Q53: 710±20 | R53: <20 | S53: <30 | T53: 1330±30 | U53: <10 | V53: <10 | W53: 1700±40 | X53: 500±20 | Y53: <20 | Z53: <10 | AA53: <10 | AB53: <10 | AZ53: 5
A54: 36669 | M54: 270±20 | N54: 400±10 | P54: 670±30 | Q54: 1230±30 | R54: <30 | S54: 40±10 | T54: 1280±20 | U54: 40±10 | V54: <10 | W54: 6050±50 | X54: 530±20 | Y54: 190±10 | Z54: 110±10 | AA54: 40±20 | AB54: <10 | AZ54: 5
A55: 36840 | M55: 430±50 | N55: 760±20 | P55: 390±20 | Q55: 1900±50 | R55: <20 | S55: <30 | T55: 3700±100 | U55: 150±10 | V55: <30 | W55: 8160±80 | X55: 880±20 | Y55: 80±10 | Z55: 80±10 | AA55: <20 | AB55: 110±10 | AZ55: 5
A56: 37050 | M56: 340±10 | N56: 150±20 | P56: 800±20 | Q56: 660±30 | R56: <10 | S56: <10 | T56: 1080±30 | U56: <10 | V56: <10 | W56: 2280±30 | X56: 600±20 | Y56: <10 | Z56: <30 | AA56: <10 | AB56: <10 | AZ56: 5
A57: 37204 | M57: 290±20 | N57: 5690±50 | P57: 900±30 | Q57: 1520±30 | R57: 30±10 | S57: <30 | T57: 1750±30 | U57: 30±10 | V57: 30±10 | W57: 3570±60 | X57: 570±10 | Y57: 60±10 | Z57: 100±20 | AA57: <20 | AB57: 40±10 | AZ57: 5
A58: 37385 | M58: 160±20 | N58: 6860±50 | P58: 660±10 | Q58: 920±20 | R58: <10 | S58: <10 | T58: 900±30 | U58: <10 | V58: <10 | W58: 3000±20 | X58: 610±10 | Y58: 140±10 | Z58: 120±10 | AA58: <10 | AB58: <10 | AZ58: 5
A59: 37552 | M59: 270±20 | N59: 4890±50 | P59: 620±20 | Q59: 1330±30 | R59: <10 | S59: <10 | T59: 2220±30 | U59: 40±10 | V59: 10±10 | W59: 4230±60 | X59: 720±10 | Y59: 140±10 | Z59: 160±20 | AA59: <10 | AB59: <10 | AZ59: 5
A60: 28 Apr to 6 Jun 03 | M60: 360±20 | N60: 7180±60 | P60: 220±10 | Q60: 230±10 | R60: <10 | S60: <10 | T60: 640±20 | U60: <10 | V60: 15±5 | W60: 5530±50 | X60: 760±20 | Y60: 220±10 | Z60: <10 | AA60: <10 | AB60: <10 | AD60: <10 | AE60: 30±10 | AF60: 60±10 | AG60: 820±20
A61: 21-24 Nov 03 | M61: 310±10 | N61: 7288±60 | P61: 591±20 | Q61: 1402±30 | R61: <10 | S61: <10 | T61: 2316±30 | U61: 23±10 | V61: <10 | W61: 4251±50 | X61: 729±20 | Y61: 258±10 | Z61: 198±10 | AA61: <10 | AB61: 200±10 | AD61: 13±10 | AE61: 118±10 | AF61: 92±10 | AG61: 1070±20 | AZ61: 5
A62: 15-16 Apr 04 | M62: 598±20 | N62: 7146±60 | P62: Dry | Q62: 1117±20 | R62: <10 | S62: <10 | T62: 1495±30 | U62: 49±10 | V62: 56±10 | W62: 5725±50 | X62: 922±20 | Y62: 918±20 | Z62: 158±10 | AA62: <10 | AB62: 98±10 | AD62: <10 | AE62: 201±10 | AF62: 104±10 | AG62: 1135±20 | AZ62: 5
A63: 38268 | M63: 1609±20 | N63: Dry | P63: Dry | Q63: 809±20 | R63: <11 | S63: <11 | T63: 780±20 | U63: 78±10 | V63: 38±10 | W63: 7844±50 | X63: 884±20 | Y63: 995±20 | Z63: 129±10 | AA63: <11 | AB63: <11 | AD63: <11 | AE63: 142±10 | AF63: 116±10 | AG63: 934±20 | AZ63: 5
A64: 14-18 Apr 05 | M64: 1563±30 | N64: 7359±70 | P64: Dry | Q64: 988±30 | R64: <14 | S64: <14 | T64: 1209±30 | U64: 100±10 | V64: 106±10 | W64: 5129±60 | X64: 782±20 | Y64: 897±30 | Z64: 213±10 | AA64: <14 | AB64: 79±10 | AD64: <14 | AE64: 160±10 | AF64: 86±10 | AG64: 1013±30 | AZ64: 5
A65: 25-26 Oct 06 | M65: 2237±30 | N65: 7152±50 | P65: Dry | Q65: 1205±20 | R65: <12 | S65: <12 | T65: 1512±20 | U65: 162±10 | V65: 211±10 | W65: 6108±50 | X65: 763±20 | Y65: 880±20 | Z65: 236±10 | AA65: <12 | AB65: 106±10 | AD65: 21±10 | AE65: 168±10 | AF65: 59±10 | AG65: 802±20 | AZ65: 5
A66: 30 Mar-3 Apr 06 | M66: 4336±40 | N66: 7173±50 | P66: Dry | Q66: 815±20 | R66: <12 | S66: <12 | T66: 1042±20 | U66: 177±10 | V66: 217±10 | W66: 4878±40 | X66: 664±20 | Y66: 797±20 | Z66: 237±10 | AA66: <12 | AB66: 48±10 | AD66: 16±10 | AE66: 153±10 | AF66: 75±10 | AG66: 806±20 | AZ66: 5
A67: 19-20 Oct 06 | M67: 5480±20 | N67: 342±70 | P67: Dry | Q67: 450±20 | R67: <12 | S67: <12 | T67: 927±30 | U67: 242±20 | V67: 157±10 | W67: 3773±60 | X67: 409±20 | Y67: 567±20 | Z67: 277±20 | AA67: 14±10 | AB67: 22±10 | AD67: 15±10 | AE67: 125±10 | AF67: 100±10 | AG67: 733±30 | AZ67: 5
A68: 4-7 May 07 | M68: 5834±60 | N68: 6923±60 | P68: 65±10 | Q68: 255±10 | R68: <12 | S68: <12 | T68: 248±10 | U68: 291±10 | V68: 306±10 | W68: 4469±50 | X68: 200±10 | Y68: 795±20 | Z68: 326±10 | AA68: 15±10 | AB68: 21±10 | AD68: <12 | AE68: 140±10 | AF68: 121±10 | AG68: 661±20 | AZ68: 5
A69: 14-29 Aug 08 | M69: 152±19 | N69: 159±19 | P69: 342±37 | Q69: 291±31 | R69: <9 | S69: <9 | T69: 470±19 | U69: 34±21 | V69: 105±29 | W69: 2310±76 | X69: 196±21 | Y69: 85±19 | Z69: 402±29 | AA69: <9 | AB69: 14±14 | AC69: <9 | AD69: 41±26 | AE69: 125±19 | AF69: 108±14 | AG69: 710±30 | AZ69: 5
A70: 39380 | M70: 409±15 | N70: 455±16 | P70: Dry | Q70: 289±13 | R70: <12 | S70: <12 | T70: 640±19 | U70: 18±6 | V70: 16±6 | W70: 2613±38 | X70: 241±12 | Y70: 336±14 | Z70: 380±15 | AA70: 11±5 | AB70: 130±10 | AC70: <12 | AD70: 30±6 | AE70: 107±9 | AF70: 70±8 | AG70: 632±19 | AZ70: 5
A71: 26-1 Apr 08 | M71: 735±20 | N71: 288±13 | P71: 243±12 | Q71: 300±13 | R71: <12 | S71: <12 | T71: 582±18 | U71: 24±6 | V71: 18±6 | W71: 1772±30 | X71: 163±10 | Y71: 1871±35 | Z71: 348±14 | AA71: <12 | AB71: 40±6 | AD71: <12 | AE71: 92±9 | AF71: 57±8 | AG71: 638±19 | AZ71: 5
A72: 26-31 Mar 08 | H72: 52±13 | M72: 643±19 | N72: 477±19 | P72: 273±16 | Q72: 663±19 | R72: <34 | S72: <34 | T72: 501±18 | U72: 22±12 | V72: 13±12 | W72: 1589±26 | X72: 272±16 | Y72: 1318±25 | Z72: 361±18 | AA72: <34 | AB72: 260±16 | AC72: <34 | AD72: 29±13 | AE72: 118±14 | AF72: 87±14 | AG72: 543±18 | AZ72: 5
A73: 19-20 Jun 08 | H73: 36±13 | I73: 536±26 | M73: 66±14 | Z73: 319±18 | AH73: <37 | AI73: 526±20 | AZ73: 5
A74: 25 Sep-8 Oct 08 | H74: 50±8 | I74: 53±8 | M74: 555±14 | N74: 1929±23 | P74: 352±12 | Q74: 339±12 | R74: 9±8 | S74: <18 | T74: 492±13 | U74: 22±8 | V74: 27±8 | W74: 1378±20 | X74: 422±13 | Y74: 29±8 | Z74: 343±12 | AA74: <18 | AB74: <18 | AC74: 8±8 | AD74: 34±8 | AE74: 106±9 | AF74: 104±9 | AG74: 629±14 | AQ74: 480±13
A76: COLOUR KEY:
A77: Dry
A78: 1978-1980 MDA=40
A79: 1981-1991 MDA=250
A80: <MDA listed in column on right approx 10
AZ89: Max
AZ90: Average
AZ91: Std dev
AZ92: Median
AZ93: IQ range

Sheet Tritium data
A1: Raw tritium data from environmental monitoring reports. Values are in Bq/l without correction for background or decay, and where known are reported even if they are <MDA.
A2: Reference: | B2: Hughes, C. E., Cendon, D. I., Harrison, J. J., Hankin, S. I., Johansen, M. P., Payne, T. E., Vine, M., Collins, R. N., Hoffmann, E. L., Loosz, T. (2010) Movement of a tritium plume in shallow groundwater at a legacy low-level radioactive waste disposal site in eastern Australia, Journal of Environmental Radioactivity, 1-10. http://dx.doi.org/10.1016/j.jenvrad.2010.05.009
A3: Date | B3: BH1 | C3: BH2 | D3: BH3 | E3: BH4 | F3: BH5 | G3: BH6 | H3: BHA | I3: BHB | J3: BHC | K3: BHD | L3: BHE | M3: BHF | N3: BH10 | O3: OS1 | P3: OS2 | Q3: OS3 | R3: MB11 | S3: MB12 | T3: MB13 | U3: MB14 | V3: MB15 | W3: MB16 | X3: MB17 | Y3: MB18 | Z3: MB19 | AA3: MB20 | AB3: MB21 | AC3: MB22 | AD3: P1s | AE3: P1d | AF3: P2d | AG3: CW | AH3: BH2/3 | AI3: OS2/W | AJ3: D7 | AK3: D8 | AL3: D9 | AM3: D10 | AN3: D11 | AO3: D12 | AP3: D13 | AQ3: D14 | AR3: D15 | AS3: D16 | AT3: D17 | AU3: D18 | AV3: D19 | AW3: D20 | AX3: D21 | AY3: D23 | AZ3: Background
B4: Bq/L | C4: Bq/L | D4: Bq/L | E4: Bq/L | F4: Bq/L | G4: Bq/L | H4: Bq/L | I4: Bq/L | J4: Bq/L | K4: Bq/L | L4: Bq/L | M4: Bq/L | N4: Bq/L | O4: Bq/L | P4: Bq/L | Q4: Bq/L | R4: Bq/L | S4: Bq/L | T4: Bq/L | U4: Bq/L | V4: Bq/L | W4: Bq/L | X4: Bq/L | Y4: Bq/L | Z4: Bq/L | AA4: Bq/L | AB4: Bq/L | AC4: Bq/L | AD4: Bq/L | AE4: Bq/L | AF4: Bq/L | AG4: Bq/L | AH4: Bq/L | AI4: Bq/L | AJ4: Bq/L | AK4: Bq/L | AL4: Bq/L | AM4: Bq/L | AN4: Bq/L | AO4: Bq/L | AP4: Bq/L | AQ4: Bq/L | AR4: Bq/L | AS4: Bq/L | AT4: Bq/L | AU4: Bq/L | AV4: Bq/L | AW4: Bq/L | AX4: Bq/L | AY4: Bq/L
A5: 27743 | AJ5: 30000 | AK5: 202500 | AL5: 142500 | AM5: 390000 | AN5: 52500 | AO5: 90000 | AP5: 7500 | AQ5: 86250 | AR5: 270000
A6: 27805 | H6: 48.75 | I6: 75 | J6: 26.25 | K6: 26.25 | L6: 138.75 | AH6: 150 | AI6: 18750 | AJ6: 11250 | AK6: 150000 | AL6: 67500 | AM6: 213750 | AN6: 60000 | AO6: 30000 | AP6: 3750 | AQ6: 48750 | AR6: 26250 | AU6: 33750
A7: 27865 | H7: 337.5 | J7: 1912.5
A8: 27895 | AJ8: 3750 | AK8: 240000 | AL8: 225000 | AM8: 165000 | AN8: 127500 | AO8: 22500 | AP8: 0 | AQ8: 15000 | AR8: 90000 | AS8: 2250 | AT8: 33750 | AU8: 30000 | AV8: 15000 | AW8: 75000 | AX8: 22500 | AY8: 15000
A9: 27926 | AJ9: 11250 | AK9: 131250 | AL9: 71250 | AM9: 97500 | AN9: 30000 | AO9: 11250 | AP9: 375 | AQ9: 2625 | AR9: 3750 | AS9: 750 | AT9: 37500 | AU9: 26250 | AV9: 15000 | AW9: 45000 | AX9: 22500 | AY9: 11250
A10: 28676 | C10: 70 | G10: 100 | H10: 200 | L10: 100 | N10: 200 | P10: 10500 | Q10: 8900
A11: 28837 | H11: 100 | N11: 280 | P11: 8600 | Q11: 18300
A12: 29021 | N12: 480
A13: 29204 | D13: 120 | J13: 80 | P13: 7200 | Q13: 33200
A14: 29387 | P14: 3500 | Q14: 30200
A15: 29570
A16: 29752 | N16: 800 | P16: 4000 | Q16: 10100
A17: 30021
A18: 30141 | N18: 1100 | P18: 2650 | Q18: 30740
A19: 30308 | N19: 1210 | P19: 3120 | Q19: 34590
A20: 30482 | N20: 1200 | P20: 7400 | Q20: 14700
A21: 30665 | N21: 1000 | P21: 5600 | Q21: 11500
A22: 30848 | N22: 1760 | P22: 6260 | Q22: 7190
A23: 31031 | K23: 1180 | M23: 1530 | N23: 2190 | P23: 4400 | Q23: 11770
A24: 31215 | M24: 1380 | N24: 2360 | P24: 4600 | Q24: 11110
A25: 31440 | M25: 1420 | N25: 1420 | P25: 3630 | Q25: 5090 | AZ25: 5
A26: 31567 | M26: 1560 | N26: 3070 | P26: 3680 | Q26: 19720 | AZ26: 5
A27: 31751 | M27: 1020 | N27: 3010 | P27: 2690 | Q27: 15800 | AZ27: 5
A28: 31933 | M28: 1060 | N28: 3860 | Q28: 18700 | AZ28: 5
A29: 32126 | M29: 1320 | N29: 3860 | P29: 3700 | Q29: 15350 | AZ29: 5
A30: 32323 | M30: 1340 | N30: 3090 | P30: 4220 | Q30: 5640 | T30: 8820 | W30: 24120 | X30: 3190 | AZ30: 5
A31: 32484 | S31: 580 | T31: 4970 | W31: 23200 | X31: 3950 | AZ31: 5
A32: 32687 | T32: 4400 | W32: 15000 | X32: 2200 | AZ32: 5
A33: 32849 | S33: 1200 | T33: 12000 | W33: 17000 | X33: 3000 | AA33: 1000 | AZ33: 5
A34: 33049 | M34: 1200 | N34: 5500 | P34: 6700 | Q34: 3000 | T34: 8500 | W34: 16000 | X34: 3000 | AA34: 300 | AZ34: 5
A35: 33225 | M35: 3100 | N35: 6000 | P35: 2600 | Q35: 10100 | S35: 1000 | T35: 6800 | W35: 17600 | X35: 3300 | AA35: 600 | AZ35: 5
A36: 33413 | M36: 890 | N36: 920 | P36: 3200 | Q36: 2100 | T36: 3600 | V36: 1600 | W36: 15000 | AZ36: 5
A37: 33581 | M37: 1500 | N37: 7500 | P37: 3900 | Q37: 7100 | S37: 2240 | T37: 16000 | W37: 23000 | X37: 3700 | AZ37: 5
A38: 33777 | M38: 1100 | N38: 1200 | P38: 2300 | Q38: 3000 | R38: 60 | S38: 100 | T38: 5800 | W38: 14000 | X38: 1600 | Y38: 140 | AA38: 80 | AB38: 80 | AZ38: 5
A39: 33939 | M39: 390 | N39: 760 | P39: 2300 | Q39: 1500 | T39: 2900 | W39: 15000 | X39: 1700 | AZ39: 5
A40: 34145 | M40: 660 | N40: 3900 | P40: 2790 | Q40: 3840 | T40: 4110 | W40: 12400 | X40: 1820 | AZ40: 5
A41: 34323 | M41: 720 | N41: 5020 | P41: 2770 | Q41: 4570 | S41: 70 | T41: 5750 | W41: 12400 | X41: 1950 | Y41: 60 | AZ41: 5
A42: 34500 | M42: 560 | N42: 1620 | P42: 1820 | Q42: 1690 | T42: 4030 | W42: 13200 | X42: 1550 | Z42: 620 | AZ42: 5
A43: 34687 | M43: 1090 | N43: 5700 | P43: 5660 | Q43: 3720 | S43: 1430 | T43: 7420 | W43: 15600 | X43: 2240 | AZ43: 5
A44: 34886 | M44: 240 | N44: 450 | P44: 2100 | Q44: 1250 | T44: 3300 | W44: 11600 | X44: 1050 | AZ44: 5
A45: 35041 | M45: 280 | N45: 500 | P45: 1830 | Q45: 1270 | T45: 3040 | W45: 3540 | X45: 990 | AZ45: 5
A46: 35202 | K46: 90 | M46: 140 | N46: 530 | P46: 1800 | Q46: 1360 | S46: 80 | T46: 2520 | W46: 8720 | X46: 940 | Z46: 70 | AA46: 60 | AZ46: 5
A47: 35405 | M47: 300 | N47: 550 | P47: 1790 | Q47: 1630 | T47: 4350 | W47: 8880 | X47: 1290 | AZ47: 5
A48: 35586 | M48: 380 | N48: 4240 | P48: 1110 | Q48: 3260 | S48: 30 | T48: 3460 | U48: 50 | W48: 9930 | X48: 1650 | Y48: 90 | Z48: 80 | AB48: 80 | AZ48: 5
A49: 35738 | M49: 250 | N49: 870 | P49: 1300 | Q49: 3380 | T49: 2200 | W49: 10560 | X49: 1110 | Y49: 70 | Z49: 40 | AB49: 30 | AZ49: 5
A50: 35940 | M50: 70 | N50: 150 | P50: 730 | Q50: 240 | T50: 910 | W50: 1940 | X50: 310 | Y50: 90 | AZ50: 5
A51: 36066 | M51: 150 | N51: 4810 | P51: 1410 | Q51: 750 | T51: 1740 | W51: 7010 | X51: 1880 | AZ51: 5
A52: 36308 | M52: 180 | N52: 270 | P52: 810 | Q52: 790 | T52: 1590 | W52: 6460 | X52: 520 | Y52: 70 | AZ52: 5
A53: 36475 | M53: 230 | N53: 700 | P53: 900 | Q53: 710 | T53: 1330 | W53: 1700 | X53: 500 | AZ53: 5
A54: 36669 | M54: 270 | N54: 400 | P54: 670 | Q54: 1230 | S54: 40 | T54: 1280 | U54: 40 | W54: 6050 | X54: 530 | Y54: 190 | Z54: 110 | AA54: 40 | AZ54: 5
A55: 36840 | M55: 430 | N55: 760 | P55: 390 | Q55: 1900 | T55: 3700 | U55: 150 | W55: 8160 | X55: 880 | Y55: 80 | Z55: 80 | AB55: 110 | AZ55: 5
A56: 37050 | M56: 340 | N56: 150 | P56: 800 | Q56: 660 | T56: 1080 | W56: 2280 | X56: 600 | AZ56: 5
A57: 37204 | M57: 290 | N57: 5690 | P57: 900 | Q57: 1520 | R57: 30 | T57: 1750 | U57: 30 | V57: 30 | W57: 3570 | X57: 570 | Y57: 60 | Z57: 100 | AB57: 40 | AZ57: 5
A58: 37385 | M58: 160 | N58: 6860 | P58: 660 | Q58: 920 | T58: 900 | W58: 3000 | X58: 610 | Y58: 140 | Z58: 120 | AZ58: 5
A59: 37552 | M59: 270 | N59: 4890 | P59: 620 | Q59: 1330 | T59: 2220 | U59: 40 | V59: 10 | W59: 4230 | X59: 720 | Y59: 140 | Z59: 160 | AZ59: 5
A60: 37742 | M60: 360 | N60: 7180 | P60: 220 | Q60: 230 | T60: 640 | V60: 15 | W60: 5530 | X60: 760 | Y60: 220 | AE60: 30 | AF60: 60 | AG60: 820
A61: 37946 | M61: 310 | N61: 7288 | P61: 591 | Q61: 1402 | R61: 11 | S61: 5 | T61: 2316 | U61: 23 | V61: 7 | W61: 4251 | X61: 729 | Y61: 258 | Z61: 198 | AA61: 7 | AB61: 200 | AD61: 12.5 | AE61: 117.66667 | AF61: 91.5 | AG61: 1069.5 | AZ61: 5
A62: 38092 | M62: 598 | N62: 7146 | Q62: 1117 | R62: 4 | S62: 4 | T62: 1495 | U62: 49 | V62: 56 | W62: 5725 | X62: 922 | Y62: 918 | Z62: 158 | AA62: 8 | AB62: 98 | AD62: 3 | AE62: 200.5 | AF62: 104 | AG62: 1135 | AZ62: 5
A63: 38268 | M63: 1609 | Q63: 809 | R63: 2 | S63: 3 | T63: 780 | U63: 78 | V63: 38 | W63: 7844 | X63: 884 | Y63: 995 | Z63: 129 | AA63: 0 | AB63: 3 | AD63: 8 | AE63: 142 | AF63: 116 | AG63: 934 | AZ63: 5
A64: 38457 | M64: 1563 | N64: 7359 | Q64: 988 | R64: 15 | S64: 15 | T64: 1209 | U64: 100 | V64: 106 | W64: 5128.5 | X64: 782 | Y64: 897 | Z64: 213 | AA64: 15 | AB64: 79 | AD64: 15 | AE64: 160 | AF64: 86 | AG64: 1013 | AZ64: 5
A65: 38650 | M65: 2237 | N65: 7152 | Q65: 1205 | R65: 4 | S65: 4 | T65: 1512 | U65: 162 | V65: 211 | W65: 6108 | X65: 763 | Y65: 880 | Z65: 236 | AA65: 2 | AB65: 106 | AD65: 21 | AE65: 168 | AF65: 59 | AG65: 802 | AZ65: 5
A66: 38806 | M66: 4336 | N66: 7173 | Q66: 815 | R66: 2 | S66: 6 | T66: 1042 | U66: 177 | V66: 217 | W66: 4877.5 | X66: 664 | Y66: 797 | Z66: 237 | AA66: 2 | AB66: 48 | AD66: 16 | AE66: 153 | AF66: 75 | AG66: 806 | AZ66: 5
A67: 39010 | M67: 5480 | N67: 342 | Q67: 450 | R67: 3 | S67: 11 | T67: 927 | U67: 242 | V67: 157 | W67: 3773 | X67: 409 | Y67: 567 | Z67: 277 | AA67: 14 | AB67: 22 | AD67: 15 | AE67: 125 | AF67: 100 | AG67: 733 | AZ67: 5
A68: 39209 | M68: 5834 | N68: 6923 | P68: 65 | Q68: 255 | R68: 3 | S68: 5 | T68: 248 | U68: 291 | V68: 306 | W68: 4468.5 | X68: 200 | Y68: 795 | Z68: 326 | AA68: 15 | AB68: 21 | AD68: 10 | AE68: 140 | AF68: 121 | AG68: 661 | AZ68: 5
A69: 39310 | M69: 152.18942 | N69: 158.95339 | P69: 341.58069 | Q69: 290.85088 | R69: 3.381987 | S69: 3.381987 | T69: 470.0962 | U69: 33.81987 | V69: 104.8416 | W69: 2309.8971 | X69: 196.15525 | Y69: 84.549676 | Z69: 402.45646 | AA69: 3.381987 | AB69: 13.527948 | AD69: 40.583844 | AE69: 125.13352 | AF69: 108.22358 | AG69: 710.21728 | AZ69: 5
A70: 39380 | M70: 409 | N70: 455 | Q70: 289 | T70: 640 | U70: 18 | V70: 16 | W70: 2613 | X70: 241 | Y70: 336 | Z70: 380 | AA70: 11 | AB70: 130 | AD70: 30 | AE70: 107 | AF70: 70 | AG70: 632 | AZ70: 5
A71: 39535 | M71: 735 | N71: 288 | P71: 243 | Q71: 300 | R71: 3 | S71: 3 | T71: 582 | U71: 24 | V71: 18 | W71: 1772 | X71: 163 | Y71: 1870.5 | Z71: 348 | AA71: 1 | AB71: 40 | AD71: 1 | AE71: 91.5 | AF71: 57 | AG71: 638 | AZ71: 5
A72: 39535 | H72: 51.7 | M72: 642.9 | N72: 476.7 | P72: 273.1 | Q72: 662.9 | S72: 1.352 | T72: 500.765 | U72: 21.813 | V72: 13.453 | W72: 1589.019 | X72: 271.801 | Y72: 1318.214 | Z72: 360.818 | AB72: 259.513 | AD72: 29 | AE72: 117.9 | AF72: 87.3 | AG72: 543.3 | AZ72: 5
A73: 39618 | H73: 36 | I73: 536 | M73: 66.333333 | Z73: 319 | AI73: 526 | AZ73: 5
A74: 39722 | H74: 49.744 | I74: 53.473 | M74: 554.72 | N74: 1928.75 | P74: 352.48 | Q74: 338.51 | R74: 9.01 | S74: 2.32 | T74: 491.773 | U74: 22.241 | V74: 27.169 | W74: 1377.755 | X74: 421.91 | Y74: 29.147 | Z74: 342.634 | AA74: 0.29 | AB74: 5.451 | AC74: 7.893 | AD74: 34.095 | AE74: 106.163 | AF74: 104.324 | AG74: 629.276 | AQ74: 480.347
A76: COLOUR KEY:
A77: Dry
A78: 1978-1980 MDA=40
A79: 1981-1991 MDA=250
A80: <MDA listed in column on right approx 10
A83: STATISTICS | BA83: Totals
A84: No of data>MDA | B84: 0 | C84: 1 | D84: 1 | E84: 0 | F84: 0 | G84: 1 | H84: 7 | I84: 3 | J84: 3 | K84: 3 | L84: 2 | M84: 49 | N84: 56 | O84: 0 | P84: 50 | Q84: 58 | R84: 13 | S84: 22 | T84: 44 | U84: 18 | V84: 17 | W84: 44 | X84: 43 | Y84: 25 | Z84: 23 | AA84: 18 | AB84: 18 | AC84: 1 | AD84: 13 | AE84: 14 | AF84: 14 | AG84: 14 | AH84: 1 | AI84: 2 | AJ84: 4 | AK84: 4 | AL84: 4 | AM84: 4 | AN84: 4 | AO84: 4 | AP84: 4 | AQ84: 5 | AR84: 4 | AS84: 2 | AT84: 2 | AU84: 3 | AV84: 2 | AW84: 2 | AX84: 2 | AY84: 2 | BA84: 630
A85: No of data< MDA | B85: 9 | C85: 10 | D85: 9 | E85: 20 | F85: 2 | G85: 17 | H85: 16 | I85: 18 | J85: 16 | K85: 18 | L85: 17 | M85: 0 | N85: 1 | O85: 16 | P85: 0 | Q85: 0 | R85: 28 | S85: 21 | T85: 0 | U85: 26 | V85: 27 | W85: 0 | X85: 1 | Y85: 19 | Z85: 22 | AA85: 25 | AB85: 26 | AC85: 4 | AD85: 1 | BA85: 369
A86: No. dry | B86: 5 | C86: 4 | D86: 2 | E86: 0 | F86: 4 | G86: 0 | H86: 0 | I86: 0 | J86: 0 | K86: 0 | L86: 0 | M86: 0 | N86: 1 | O86: 0 | P86: 6 | Q86: 0 | R86: 0 | S86: 0 | T86: 0 | U86: 0 | V86: 0 | W86: 0 | X86: 0 | Y86: 0 | Z86: 0 | AA86: 0 | AB86: 0 | AC86: 0 | AD86: 0 | AE86: 0 | AF86: 0 | AG86: 0 | BA86: 22
A87: Total sample times | B87: 14 | C87: 15 | D87: 12 | E87: 20 | F87: 6 | G87: 18 | H87: 23 | I87: 21 | J87: 19 | K87: 21 | L87: 19 | M87: 49 | N87: 58 | O87: 16 | P87: 56 | Q87: 58 | R87: 41 | S87: 43 | T87: 44 | U87: 44 | V87: 44
A88: Max | C88: 70 | D88: 120 | F88: 0 | G88: 100 | H88: 337.5 | I88: 536 | J88: 1912.5 | K88: 1180 | L88: 138.75 | M88: 5834 | N88: 7500 | P88: 10500 | Q88: 34590 | R88: 60 | S88: 2240 | T88: 16000 | U88: 291 | V88: 1600 | W88: 24120 | X88: 3950 | Y88: 1870.5 | Z88: 620 | AA88: 1000 | AB88: 259.513 | AC88: 7.893 | AD88: 40.583844 | AE88: 200.5 | AF88: 121 | AG88: 1135 | AH88: 150 | AI88: 18750 | AJ88: 30000 | AK88: 240000 | AL88: 225000 | AM88: 390000 | AN88: 127500 | AO88: 90000 | AP88: 7500 | AQ88: 86250 | AR88: 270000 | AS88: 2250 | AT88: 37500 | AU88: 33750 | AV88: 15000 | AW88: 75000 | AX88: 22500 | AY88: 15000 | AZ88: Average | BA88: 7767.1393
A89: Average | C89: 70 | D89: 120 | G89: 100 | H89: 117.67057 | I89: 221.491 | J89: 672.91667 | K89: 432.08333 | L89: 119.375 | M89: 1034.8396 | N89: 2762.5072 | P89: 2793.9232 | Q89: 6458.1424 | R89: 11.491691 | S89: 310.59336 | T89: 3257.3553 | U89: 86.215215 | V89: 172.49786 | W89: 8829.9357 | X89: 1273.4155 | Y89: 443.81643 | Z89: 230.73515 | AA89: 119.92622 | AB89: 75.860664 | AC89: 7.893 | AD89: 18.09068 | AE89: 127.4188 | AF89: 88.524827 | AG89: 794.73523 | AH89: 150 | AI89: 9638 | AJ89: 14062.5 | AK89: 180937.5 | AL89: 126562.5 | AM89: 216562.5 | AN89: 67500 | AO89: 38437.5 | AP89: 2906.25 | AQ89: 30621.069 | AR89: 97500 | AS89: 1500 | AT89: 35625 | AU89: 30000 | AV89: 15000 | AW89: 60000 | AX89: 22500 | AY89: 13125 | AZ89: Std dev | BA89: 30138.949
AZ90: 1st quartile | BA90: 132.1875
AZ91: Median | BA91: 792.5
AZ92: 3rd quartile | BA92: 3622.5
AZ93: Max | BA93: 390000
AZ94: IQ range | BA94: 3490.3125

Sheet Error
A1: Analytical error where reported
A2: Reference: | B2: Hughes, C. E., Cendon, D. I., Harrison, J. J., Hankin, S. I., Johansen, M. P., Payne, T. E., Vine, M., Collins, R. N., Hoffmann, E. L., Loosz, T. (2010) Movement of a tritium plume in shallow groundwater at a legacy low-level radioactive waste disposal site in eastern Australia, Journal of Environmental Radioactivity, 1-10. http://dx.doi.org/10.1016/j.jenvrad.2010.05.009
A3: Date | B3: BH1 | C3: BH2 | D3: BH3 | E3: BH4 | F3: BH5 | G3: BH6 | H3: BHA | I3: BHB | J3: BHC | K3: BHD | L3: BHE | M3: BHF | N3: BH10 | O3: OS1 | P3: OS2 | Q3: OS3 | R3: MB11 | S3: MB12 | T3: MB13 | U3: MB14 | V3: MB15 | W3: MB16 | X3: MB17 | Y3: MB18 | Z3: MB19 | AA3: MB20 | AB3: MB21 | AC3: MB22 | AD3: P1s | AE3: P1d | AF3: P2d | AG3: CW | AH3: BH2/3 | AI3: OS2/W | AJ3: D7 | AK3: D8 | AL3: D9 | AM3: D10 | AN3: D11 | AO3: D12 | AP3: D13 | AQ3: D14 | AR3: D15 | AS3: D16 | AT3: D17 | AU3: D18 | AV3: D19 | AW3: D20 | AX3: D21 | AY3: D23 | AZ3: Background | BA3: Error
B4: Bq/L | C4: Bq/L | D4: Bq/L | E4: Bq/L | F4: Bq/L | G4: Bq/L | H4: Bq/L | I4: Bq/L | J4: Bq/L | K4: Bq/L | L4: Bq/L | M4: Bq/L | N4: Bq/L | O4: Bq/L | P4: Bq/L | Q4: Bq/L | R4: Bq/L | S4: Bq/L | T4: Bq/L | U4: Bq/L | V4: Bq/L | W4: Bq/L | X4: Bq/L | Y4: Bq/L | Z4: Bq/L | AA4: Bq/L | AB4: Bq/L | AC4: Bq/L | AD4: Bq/L | AE4: Bq/L | AF4: Bq/L | AG4: Bq/L | AH4: Bq/L | AI4: Bq/L | AJ4: Bq/L | AK4: Bq/L | AL4: Bq/L | AM4: Bq/L | AN4: Bq/L | AO4: Bq/L | AP4: Bq/L | AQ4: Bq/L | AR4: Bq/L | AS4: Bq/L | AT4: Bq/L | AU4: Bq/L | AV4: Bq/L | AW4: Bq/L | AX4: Bq/L | AY4: Bq/L
A5: 27729
A6: 27805
A7: 27865
A8: 27895
A9: 27926
A10: 28676
A11: 28837
A12: 29021
A13: 29204
A14: 29387
A15: 29570
A16: 29752
... A24: 31215
A25: 31440 | AZ25: 5
A26: 31567 | AZ26: 5
A27: 31751 | AZ27: 5
A28: 31933 | AZ28: 5
A29: 32126 | AZ29: 5
A30: 32323 | AZ30: 5
A31: 32484 | AZ31: 5
A32: 32687 | AZ32: 5
A33: 32849 | AZ33: 5
A34: 33049 | AZ34: 5
A35: 33225 | AZ35: 5
A36: 33413 | AZ36: 5
... A45: 35041 | AZ45: 5
A46: 35202 | K46: 40 | M46: 20 | N46: 30 | P46: 20 | Q46: 80 | S46: 40 | T46: 100 | W46: 160 | X46: 30 | Z46: 30 | AA46: 30 | AZ46: 5
A47: 35405 | M47: 60 | N47: 30 | P47: 100 | Q47: 80 | T47: 110 | W47: 230 | X47: 30 | AZ47: 5
A48: 35586 | M48: 10 | N48: 40 | P48: 40 | Q48: 20 | S48: 10 | T48: 70 | U48: 10 | W48: 100 | X48: 20 | Y48: 10 | Z48: 10 | AB48: 10 | AZ48: 5
A49: 35738 | M49: 20 | N49: 10 | P49: 40 | Q49: 20 | T49: 40 | W49: 50 | X49: 30 | Y49: 10 | Z49: 10 | AB49: 10 | AZ49: 5
A50: 35940 | M50: 20 | N50: 20 | P50: 30 | Q50: 30 | T50: 20 | W50: 30 | X50: 20 | Y50: 30 | AZ50: 5
A51: 36066 | M51: 20 | N51: 50 | P51: 40 | Q51: 20 | T51: 60 | W51: 70 | X51: 40 | AZ51: 5
A52: 36308 | M52: 20 | N52: 10 | P52: 20 | Q52: 10 | T52: 60 | W52: 60 | X52: 20 | Y52: 10 | AZ52: 5
A53: 36475 | M53: 10 | N53: 10 | P53: 30 | Q53: 20 | T53: 30 | W53: 40 | X53: 20 | AZ53: 5
A54: 36669 | M54: 20 | N54: 10 | P54: 30 | Q54: 30 | S54: 10 | T54: 20 | U54: 10 | W54: 50 | X54: 20 | Y54: 10 | Z54: 10 | AA54: 20 | AZ54: 5
A55: 36840 | M55: 50 | N55: 20 | P55: 20 | Q55: 50 | T55: 100 | U55: 10 | W55: 80 | X55: 20 | Y55: 10 | Z55: 10 | AB55: 10 | AZ55: 5
A56: 37050 | M56: 10 | N56: 20 | P56: 20 | Q56: 30 | T56: 30 | W56: 30 | X56: 20 | AZ56: 5
A57: 37204 | M57: 20 | N57: 50 | P57: 30 | Q57: 30 | R57: 10 | T57: 30 | U57: 10 | V57: 10 | W57: 60 | X57: 10 | Y57: 10 | Z57: 20 | AB57: 10 | AZ57: 5
A58: 37385 | M58: 20 | N58: 50 | P58: 10 | Q58: 20 | T58: 30 | W58: 20 | X58: 10 | Y58: 10 | Z58: 10 | AZ58: 5
A59: 37552 | M59: 20 | N59: 50 | P59: 20 | Q59: 30 | T59: 30 | U59: 10 | V59: 10 | W59: 60 | X59: 10 | Y59: 10 | Z59: 20 | AZ59: 5
A60: 37742 | M60: 20 | N60: 60 | P60: 10 | Q60: 10 | T60: 20 | V60: 5 | W60: 50 | X60: 20 | Y60: 10 | AE60: 10 | AF60: 10 | AG60: 20 | AZ60: 5
A61: 37946 | M61: 10 | N61: 60 | P61: 20 | Q61: 30 | T61: 30 | U61: 10 | W61: 50 | X61: 20 | Y61: 10 | Z61: 10 | AB61: 10 | AD61: 10 | AE61: 10 | AF61: 10 | AG61: 20 | AZ61: 5 | BA61: 2s
A62: 38092 | M62: 20 | N62: 60 | Q62: 20 | T62: 30 | U62: 10 | V62: 10 | W62: 50 | X62: 20 | Y62: 20 | Z62: 10 | AB62: 10 | AE62: 10 | AF62: 10 | AG62: 20 | AZ62: 5 | BA62: 2s
A63: 38268 | M63: 20 | N63: D | Q63: 20 | T63: 20 | U63: 10 | V63: 10 | W63: 50 | X63: 20 | Y63: 20 | Z63: 10 | AE63: 10 | AF63: 10 | AG63: 20 | AZ63: 5 | BA63: 2s
A64: 38457 | M64: 30 | N64: 70 | Q64: 30 | T64: 30 | U64: 10 | V64: 10 | W64: 60 | X64: 20 | Y64: 30 | Z64: 10 | AB64: 10 | AE64: 10 | AF64: 10 | AG64: 30 | AZ64: 5 | BA64: 2s
A65: 38650 | M65: 30 | N65: 50 | Q65: 20 | T65: 20 | U65: 10 | V65: 10 | W65: 50 | X65: 20 | Y65: 20 | Z65: 10 | AB65: 10 | AD65: 10 | AE65: 10 | AF65: 10 | AG65: 20 | AZ65: 5 | BA65: 2s
A66: 38806 | M66: 40 | N66: 50 | Q66: 20 | T66: 20 | U66: 10 | V66: 10 | W66: 40 | X66: 20 | Y66: 20 | Z66: 10 | AB66: 10 | AD66: 10 | AE66: 10 | AF66: 10 | AG66: 20 | AZ66: 5 | BA66: 2s
A67: 39010 | M67: 20 | N67: 70 | Q67: 20 | T67: 30 | U67: 20 | V67: 10 | W67: 60 | X67: 20 | Y67: 20 | Z67: 20 | AA67: 10 | AB67: 10 | AD67: 10 | AE67: 10 | AF67: 10 | AG67: 30 | AZ67: 5 | BA67: 2s
A68: 39209 | M68: 60 | N68: 60 | P68: 10 | Q68: 10 | T68: 10 | U68: 10 | V68: 10 | W68: 50 | X68: 10 | Y68: 20 | Z68: 10 | AA68: 10 | AB68: 10 | AE68: 10 | AF68: 10 | AG68: 20 | AZ68: 5 | BA68: 2s
A69: 39310 | M69: 19.1 | N69: 19.1 | P69: 36.6 | Q69: 31.2 | R69: 19.1 | S69: 19.1 | T69: 19.1 | U69: 20.7 | V69: 29.2 | W69: 75.7 | X69: 20.7 | Y69: 19.1 | Z69: 29.2 | AA69: 19.1 | AB69: 13.5 | AD69: 25.9 | AE69: 19.1 | AF69: 13.5 | AG69: 30.2 | AZ69: 5 | BA69: 2s
A70: 39380 | M70: 15 | N70: 16 | Q70: 13 | T70: 19 | U70: 6 | V70: 6 | W70: 38 | X70: 12 | Y70: 14 | Z70: 15 | AA70: 5 | AB70: 10 | AD70: 6 | AE70: 9 | AF70: 8 | AG70: 19 | AZ70: 5 | BA70: 2s
A71: 39535 | M71: 20 | N71: 13 | P71: 12 | Q71: 13 | R71: 5 | S71: 5 | T71: 18 | U71: 6 | V71: 6 | W71: 30 | X71: 10 | Y71: 35 | Z71: 14 | AA71: 5 | AB71: 6 | AD71: 5 | AE71: 9 | AF71: 8 | AG71: 19 | AZ71: 5 | BA71: 2s
A72: 39535 | H72: 12.9 | M72: 19 | N72: 18.9 | P72: 16.3 | Q72: 19.2 | R72: 11.9 | S72: 12 | T72: 17.5 | U72: 12.4 | V72: 12.2 | W72: 26.2 | X72: 16.3 | Y72: 25.1 | Z72: 17.5 | AA72: 11.9 | AB72: 16.1 | AC72: 11.9 | AD72: 12.5 | AE72: 14 | AF72: 13.5 | AG72: 18 | AZ72: 5 | BA72: 2s
A73: 39618 | H73: 13 | I73: 26 | M73: 14 | Z73: 18 | AH73: 13 | AI73: 20 | AZ73: 5 | BA73: 2s
A74: 39722 | H74: 8.3 | I74: 8.4 | M74: 13.7 | N74: 22.6 | P74: 11.8 | Q74: 11.7 | R74: 7.8 | S74: 7.6 | T74: 13.1 | U74: 7.9 | V74: 8 | W74: 19.6 | X74: 12.5 | Y74: 8 | Z74: 11.7 | AA74: 7.6 | AB74: 7.7 | AC74: 7.7 | AD74: 8.1 | AE74: 9.1 | AF74: 9.1 | AG74: 14.3 | AQ74: 13 | AZ74: 5 | BA74: 2s
A76: COLOUR KEY:
A77: Dry
A78: 1978-1980 MDA=40
A79: 1981-1991 MDA=250
A80: <MDA listed in column on right approx 10

Sheet <MDA
A1: Minimum detectable activity (MDA)
A2: Reference: | B2: Hughes, C. E., Cendon, D. I., Harrison, J. J., Hankin, S. I., Johansen, M. P., Payne, T. E., Vine, M., Collins, R. N., Hoffmann, E. L., Loosz, T. (2010) Movement of a tritium plume in shallow groundwater at a legacy low-level radioactive waste disposal site in eastern Australia, Journal of Environmental Radioactivity, 1-10. http://dx.doi.org/10.1016/j.jenvrad.2010.05.009
A3: Date | B3: BH1 | C3: BH2 | D3: BH3 | E3: BH4 | F3: BH5 | G3: BH6 | H3: BHA | I3: BHB | J3: BHC | K3: BHD | L3: BHE | M3: BHF | N3: BH10 | O3: OS1 | P3: OS2 | Q3: OS3 | R3: MB11 | S3: MB12 | T3: MB13 | U3: MB14 | V3: MB15 | W3: MB16 | X3: MB17 | Y3: MB18 | Z3: MB19 | AA3: MB20 | AB3: MB21 | AC3: MB22 | AD3: P1s | AE3: P1d | AF3: P2d | AG3: CW | AH3: BH2/3 | AI3: OS2/W | AJ3: D7 | AK3: D8 | AL3: D9 | AM3: D10 | AN3: D11 | AO3: D12 | AP3: D13 | AQ3: D14 | AR3: D15 | AS3: D16 | AT3: D17 | AU3: D18 | AV3: D19 | AW3: D20 | AX3: D21 | AY3: D23 | AZ3: Background | BA3: MDA from E-rep
B4: Bq/L | C4: Bq/L | D4: Bq/L | E4: Bq/L | F4: Bq/L | G4: Bq/L | H4: Bq/L | I4: Bq/L | J4: Bq/L | K4: Bq/L | L4: Bq/L | M4: Bq/L | N4: Bq/L | O4: Bq/L | P4: Bq/L | Q4: Bq/L | R4: Bq/L | S4: Bq/L | T4: Bq/L | U4: Bq/L | V4: Bq/L | W4: Bq/L | X4: Bq/L | Y4: Bq/L | Z4: Bq/L | AA4: Bq/L | AB4: Bq/L | AC4: Bq/L | AD4: Bq/L | AE4: Bq/L | AF4: Bq/L | AG4: Bq/L | AH4: Bq/L | AI4: Bq/L | AJ4: Bq/L | AK4: Bq/L | AL4: Bq/L | AM4: Bq/L | AN4: Bq/L | AO4: Bq/L | AP4: Bq/L | AQ4: Bq/L | AR4: Bq/L | AS4: Bq/L | AT4: Bq/L | AU4: Bq/L | AV4: Bq/L | AW4: Bq/L | AX4: Bq/L | AY4: Bq/L
A5: 27729
A6: 27805
A7: 27865
A8: 27895
A9: 27926
A10: 28676 | B10: 40 | D10: 40 | E10: 40 | F10: 40 | J10: 40 | K10: 40 | O10: 40
A11: 28837 | B11: 40 | C11: 40 | D11: 40 | E11: 40 | F11: 40 | G11: 40 | I11: 40 | J11: 40 | K11: 40 | L11: 40 | O11: 40
A12: 29021 | B12: 40 | C12: 40 | D12: 40 | E12: 40 | F12: 40 | G12: 40 | I12: 40 | J12: 40 | L12: 40
A13: 29204 | B13: D | C13: D | E13: 40 | F13: D | G13: 40 | H13: 40 | I13: 40 | K13: 40 | L13: 40 | O13: 40
A14: 29387 | B14: D | C14: D | D14: 40 | E14: 40 | F14: D | G14: 40 | H14: 40 | I14: 40 | J14: 40 | K14: 40 | L14: 40 | N14: 40 | O14: 40
A15: 29570 | B15: D | C15: D | F15: D
A16: 29752 | B16: 250 | C16: 250 | D16: 250 | E16: 250 | F16: D | G16: 250 | H16: 250 | I16: 250 | J16: 250 | K16: 250 | L16: 250 | O16: 250
A17: 30021 | E17: 250
A18: 30141 | E18: 250 | G18: 250 | H18: 250 | I18: 250 | J18: 250 | K18: 250 | L18: 250 | O18: 250
A19: 30308 | E19: 250 | G19: 250 | H19: 250 | I19: 250 | J19: 250 | K19: 250 | L19: 250 | O19: 250
A20: 30482 | B20: 250 | C20: 250 | D20: 250 | E20: 250 | G20: 250 | H20: 250 | I20: 250 | J20: 250 | K20: 250 | L20: 250 | O20: 250
A21: 30665 | B21: D | C21: D | D21: D | E21: 250 | G21: 250 | H21: 250 | I21: 250 | J21: 250 | K21: 250 | L21: 250 | O21: 250
A22: 30848 | B22: 250 | C22: 250 | D22: 250 | E22: 250 | G22: 250 | H22: 250 | I22: 250 | J22: 250 | K22: 250 | L22: 250 | O22: 250
A23: 31031 | B23: D | C23: 250 | D23: D | E23: 250 | G23: 250 | H23: 250 | I23: 250 | J23: 250 | L23: 250 | O23: 250
A24: 31215 | B24: 250 | C24: 250 | E24: 250 | G24: 250 | H24: 250 | I24: 250 | J24: 250 | K24: 250 | L24: 250 | O24: 250
A25: 31440 | B25: 250 | C25: 250 | D25: 250 | E25: 250 | G25: 250 | H25: 250 | I25: 250 | J25: 250 | K25: 250 | L25: 250 | O25: 250 | AZ25: 5
A26: 31567 | E26: 250 | G26: 250 | H26: 250 | I26: 250 | J26: 250 | K26: 250 | L26: 250 | O26: 250 | AZ26: 5
A27: 31751 | C27: 250 | E27: 250 | G27: 250 | H27: 250 | I27: 250 | K27: 250 | L27: 250 | O27: 250 | AZ27: 5
A28: 31933 | E28: 250 | H28: 250 | I28: 250 | J28: 250 | K28: 250 | L28: 250 | AZ28: 5
A29: 32126 | E29: 250 | G29: 250 | H29: 250 | I29: 250 | J29: 250 | K29: 250 | L29: 250 | O29: 250 | AZ29: 5
A30: 32323 | B30: 250 | C30: 250 | D30: 250 | E30: 250 | G30: 250 | H30: 250 | I30: 250 | K30: 250 | R30: 250 | S30: 250 | U30: 250 | V30: 250 | Y30: 250 | Z30: 250 | AA30: 250 | AB30: 250 | AZ30: 5
A31: 32484 | R31: 250 | U31: 250 | V31: 250 | Y31: 250 | Z31: 250 | AA31: 250 | AB31: 250 | AC31: 250 | AZ31: 5
A32: 32687 | R32: 250 | S32: 250 | U32: 250 | V32: 250 | Y32: 250 | Z32: 250 | AA32: 250 | AB32: 250 | AC32: 250 | AZ32: 5
A33: 32849 | R33: 250 | U33: 250 | V33: 250 | Y33: 250 | Z33: 250 | AB33: 250 | AC33: 250 | AZ33: 5
A34: 33049 | R34: 250 | S34: 250 | U34: 250 | V34: 250 | Y34: 250 | Z34: 250 | AB34: 250 | AZ34: 5
A35: 33225 | R35: 250 | U35: 250 | V35: 250 | Y35: 250 | Z35: 250 | AB35: 250 | AZ35: 5
A36: 33413 | S36: 250 | U36: 250 | X36: 250 | Y36: 250 | Z36: 250 | AA36: 250 | AB36: 250 | AZ36: 5
A37: 33581 | R37: 250 | U37: 250 | V37: 250 | Y37: 250 | Z37: 250 | AA37: 250 | AB37: 250 | AZ37: 5
A38: 33777 | U38: 50 | V38: 50 | Z38: 50 | AZ38: 5
A39: 33939 | R39: 50 | S39: 50 | U39: 50 | V39: 50 | Y39: 50 | Z39: 50 | AA39: 50 | AB39: 50 | AZ39: 5
A40: 34145 | R40: 45 | S40: 45 | U40: 45 | V40: 45 | Y40: 45 | Z40: 45 | AA40: 45 | AB40: 45 | AZ40: 5
A41: 34323 | R41: 45 | U41: 45 | V41: 45 | Z41: 45 | AA41: 45 | AB41: 45 | AZ41: 5
A42: 34500 | R42: 50 | S42: 50 | U42: 50 | V42: 50 | Y42: 50 | AA42: 50 | AB42: 50 | AZ42: 5
A43: 34687 | R43: 50 | U43: 50 | V43: 50 | Y43: 50 | Z43: 50 | AA43: 50 | AB43: 50 | AZ43: 5
A44: 34886 | R44: 50 | S44: 50 | U44: 50 | V44: 50 | Y44: 50 | Z44: 50 | AA44: 50 | AB44: 50 | AZ44: 5
A45: 35041 | K45: 50 | R45: 50 | S45: 50 | U45: 50 | V45: 50 | Y45: 50 | Z45: 50 | AA45: 50 | AB45: 50 | AZ45: 5
A46: 35202 | R46: 60 | U46: 60 | V46: 60 | Y46: 60 | AB46: 60 | AZ46: 5
A47: 35405 | R47: 60 | S47: 60 | U47: 60 | V47: 60 | Y47: 60 | Z47: 60 | AA47: 60 | AB47: 60 | AZ47: 5
A48: 35586 | R48: 30 | V48: 40 | AA48: 30 | AZ48: 5
A49: 35738 | R49: 10 | S49: 20 | U49: 40 | V49: 20 | AA49: 20 | AZ49: 5
A50: 35940 | R50: 10 | S50: 50 | U50: 10 | V50: 20 | Z50: 10 | AA50: 30 | AB50: 10 | AZ50: 5
A51: 36066 | R51: 10 | S51: 30 | U51: 10 | V51: 10 | Y51: 20 | Z51: 10 | AA51: 20 | AB51: 20 | AZ51: 5
A52: 36308 | R52: 10 | S52: 10 | U52: 20 | V52: 10 | Z52: 40 | AA52: 10 | AB52: 10 | AZ52: 5
A53: 36475 | R53: 20 | S53: 30 | U53: 10 | V53: 10 | Y53: 20 | Z53: 10 | AA53: 10 | AB53: 10 | AZ53: 5
A54: 36669 | R54: 30 | V54: 10 | AB54: 10 | AZ54: 5
A55: 36840 | R55: 20 | S55: 30 | V55: 30 | AA55: 20 | AZ55: 5
A56: 37050 | R56: 10 | S56: 10 | U56: 10 | V56: 10 | Y56: 10 | Z56: 30 | AA56: 10 | AB56: 10 | AZ56: 5
A57: 37204 | S57: 30 | AA57: 20 | AZ57: 5
A58: 37385 | R58: 10 | S58: 10 | U58: 10 | V58: 10 | AA58: 10 | AB58: 10 | AZ58: 5 | BA58: 10
A59: 37552 | R59: 10 | S59: 10 | AA59: 10 | AB59: 10 | AZ59: 5 | BA59: 10
A60: 37742 | R60: 10 | S60: 10 | U60: 10 | Z60: 10 | AA60: 10 | AB60: 10 | AD60: 10 | BA60: 10
A61: 37946 | R61: 10 | S61: 10 | V61: 10 | AA61: 10 | AZ61: 5 | BA61: 10
A62: 38092 | P62: D | R62: 10 | S62: 10 | AA62: 10 | AD62: 10 | AZ62: 5 | BA62: 10
A63: 38268 | N63: D | P63: D | R63: 11 | S63: 11 | AA63: 11 | AB63: 11 | AD63: 11 | AZ63: 5 | BA63: 11
A64: 38457 | P64: D | R64: 14 | S64: 14 | AA64: 14 | AD64: 14 | AZ64: 5 | BA64: 14
A65: 38650 | P65: D | R65: 12 | S65: 12 | AA65: 12 | AZ65: 5 | BA65: 12
A66: 38806 | P66: D | R66: 12 | S66: 12 | AA66: 12 | AZ66: 5 | BA66: 12
A67: 39010 | P67: D | R67: 12 | S67: 12 | AZ67: 5 | BA67: 12
A68: 39209 | R68: 12 | S68: 12 | AD68: 12 | AZ68: 5 | BA68: 12
A69: 39310 | M69: 9.2 | N69: 9.2 | P69: 9.2 | Q69: 9.2 | R69: 9.2 | S69: 9.2 | T69: 9.2 | U69: 9.2 | V69: 9.2 | W69: 9.2 | X69: 9.2 | Y69: 9.2 | Z69: 9.2 | AA69: 9.2 | AB69: 9.2 | AC69: 9.2 | AD69: 9.2 | AE69: 9.2 | AF69: 9.2 | AG69: 9.2 | AZ69: 5 | BA69: 9.2
A70: 39380 | M70: 11.8 | N70: 11.8 | P70: D | Q70: 11.8 | R70: 12 | S70: 12 | T70: 11.8 | U70: 11.8 | V70: 11.8 | W70: 11.3 | X70: 11.3 | Y70: 11.8 | Z70: 11.8 | AA70: 11.3 | AB70: 11.8 | AC70: 11.8 | AD70: 11.3 | AE70: 11.8 | AF70: 11.8 | AG70: 11.8 | AZ70: 5 | BA70: 12 | BB70: assumed
A71: 39535 | R71: 12 | S71: 12 | AA71: 12 | AD71: 12 | AZ71: 5 | BA71: 11.8
A72: 39535 | H72: 34.2 | M72: 29.8 | N72: 34.1 | P72: 34.2 | Q72: 29.8 | R72: 34.2 | S72: 34.1 | T72: 29.9 | U72: 34.2 | V72: 34.2 | W72: 29.2 | X72: 34.2 | Y72: 29.9 | Z72: 34.2 | AA72: 34.2 | AB72: 34.2 | AC72: 34.2 | AD72: 34.1 | AE72: 34.1 | AF72: 34.2 | AG72: 29.9 | AZ72: 5
A73: 39618 | H73: 36 | I73: 37 | M73: 37 | Z73: 37 | AH73: 37 | AI73: 39 | AZ73: 5
A74: 39722 | H74: 17.6 | I74: 17.6 | M74: 17.7 | N74: 17.8 | P74: 17.7 | Q74: 17.7 | R74: 17.7 | S74: 17.7 | T74: 17.7 | U74: 17.7 | V74: 17.6 | W74: 17.8 | X74: 17.6 | Y74: 17.7 | Z74: 17.7 | AA74: 17.7 | AB74: 17.7 | AC74: 17.7 | AD74: 17.6 | AE74: 17.6 | AF74: 17.7 | AG74: 17.7 | AQ74: 17.7
A76: COLOUR KEY:
A77: Dry
A78: 1978-1980 MDA=40
A79: 1981-1991 MDA=250
A80: <MDA listed in column on right approx 10

Sheet References
A1: List of references for ANSTO/AAEC environmental survey reports from which data was sourced
A3: Giles, M.S., Stockdale, J.A., (1966). Results of the Lucas Heights Biological Survey, December 1959 to December 1964. AAEC/E-151 Supplement No.1.
A4: Cook, J.E., Dudaitis, A., Giles, M.S., (1969). Environmental survey at AAEC Research Lucas Heights. Results for 1965, 1966 and 1967. AAEC/E-151, Supplement No.1.
A5: Cook, J.E., Dudaitis, A., (1970). Environmental Survey at the AAEC Research Establishment, Lucas Heights. Results for 1968.AAEC/E-151, Supplement No.2.
A6: Cook, J.E., Dudaitis, A., (1970). Environmental Survey at the AAEC Research Establishment, Lucas Heights. Results for 1969. AAEC/E-151, Supplement No.3.
A7: Conway, N.F., Dudaitis, A. (1972). Environmental Survey at the AAEC Research Establishment, Lucas Heights. Results for the Period January-July 1970. AAEC/E-246.
A8: Dudaitis, A., (1973). Environmental Survey at the AAEC Research Establishment, Lucas Heights. Results for the Period August 1970 to December 1971. AAEC/E-271.
A9: Dudaitis, A., (1974). Environmental Survey at the AAEC Research Establishment, Lucas Heights. Results for 1972. AAEC/E-301.
A10: Davy, D.R., Dudaitis, A., (1974). Environmental Survey at the Research Establishment, Lucas Heights. Results for 1973. AAEC/E-335.
A11: Davy, D.R., Dudaitis, A., (1976). Environmental Survey at the Research Establishment, Lucas Heights. Results for 1974. AAEC/E-375.
A12: Hespe, E.D., (1979). Environmental Survey at the AAEC Research Establishment, Lucas Heights. Results for 1975, 1976 and 1977. AAEC/E-467.
A13: Hespe, E.D., (1979). Results of the 1978 Environmental Survey at the AAEC Research Establishment, Lucas Heights. AAEC/E-494.
... A41: Hoffmann, Emmy; Loosz, Tom; Ferris, John. (2008). Environmental and Effluent Monitoring at ANSTO Sites, 2006-2007. ANSTO/E-762.

Sheet Climate
A1: Date | B1: SOI | D1: Month-Year | E1: Total monthly rainfall in mm | F1: Monthly average rainfall | G1: Monthly rainfall deficit | H1: Cumulative monthly rainfall deficit | I1: Total yearly rainfall mm | J1: Yearly rainfall deficit | K1: BOM LH ANSTO 066078 | L1: Precipitation in the 24 hours before 9am (local time) in mm | M1: Fron ANSTO 15 minute data - Date | N1: 24 hr rain | O1: Date | P1: Rain to 9am
A2: 34364 | B2: -1.6 | D2: 21186 | E2: 0 | F2: 94.8 | K2: 21246 | L2: 0 | N2: 0 | O2: 33897.37 | P2: 0
A3: 34393 | B3: 0.6 | D3: 21217 | E3: 0 | F3: 104.6 | K3: 21247 | L3: 1.3 | M3: 33898.995 | N3: 0 | O3: 33898.37 | P3: 0
A4: 34423 | B4: -10.6 | D4: 21245 | E4: 0 | F4: 112.2 | K4: 21248 | L4: 0 | M4: 33899.995 | N4: 0 | O4: 33899.37 | P4: 0
A5: 34454 | B5: -22.8 | D5: 21276 | E5: 66.6 | F5: 91.3 | G5: =E5-F5 -> -24.7 | H5: =G5 -> -24.7 | K5: 21249 | L5: 0 | M5: 33900.995 | N5: 0 | O5: 33900.37 | P5: 0
A6: 34484 | B6: -13 | D6: 21306 | E6: 7.6 | F6: 79.8 | G6: =E6-F6 -> -72.2 | H6: =H5+G6 -> -96.9 | K6: 21250 | L6: 43.4 | M6: 33901.995 | N6: 0 | O6: 33901.37 | P6: 0
A7: 34515 | B7: -10.4 | D7: 21337 | E7: 140.8 | F7: 101.2 | G7: =E7-F7 -> 39.6 | H7: =H6+G7 -> -57.3 | K7: 21251 | L7: 12.2 | M7: 33902.995 | N7: 0 | O7: 33902.37 | P7: 0
A8: 34545 | B8: -18 | D8: 21367 | E8: 25.9 | F8: 59.7 | G8: =E8-F8 -> -33.8 | H8: =H7+G8 -> -91.1 | K8: 21252 | L8: 6.6 | M8: 33903.995 | N8: 0 | O8: 33903.37 | P8: 0
A9: 34576 | B9: -17.2 | D9: 21398 | E9: 54.3 | F9: 72 | G9: =E9-F9 -> -17.7 | H9: =H8+G9 -> -108.8 | K9: 21253 | L9: 9.7 | M9: 33904.995 | N9: 0 | O9: 33904.37 | P9: 0
A10: 34607 | B10: -17.2 | D10: 21429 | E10: 22.2 | F10: 52.5 | G10: =E10-F10 -> -30.3 | H10: =H9+G10 -> -139.1 | K10: 21254 | L10: 61 | M10: 33905.995 | N10: 0 | O10: 33905.37 | P10: 0
A11: 34637 | B11: -14.1 | D11: 21459 | E11: 28.8 | F11: 72.3 | G11: =E11-F11 -> -43.5 | H11: =H10+G11 -> -182.6 | K11: 21255 | L11: 132.1 | M11: 33906.995 | N11: 0 | O11: 33906.37 | P11: 0
A12: 34668 | B12: -7.3 | D12: 21490 | E12: 18.6 | F12: 91.7 | G12: =E12-F12 -> -73.1 | H12: =H11+G12 -> -255.7 | K12: 21256 | L12: 18.5 | M12: 33907.995 | N12: 0 | O12: 33907.37 | P12: 0
A13: 34698 | B13: -11.6 | D13: 21520 | E13: 55.9 | F13: 81.1 | G13: =E13-F13 -> -25.2 | H13: =H12+G13 -> -280.9 | K13: 21257 | L13: 0.5 | M13: 33908.995 | N13: 0 | O13: 33908.37 | P13: 0
A14: 34729 | B14: -4 | D14: 21551 | E14: 104.8 | F14: 94.8 | G14: =E14-F14 -> 10 | H14: =H13+G14 -> -270.9 | I14: =SUM(E14:E25) -> 1184.4 | J14: =I14-1013 -> 171.4 | K14: 21258 | L14: 0 | M14: 33909.995 | N14: 0 | O14: 33909.37 | P14: 0
A15: 34758 | B15: -2.7 | D15: 21582 | E15: 126.5 | F15: 104.6 | G15: =E15-F15 -> 21.9 | H15: =H14+G15 -> -249 | K15: 21259 | L15: 0 | M15: 33910.995 | N15: 0 | O15: 33910.37 | P15: 0
A16: 34788 | B16: 3.5 | D16: 21610 | E16: 186.3 | F16: 112.2 | G16: =E16-F16 -> 74.1 | H16: =H15+G16 -> -174.9 | K16: 21260 | L16: 0 | M16: 33911.995 | N16: 0 | O16: 33911.37 | P16: 0
A17: 34819 | B17: -16.2 | D17: 21641 | E17: 42.2 | F17: 91.3 | G17: =E17-F17 -> -49.1 | H17: =H16+G17 -> -224 | K17: 21261 | L17: 0 | M17: 33912.995 | N17: 0 | O17: 33912.37 | P17: 0
A18: 34849 | B18: -9 | D18: 21671 | E18: 9 | F18: 79.8 | G18: =E18-F18 -> -70.8 | H18: =H17+G18 -> -294.8 | K18: 21262 | L18: 0 | M18: 33913.995 | N18: 0 | O18: 33913.37 | P18: 0
A19: 34880 | B19: -1.5 | D19: 21702 | E19: 42.9 | F19: 101.2 | G19: =E19-F19 -> -58.3 | H19: =H18+G19 -> -353.1 | K19: 21263 | L19: 0 | M19: 33914.995 | N19: 0 | O19: 33914.37 | P19: 0
A20: 34910 | B20: 4.2 | D20: 21732 | E20: 141.1 | F20: 59.7 | G20: =E20-F20 -> 81.4 | H20: =H19+G20 -> -271.7 | K20: 21264 | L20: 0 | M20: 33915.995 | N20: 0 | O20: 33915.37 | P20: 0
A21: 34941 | B21: 0.8 | D21: 21763 | E21: 42.8 | F21: 72 | G21: =E21-F21 -> -29.2 | H21: =H20+G21 -> -300.9 | K21: 21265 | L21: 0 | M21: 33916.995 | N21: 0 | O21: 33916.37 | P21: 0
A22: 34972 | B22: 3.2 | D22: 21794 | E22: 40.2 | F22: 52.5 | G22: =E22-F22 -> -12.3 | H22: =H21+G22 -> -313.2 | K22: 21266 | L22: 16 | M22: 33917.995 | N22: 0 | O22: 33917.37 | P22: 0
A23: 35002 | B23: -1.3 | D23: 21824 | E23: 196.3 | F23: 72.3 | G23: =E23-F23 -> 124 | H23: =H22+G23 -> -189.2 | K23: 21267 | L23: 0 | M23: 33918.995 | N23: 2.58 | O23: 33918.37 | P23: 0
A24: 35033 | B24: 1.3 | D24: 21855 | E24: 129.2 | F24: 91.7 | G24: =E24-F24 -> 37.5 | H24: =H23+G24 -> -151.7 | K24: 21268 | L24: 0 | M24: 33919.995 | N24: 0.92 | O24: 33919.37 | P24: 2.58
A25: 35063 | B25: -5.5 | D25: 21885 | E25: 123.1 | F25: 81.1 | G25: =E25-F25 -> 42 | H25: =H24+G25 -> -109.7 | K25: 21269 | L25: 0 | M25: 33920.995 | N25: 22.67 | O25: 33920.37 | P25: 10.5
A26: 35094 | B26: 8.4 | D26: 21916 | E26: 55.2 | F26: 94.8 | G26: =E26-F26 -> -39.6 | H26: =H25+G26 -> -149.3 | I26: =SUM(E26:E37) -> 1057 | J26: =I26-1013 -> 44 | K26: 21270 | L26: 0 | M26: 33921.995 | N26: 0 | O26: 33921.37 | P26: 13.09
A27: 35123 | B27: 1.1 | D27: 21947 | E27: 83.3 | F27: 104.6 | G27: =E27-F27 -> -21.3 | H27: =H26+G27 -> -170.6 | K27: 21271 | L27: 0 | M27: 33922.995 | N27: 0 | O27: 33922.37 | P27: 0
A28: 35154 | B28: 6.2 | D28: 21976 | E28: 53.7 | F28: 112.2 | G28: =E28-F28 -> -58.5 | H28: =H27+G28 -> -229.1 | K28: 21272 | L28: 1 | M28: 33923.995 | N28: 0 | O28: 33923.37 | P28: 0
A29: 35185 | B29: 7.8 | D29: 22007 | E29: 27.2 | F29: 91.3 | G29: =E29-F29 -> -64.1 | H29: =H28+G29 -> -293.2 | K29: 21273 | L29: 0 | M29: 33924.995 | N29: 0.46 | O29: 33924.37 | P29: 0
A30: 35215 | B30: 1.3 | D30: 22037 | E30: 137 | F30: 79.8 | G30: =E30-F30 -> 57.2 | H30: =H29+G30 -> -236 | K30: 21274 | L30: 0 | M30: 33925.995 | N30: 0 | O30: 33925.37 | P30: 0.46
A31: 35246 | B31: 13.9 | D31: 22068 | E31: 47.2 | F31: 101.2 | G31: =E31-F31 -> -54 | H31: =H30+G31 -> -290 | K31: 21275 | L31: 0 | M31: 33926.995 | N31: 8.13 | O31: 33926.37 | P31: 4.18
A32: 35276 | B32: 6.8 | D32: 22098 | E32: 60.1 | F32: 59.7 | G32: =E32-F32 -> 0.4 | H32: =H31+G32 -> -289.6 | K32: 21276 | L32: 0 | M32: 33927.995 | N32: 1.16 | O32: 33927.37 | P32: 3.95
A33: 35307 | B33: 4.6 | D33: 22129 | E33: 34.1 | F33: 72 | G33: =E33-F33 -> -37.9 | H33: =H32+G33 -> -327.5 | K33: 21277 | L33: 0 | M33: 33928.995 | N33: 0.23 | O33: 33928.37 | P33: 1.39
A34: 35338 | B34: 6.9 | D34: 22160 | E34: 50.2 | F34: 52.5 | G34: =E34-F34 -> -2.3 | H34: =H33+G34 -> -329.8 | K34: 21278 | L34: 15 | M34: 33929.995 | N34: 4.66 | O34: 33929.37 | P34: 0
A35: 35368 | B35: 4.2 | D35: 22190 | E35: 173.9 | F35: 72.3 | G35: =E35-F35 -> 101.6 | H35: =H34+G35 -> -228.2 | K35: 21279 | L35: 0.3 | M35: 33930.995 | N35: 0 | O35: 33930.37 | P35: 4.66
A36: 35399 | B36: -0.1 | D36: 22221 | E36: 62 | F36: 91.7 | G36: =E36-F36 -> -29.7 | H36: =H35+G36 -> -257.9 | K36: 21280 | L36: 0 | M36: 33931.995 | N36: 0 | O36: 33931.37 | P36: 0
A37: 35429 | B37: 7.2 | D37: 22251 | E37: 273.1 | F37: 81.1 | G37: =E37-F37 -> 192 | H37: =H36+G37 -> -65.9 | K37: 21281 | L37: 0 | M37: 33932.995 | N37: 0.23 | O37: 33932.37 | P37: 0
A38: 35460 | B38: 4.1 | D38: 22282 | E38: 75.9 | F38: 94.8 | G38: =E38-F38 -> -18.9 | H38: =H37+G38 -> -84.8 | I38: =SUM(E38:E49) -> 1280.8 | J38: =I38-1013 -> 267.8 | K38: 21282 | L38: 0 | M38: 33933.995 | N38: 0 | O38: 33933.37 | P38: 0.23
A39: 35489 | B39: 13.3 | D39: 22313 | E39: 58.9 | F39: 104.6 | G39: =E39-F39 -> -45.7 | H39: =H38+G39 -> -130.5 | K39: 21283 | L39: 0.5 | M39: 33934.995 | N39: 0 | O39: 33934.37 | P39: 0
A40: 35519 | B40: -8.5 | D40: 22341 | E40: 53.3 | F40: 112.2 | G40: =E40-F40 -> -58.9 | H40: =H39+G40 -> -189.4 | K40: 21284 | L40: 0 | M40: 33935.995 | N40: 0 | O40: 33935.37 | P40: 0
A41: 35550 | B41: -16.2 | D41: 22372 | E41: 87.1 | F41: 91.3 | G41: =E41-F41 -> -4.2 | H41: =H40+G41 -> -193.6 | K41: 21285 | L41: 0 | M41: 33936.995 | N41: 0 | O41: 33936.37 | P41: 0
A42: 35580 | B42: -22.4 | D42: 22402 | E42: 13.3 | F42: 79.8 | G42: =E42-F42 -> -66.5 | H42: =H41+G42 -> -260.1 | K42: 21286 | L42: 0 | M42: 33937.995 | N42: 2.11 | O42: 33937.37 | P42: 0
A43: 35611 | B43: -24.1 | D43: 22433 | E43: 70.8 | F43: 101.2 | G43: =E43-F43 -> -30.4 | H43: =H42+G43 -> -290.5 | K43: 21287 | L43: 0 | M43: 33938.995 | N43: 2.79 | O43: 33938.37 | P43: 2.11
A44: 35641 | B44: -9.5 | D44: 22463 | E44: 37.2 | F44: 59.7 | G44: =E44-F44 -> -22.5 | H44: =H43+G44 -> -313 | K44: 21288 | L44: 0 | M44: 33939.995 | N44: 1.39 | O44: 33939.37 | P44: 3.02
A45: 35672 | B45: -19.8 | D45: 22494 | E45: 208.2 | F45: 72 | G45: =E45-F45 -> 136.2 | H45: =H44+G45 -> -176.8 | K45: 21289 | L45: 0 | M45: 33940.995 | N45: 0 | O45: 33940.37 | P45: 1.16
A46: 35703 | B46: -14.8 | D46: 22525 | E46: 34.1 | F46: 52.5 | G46: =E46-F46 -> -18.4 | H46: =H45+G46 -> -195.2 | K46: 21290 | L46: 0 | M46: 33941.995 | N46: 0 | O46: 33941.37 | P46: 0
A47: 35733 | B47: -17.8 | D47: 22555 | E47: 39.8 | F47: 72.3 | G47: =E47-F47 -> -32.5 | H47: =H46+G47 -> -227.7 | K47: 21291 | L47: 12.2 | M47: 33942.995 | N47: 20.75 | O47: 33942.37 | P47: 1.85
A48: 35764 | B48: -15.2 | D48: 22586 | E48: 432.2 | F48: 91.7 | G48: =E48-F48 -> 340.5 | H48: =H47+G48 -> 112.8 | K48: 21292 | L48: 5.6 | M48: 33943.995 | N48: 10.28 | O48: 33943.37 | P48: 21.9
A49: 35794 | B49: -9.1 | D49: 22616 | E49: 170 | F49: 81.1 | G49: =E49-F49 -> 88.9 | H49: =H48+G49 -> 201.7 | K49: 21293 | L49: 1.5 | M49: 33944.995 | N49: 4.91 | O49: 33944.37 | P49: 7.28
A50: 35825 | B50: -23.5 | D50: 22647 | E50: 159.5 | F50: 94.8 | G50: =E50-F50 -> 64.7 | H50: =H49+G50 -> 266.4 | I50: =SUM(E50:E61) -> 1098.3 | J50: =I50-1013 -> 85.3 | K50: 21294 | L50: 0 | M50: 33945.995 | N50: 5.81 | O50: 33945.37 | P50: 10.49
A51: 35854 | B51: -19.2 | D51: 22678 | E51: 134.2 | F51: 104.6 | G51: =E51-F51 -> 29.6 | H51: =H50+G51 -> 296 | K51: 21295 | L51: 0 | M51: 33946.995 | N51: 0 | O51: 33946.37 | P51: 0.23
A52: 35884 | B52: -28.5 | D52: 22706 | E52: 45.7 | F52: 112.2 | G52: =E52-F52 -> -66.5 | H52: =H51+G52 -> 229.5 | K52: 21296 | L52: 4.6 | M52: 33947.995 | N52: 0 | O52: 33947.37 | P52: 0
A53: 35915 | B53: -24.4 | D53: 22737 | E53: 56.1 | F53: 91.3 | G53: =E53-F53 -> -35.2 | H53: =H52+G53 -> 194.3 | K53: 21297 | L53: 0 | M53: 33948.995 | N53: 0 | O53: 33948.37 | P53: 0
A54: 35945 | B54: 0.5 | D54: 22767 | E54: 270.3 | F54: 79.8 | G54: =E54-F54 -> 190.5 | H54: =H53+G54 -> 384.8 | K54: 21298 | L54: 0 | M54: 33949.995 | N54: 0 | O54: 33949.37 | P54: 0
A55: 35976 | B55: 9.9 | D55: 22798 | E55: 2.3 | F55: 101.2 | G55: =E55-F55 -> -98.9 | H55: =H54+G55 -> 285.9 | K55: 21299 | L55: 3.8 | M55: 33950.995 | N55: 0 | O55: 33950.37 | P55: 0
A56: 36006 | B56: 14.6 | D56: 22828 | E56: 60.5 | F56: 59.7 | G56: =E56-F56 -> 0.8 | H56: =H55+G56 -> 286.7 | K56: 21300 | L56: 23.1 | M56: 33951.995 | N56: 1.86 | O56: 33951.37 | P56: 0
A57: 36037 | B57: 9.8 | D57: 22859 | E57: 95.8 | F57: 72 | G57: =E57-F57 -> 23.8 | H57: =H56+G57 -> 310.5 | K57: 21301 | L57: 0 | M57: 33952.995 | N57: 0 | O57: 33952.37 | P57: 1.86
A58: 36068 | B58: 11.1 | D58: 22890 | E58: 71.4 | F58: 52.5 | G58: =E58-F58 -> 18.9 | H58: =H57+G58 -> 329.4 | K58: 21302 | L58: 0 | M58: 33953.995 | N58: 0 | O58: 33953.37 | P58: 0
A59: 36098 | B59: 10.9 | D59: 22920 | E59: 18.4 | F59: 72.3 | G59: =E59-F59 -> -53.9 | H59: =H58+G59 -> 275.5 | K59: 21303 | L59: 0 | M59: 33954.995 | N59: 3.45 | O59: 33954.37 | P59: 0
A60: 36129 | B60: 12.5 | D60: 22951 | E60: 15.6 | F60: 91.7 | G60: =E60-F60 -> -76.1 | H60: =H59+G60 -> 199.4 | K60: 21304 | L60: 0 | M60: 33955.995 | N60: 0.23 | O60: 33955.37 | P60: 3.68
A61: 36159 | B61: 13.3 | D61: 22981 | E61: 168.5 | F61: 81.1 | G61: =E61-F61 -> 87.4 | H61: =H60+G61 -> 286.8 | K61: 21305 | L61: 0 | M61: 33956.995 | N61: 3.52 | O61: 33956.37 | P61: 2.12
A62: 36190 | B62: 15.6 | D62: 23012 | E62: 200 | F62: 94.8 | G62: =E62-F62 -> 105.2 | H62: =H61+G62 -> 392 | I62: =SUM(E62:E73) -> 1804 | J62: =I62-1013 -> 791 | K62: 21306 | L62: 0 | M62: 33957.995 | N62: 1.62 | O62: 33957.37 | P62: 3.02
A63: 36219 | B63: 8.6 | D63: 23043 | E63: 65.5 | F63: 104.6 | G63: =E63-F63 -> -39.1 | H63: =H62+G63 -> 352.9 | K63: 21307 | L63: 1.5 | M63: 33958.995 | N63: 0 | O63: 33958.37 | P63: 0
A64: 36249 | B64: 8.9 | D64: 23071 | E64: 282.5 | F64: 112.2 | G64: =E64-F64 -> 170.3 | H64: =H63+G64 -> 523.2 | K64: 21308 | L64: 0 | M64: 33959.995 | N64: 0 | O64: 33959.37 | P64: 0
A65: 36280 | B65: 18.5 | D65: 23102 | E65: 195.7 | F65: 91.3 | G65: =E65-F65 -> 104.4 | H65: =H64+G65 -> 627.6 | K65: 21309 | L65: 0 | M65: 33960.995 | N65: 0 | O65: 33960.37 | P65: 0
A66: 36310 | B66: 1.3 | D66: 23132 | E66: 169.8 | F66: 79.8 | G66: =E66-F66 -> 90 | H66: =H65+G66 -> 717.6 | K66: 21310 | L66: 0 | M66: 33961.995 | N66: 0 | O66: 33961.37 | P66: 0
A67: 36341 | B67: 1 | D67: 23163 | E67: 229.8 | F67: 101.2 | G67: =E67-F67 -> 128.6 | H67: =H66+G67 -> 846.2 | K67: 21311 | L67: 0 | M67: 33962.995 | N67: 0 | O67: 33962.37 | P67: 0
A68: 36371 | B68: 4.8 | D68: 23193 | E68: 29.2 | F68: 59.7 | G68: =E68-F68 -> -30.5 | H68: =H67+G68 -> 815.7 | K68: 21312 | L68: 0 | M68: 33963.995 | N68: 0 | O68: 33963.37 | P68: 0
A69: 36402 | B69: 2.1 | D69: 23224 | E69: 247.5 | F69: 72 | G69: =E69-F69 -> 175.5 | H69: =H68+G69 -> 991.2 | K69: 21313 | L69: 0 | M69: 33964.995 | N69: 0 | O69: 33964.37 | P69: 0
A70: 36433 | B70: -0.4 | D70: 23255 | E70: 62 | F70: 52.5 | G70: =E70-F70 -> 9.5 | H70: =H69+G70 -> 1000.7 | K70: 21314 | L70: 0.5 | M70: 33965.995 | N70: 0 | O70: 33965.37 | P70: 0
A71: 36463 | B71: 9.1 | D71: 23285 | E71: 46.7 | F71: 72.3 | G71: =E71-F71 -> -25.6 | H71: =H70+G71 -> 975.1 | K71: 21315 | L71: 0 | M71: 33966.995 | N71: 0 | O71: 33966.37 | P71: 0
A72: 36494 | B72: 13.1 | D72: 23316 | E72: 40.6 | F72: 91.7 | G72: =E72-F72 -> -51.1 | H72: =H71+G72 -> 924 | K72: 21316 | L72: 0 | M72: 33967.995 | N72: 0 | O72: 33967.37 | P72: 0
A73: 36524 | B73: 12.8 | D73: 23346 | E73: 234.7 | F73: 81.1 | G73: =E73-F73 -> 153.6 | H73: =H72+G73 -> 1077.6 | K73: 21317 | L73: 0 | M73: 33968.995 | N73: 0 | O73: 33968.37 | P73: 0
A74: 36555 | B74: 5.1 | D74: 23377 | E74: 9.7 | F74: 94.8 | G74: =E74-F74 -> -85.1 | H74: =H73+G74 -> 992.5 | I74: =SUM(E74:E85) -> 961.7 | J74: =I74-1013 -> -51.3 | K74: 21318 | L74: 0.8 | M74: 33969.995 | N74: 0 | O74: 33969.37 | P74: 0
A75: 36584 | B75: 12.9 | D75: 23408 | E75: 27.4 | F75: 104.6 | G75: =E75-F75 -> -77.2 | H75: =H74+G75 -> 915.3 | K75: 21319 | L75: 1.5 | M75: 33970.995 | N75: 0 | O75: 33970.37 | P75: 0
A76: 36615 | B76: 9.4 | D76: 23437 | E76: 107.1 | F76: 112.2 | G76: =E76-F76 -> -5.1 | H76: =H75+G76 -> 910.2 | K76: 21320 | L76: 3.3 | M76: 33971.995 | N76: 0 | O76: 33971.37 | P76: 0
A77: 36646 | B77: 16.8 | D77: 23468 | E77: 169 | F77: 91.3 | G77: =E77-F77 -> 77.7 | H77: =H76+G77 -> 987.9 | K77: 21321 | L77: 0 | M77: 33972.995 | N77: 0 | O77: 33972.37 | P77: 0
A78: 36676 | B78: 3.6 | D78: 23498 | E78: 16.3 | F78: 79.8 | G78: =E78-F78 -> -63.5 | H78: =H77+G78 -> 924.4 | K78: 21322 | L78: 0 | M78: 33973.995 | N78: 0 | O78: 33973.37 | P78: 0
A79: 36707 | B79: -5.5 | D79: 23529 | E79: 401.4 | F79: 101.2 | G79: =E79-F79 -> 300.2 | H79: =H78+G79 -> 1224.6 | K79: 21323 | L79: 0 | M79: 33974.995 | N79: 0 | O79: 33974.37 | P79: 0
A80: 36737 | B80: -3.7 | D80: 23559 | E80: 5.4 | F80: 59.7 | G80: =E80-F80 -> -54.3 | H80: =H79+G80 -> 1170.3 | K80: 21324 | L80: 0 | M80: 33975.995 | N80: 1.63 | O80: 33975.37 | P80: 0
A81: 36768 | B81: 5.3 | D81: 23590 | E81: 35.6 | F81: 72 | G81: =E81-F81 -> -36.4 | H81: =H80+G81 -> 1133.9 | K81: 21325 | L81: 0 | M81: 33976.995 | N81: 2.59 | O81: 33976.37 | P81: 1.63
A82: 36799 | B82: 9.9 | D82: 23621 | E82: 26.9 | F82: 52.5 | G82: =E82-F82 -> -25.6 | H82: =H81+G82 -> 1108.3 | K82: 21326 | L82: 0 | M82: 33977.995 | N82: 0.23 | O82: 33977.37 | P82: 2.82
A83: 36829 | B83: 9.7 | D83: 23651 | E83: 86.2 | F83: 72.3 | G83: =E83-F83 -> 13.9 | H83: =H82+G83 -> 1122.2 | K83: 21327 | L83: 0 | M83: 33978.995 | N83: 0 | O83: 33978.37 | P83: 0
A84: 36860 | B84: 22.4 | D84: 23682 | E84: 52.1 | F84: 91.7 | G84: =E84-F84 -> -39.6 | H84: =H83+G84 -> 1082.6 | K84: 21328 | L84: 0 | M84: 33979.995 | N84: 0 | O84: 33979.37 | P84: 0
A85: 36890 | B85: 7.7 | D85: 23712 | E85: 24.6 | F85: 81.1 | G85: =E85-F85 -> -56.5 | H85: =H84+G85 -> 1026.1 | K85: 21329 | L85: 0 | M85: 33980.995 | N85: 0 | O85: 33980.37 | P85: 0
A86: 36921 | B86: 8.9 | D86: 23743 | E86: 10.3 | F86: 94.8 | G86: =E86-F86 -> -84.5 | H86: =H85+G86 -> 941.6 | I86: =SUM(E86:E97) -> 899 | J86: =I86-1013 -> -114 | K86: 21330 | L86: 0 | M86: 33981.995 | N86: 0 | O86: 33981.37 | P86: 0
A87: 36950 | B87: 11.9 | D87: 23774 | E87: 12.2 | F87: 104.6 | G87: =E87-F87 -> -92.4 | H87: =H86+G87 -> 849.2 | K87: 21331 | L87: 0 | M87: 33982.995 | N87: 0 | O87: 33982.37 | P87: 0
A88: 36980 | B88: 6.7 | D88: 23802 | E88: 10.4 | F88: 112.2 | G88: =E88-F88 -> -101.8 | H88: =H87+G88 -> 747.4 | K88: 21332 | L88: 0 | M88: 33983.995 | N88: 0 | O88: 33983.37 | P88: 0
A89: 37011 | B89: 0.3 | D89: 23833 | E89: 125.8 | F89: 91.3 | G89: =E89-F89 -> 34.5 | H89: =H88+G89 -> 781.9 | K89: 21333 | L89: 0 | M89: 33984.995 | N89: 0 | O89: 33984.37 | P89: 0
A90: 37041 | B90: -9 | D90: 23863 | E90: 32 | F90: 79.8 | G90: =E90-F90 -> -47.8 | H90: =H89+G90 -> 734.1 | K90: 21334 | L90: 0 | M90: 33985.995 | N90: 0 | O90: 33985.37 | P90: 0
A91: 37072 | B91: 1.8 | D91: 23894 | E91: 93.2 | F91: 101.2 | G91: =E91-F91 -> -8 | H91: =H90+G91 -> 726.1 | K91: 21335 | L91: 0 | M91: 33986.995 | N91: 0 | O91: 33986.37 | P91: 0
A92: 37102 | B92: -3 | D92: 23924 | E92: 363.7 | F92: 59.7 | G92: =E92-F92 -> 304 | H92: =H91+G92 -> 1030.1 | K92: 21336 | L92: 0 | M92: 33987.995 | N92: 1.4 | O92: 33987.37 | P92: 0
A93: 37133 | B93: -8.9 | D93: 23955 | E93: 11.5 | F93: 72 | G93: =E93-F93 -> -60.5 | H93: =H92+G93 -> 969.6 | K93: 21337 | L93: 0 | M93: 33988.995 | N93: 0 | O93: 33988.37 | P93: 1.4
A94: 37164 | B94: 1.4 | D94: 23986 | E94: 49.4 | F94: 52.5 | G94: =E94-F94 -> -3.1 | H94: =H93+G94 -> 966.5 | K94: 21338 | L94: 0.5 | M94: 33989.995 | N94: 0 | O94: 33989.37 | P94: 0
A95: 37194 | B95: -1.9 | D95: 24016 | E95: 148.5 | F95: 72.3 | G95: =E95-F95 -> 76.2 | H95: =H94+G95 -> 1042.7 | K95: 21339 | L95: 2.5 | M95: 33990.995 | N95: 0.46 | O95: 33990.37 | P95: 0
A96: 37225 | B96: 7.2 | D96: 24047 | E96: 8.1 | F96: 91.7 | G96: =E96-F96 -> -83.6 | H96: =H95+G96 -> 959.1 | K96: 21340 | L96: 0.3 | M96: 33991.995 | N96: 5.07 | O96: 33991.37 | P96: 2.07
A97: 37255 | B97: -9.1 | D97: 24077 | E97: 33.9 | F97: 81.1 | G97: =E97-F97 -> -47.2 | H97: =H96+G97 -> 911.9 | K97: 21341 | L97: 0 | M97: 33992.995 | N97: 2.07 | O97: 33992.37 | P97: 5.3
A98: 37286 | B98: 2.7 | D98: 24108 | E98: 20.4 | F98: 94.8 | G98: =E98-F98 -> -74.4 | H98: =H97+G98 -> 837.5 | I98: =SUM(E98:E109) -> 860.2 | J98: =I98-1013 -> -152.8 | K98: 21342 | L98: 0 | M98: 33993.995 | N98: 0 | O98: 33993.37 | P98: 0.23
A99: 37315 | B99: 7.7 | D99: 24139 | E99: 80.3 | F99: 104.6 | G99: =E99-F99 -> -24.3 | H99: =H98+G99 -> 813.2 | K99: 21343 | L99: 0 | M99: 33994.995 | N99: 0 | O99: 33994.37 | P99: 0
A100: 37345 | B100: -5.2 | D100: 24167 | E100: 83.2 | F100: 112.2 | G100: =E100-F100 -> -29 | H100: =H99+G100 -> 784.2 | K100: 21344 | L100: 4.3 | M100: 33995.995 | N100: 0.23 | O100: 33995.37 | P100: 0
...

Sheet Sheet1
A1: Tritium activity (Bq/L) | B1: BHF | C1: BH10 | D1: OS2 | E1: OS3 | F1: MB11 | G1: MB12 | H1: MB13 | I1: MB14 | J1: MB15 | K1: MB16 | L1: MB17 | M1: MB18 | N1: MB19 | O1: MB20 | P1: MB21 | Q1: P1s | R1: P1d | S1: P2d | T1: CW
A2: 28676 | C2: 200 | D2: 10500 | E2: 8900
A3: 28837 | C3: 280 | D3: 8600 | E3: 18300
A4: Jun 79 | C4: 480
A5: Dec 79 | D5: 7200 | E5: 33200
A6: Jun 80 | C6: <40 | D6: 3500 | E6: 30200
A7: Jun 81 | C7: 800 | D7: 4000 | E7: 10100
A8: 30141 | C8: 1100 | D8: 2650 | E8: 30740
A9: 30308 | C9: 1210 | D9: 3120 | E9: 34590
A10: Jun 83 | C10: 1200 | D10: 7400 | E10: 14700
A11: Dec'83 | C11: 1000 | D11: 5600 | E11: 11500
A12: Jun84 | C12: 1760 | D12: 6260 | E12: 7190
A13: Dec 84 | B13: 1530 | C13: 2190 | D13: 4400 | E13: 11770
A14: 31215 | B14: 1380 | C14: 2360 | D14: 4600 | E14: 11110
A15: 31440 | B15: 1420 | C15: 1420 | D15: 3630 | E15: 5090
A16: 31567 | B16: 1560 | C16: 3070 | D16: 3680 | E16: 19720
A17: 31751 | B17: 1020 | C17: 3010 | D17: 2690 | E17: 15800
A18: 31933 | B18: 1060 | C18: 3860 | E18: 18700
A19: 32126 | B19: 1320 | C19: 3860 | D19: 3700 | E19: 15350
A20: 32323 | B20: 1340 | C20: 3090 | D20: 4220 | E20: 5640 | F20: <250 | G20: <250 | H20: 8820 | I20: <250 | J20: <250 | K20: 24120 | L20: 3190 | M20: <250 | N20: <250 | O20: <250 | P20: <250
A21: 32484 | F21: <250 | G21: 580 | H21: 4970 | I21: <250 | J21: <250 | K21: 23200 | L21: 3950 | M21: <250 | N21: <250 | O21: <250 | P21: <250
A22: 32687 | F22: <250 | G22: <250 | H22: 4400 | I22: <250 | J22: <250 | K22: 15000 | L22: 2200 | M22: <250 | N22: <250 | O22: <250 | P22: <250
A23: 32849 | F23: <250 | G23: 1200 | H23: 12000 | I23: <250 | J23: <250 | K23: 17000 | L23: 3000 | M23: <250 | N23: <250 | O23: 1000 | P23: <250
A24: 33049 | B24: 1200 | C24: 5500 | D24: 6700 | E24: 3000 | F24: <250 | G24: <250 | H24: 8500 | I24: <250 | J24: <250 | K24: 16000 | L24: 3000 | M24: <250 | N24: <250 | O24: 300 | P24: <250
A25: 33225 | B25: 3100 | C25: 6000 | D25: 2600 | E25: 10100 | F25: <250 | G25: 1000 | H25: 6800 | I25: <250 | J25: <250 | K25: 17600 | L25: 3300 | M25: <250 | N25: <250 | O25: 600 | P25: <250
A26: 33413 | B26: 890 | C26: 920 | D26: 3200 | E26: 2100 | G26: <250 | H26: 3600 | I26: <250 | J26: 1600 | K26: 15000 | L26: <250 | M26: <250 | N26: <250 | O26: <250 | P26: <250
A27: 33581 | B27: 1500 | C27: 7500 | D27: 3900 | E27: 7100 | F27: <250 | G27: 2240 | H27: 16000 | I27: <250 | J27: <250 | K27: 23000 | L27: 3700 | M27: <250 | N27: <250 | O27: <250 | P27: <250
A28: 33777 | B28: 1100 | C28: 1200 | D28: 2300 | E28: 3000 | F28: 60 | G28: 100 | H28: 5800 | I28: <50 | J28: <50 | K28: 14000 | L28: 1600 | M28: 140 | N28: <50 | O28: 80 | P28: 80
A29: 33939 | B29: 390 | C29: 760 | D29: 2300 | E29: 1500 | F29: <50 | G29: <50 | H29: 2900 | I29: <50 | J29: <50 | K29: 15000 | L29: 1700 | M29: <50 | N29: <50 | O29: <50 | P29: <50
A30: 34145 | B30: 660 | C30: 3900 | D30: 2790 | E30: 3840 | F30: <45 | G30: <45 | H30: 4110 | I30: <45 | J30: <45 | K30: 12400 | L30: 1820 | M30: <45 | N30: <45 | O30: <45 | P30: <45
A31: 34323 | B31: 720 | C31: 5020 | D31: 2770 | E31: 4570 | F31: <45 | G31: 70 | H31: 5750 | I31: <45 | J31: <45 | K31: 12400 | L31: 1950 | M31: 60 | N31: <45 | O31: <45 | P31: <45
A32: 34500 | B32: 560 | C32: 1620 | D32: 1820 | E32: 1690 | F32: <50 | G32: <50 | H32: 4030 | I32: <50 | J32: <50 | K32: 13200 | L32: 1550 | M32: <50 | N32: 620 | O32: <50 | P32: <50
A33: 34687 | B33: 1090 | C33: 5700 | D33: 5660 | E33: 3720 | F33: <50 | G33: 1430 | H33: 7420 | I33: <50 | J33: <50 | K33: 15600 | L33: 2240 | M33: <50 | N33: <50 | O33: <50 | P33: <50
A34: 34886 | B34: 240 | C34: 450 | D34: 2100 | E34: 1250 | F34: <50 | G34: <50 | H34: 3300 | I34: <50 | J34: <50 | K34: 11600 | L34: 1050 | M34: <50 | N34: <50 | O34: <50 | P34: <50
A35: 35041 | B35: 280 | C35: 500 | D35: 1830 | E35: 1270 | F35: <50 | G35: <50 | H35: 3040 | I35: <50 | J35: <50 | K35: 3540 | L35: 990 | M35: <50 | N35: <50 | O35: <50 | P35: <50
A36: 35202 | B36: 140±20 | C36: 530±30 | D36: 1800±20 | E36: 1360±80 | F36: <60 | G36: 80±40 | H36: 2520±100 | I36: <60 | J36: <60 | K36: 8720±160 | L36: 940±30 | M36: <60 | N36: 70±30 | O36: 60±30 | P36: <60
A37: 35405 | B37: 300±60 | C37: 550±30 | D37: 1790±100 | E37: 1630±80 | F37: <60 | G37: <60 | H37: 4350±110 | I37: <60 | J37: <60 | K37: 8880±230 | L37: 1290±30 | M37: <60 | N37: <60 | O37: <60 | P37: <60
A38: 35586 | B38: 380±10 | C38: 4240±40 | D38: 1110±40 | E38: 3260±20 | F38: <30 | G38: 30±10 | H38: 3460±70 | I38: 50±10 | J38: <40 | K38: 9930±100 | L38: 1650±20 | M38: 90±10 | N38: 80±10 | O38: <30 | P38: 80±10
A39: 35738 | B39: 250±20 | C39: 870±10 | D39: 1300±40 | E39: 3380±20 | F39: <10 | G39: <20 | H39: 2200±40 | I39: <40 | J39: <20 | K39: 10560±50 | L39: 1110±30 | M39: 70±10 | N39: 40±10 | O39: <20 | P39: 30±10
A40: 35940 | B40: 70±20 | C40: 150±20 | D40: 730±30 | E40: 240±30 | F40: <10 | G40: <50 | H40: 910±20 | I40: <10 | J40: <20 | K40: 1940±30 | L40: 310±20 | M40: 90±30 | N40: <10 | O40: <30 | P40: <10
A41: 36066 | B41: 150±20 | C41: 4810±50 | D41: 1410±40 | E41: 750±20 | F41: <10 | G41: <30 | H41: 1740±60 | I41: <10 | J41: <10 | K41: 7010±70 | L41: 1880±40 | M41: <20 | N41: <10 | O41: <20 | P41: <20
A42: 36308 | B42: 180±20 | C42: 270±10 | D42: 810±20 | E42: 790±10 | F42: <10 | G42: <10 | H42: 1590±60 | I42: <20 | J42: <10 | K42: 6460±60 | L42: 520±20 | M42: 70±10 | N42: <40 | O42: <10 | P42: <10
A43: 36475 | B43: 230±10 | C43: 700±10 | D43: 900±30 | E43: 710±20 | F43: <20 | G43: <30 | H43: 1330±30 | I43: <10 | J43: <10 | K43: 1700±40 | L43: 500±20 | M43: <20 | N43: <10 | O43: <10 | P43: <10
A44: 36669 | B44: 270±20 | C44: 400±10 | D44: 670±30 | E44: 1230±30 | F44: <30 | G44: 40±10 | H44: 1280±20 | I44: 40±10 | J44: <10 | K44: 6050±50 | L44: 530±20 | M44: 190±10 | N44: 110±10 | O44: 40±20 | P44: <10
A45: 36840 | B45: 430±50 | C45: 760±20 | D45: 390±20 | E45: 1900±50 | F45: <20 | G45: <30 | H45: 3700±100 | I45: 150±10 | J45: <30 | K45: 8160±80 | L45: 880±20 | M45: 80±10 | N45: 80±10 | O45: <20 | P45: 110±10
A46: 37050 | B46: 340±10 | C46: 150±20 | D46: 800±20 | E46: 660±30 | F46: <10 | G46: <10 | H46: 1080±30 | I46: <10 | J46: <10 | K46: 2280±30 | L46: 600±20 | M46: <10 | N46: <30 | O46: <10 | P46: <10
A47: 37204 | B47: 290±20 | C47: 5690±50 | D47: 900±30 | E47: 1520±30 | F47: 30±10 | G47: <30 | H47: 1750±30 | I47: 30±10 | J47: 30±10 | K47: 3570±60 | L47: 570±10 | M47: 60±10 | N47: 100±20 | O47: <20 | P47: 40±10
... A49: 37552 | B49: 270±20 | C49: 4890±50 | D49: 620±20 | E49: 1330±30 | F49: <10 | G49: <10 | H49: 2220±30 | I49: 40±10 | J49: 10±10 | K49: 4230±60 | L49: 720±10 | M49: 140±10 | N49: 160±20 | O49: <10 | P49: <10
A50: 28 Apr to 6 Jun 03 | B50: 360±20 | C50: 7180±60 | D50: 220±10 | E50: 230±10 | F50: <10 | G50: <10 | H50: 640±20 | I50: <10 | J50: 15±5 | K50: 5530±50 | L50: 760±20 | M50: 220±10 | N50: <10 | O50: <10 | P50: <10 | Q50: <10 | R50: 30±10 | S50: 60±10 | T50: 820±20
A51: 21-24 Nov 03 | B51: 310±10 | C51: 7288±60 | D51: 591±20 | E51: 1402±30 | F51: <10 | G51: <10 | H51: 2316±30 | I51: 23±10 | J51: <10 | K51: 4251±50 | L51: 729±20 | M51: 258±10 | N51: 198±10 | O51: <10 | P51: 200±10 | Q51: 13±10 | R51: 118±10 | S51: 92±10 | T51: 1070±20
A52: 15-16 Apr 04 | B52: 598±20 | C52: 7146±60 | D52: Dry | E52: 1117±20 | F52: <10 | G52: <10 | H52: 1495±30 | I52: 49±10 | J52: 56±10 | K52: 5725±50 | L52: 922±20 | M52: 918±20 | N52: 158±10 | O52: <10 | P52: 98±10 | Q52: <10 | R52: 201±10 | S52: 104±10 | T52: 1135±20
A53: 38268 | B53: 1609±20 | C53: Dry | D53: Dry | E53: 809±20 | F53: <11 | G53: <11 | H53: 780±20 | I53: 78±10 | J53: 38±10 | K53: 7844±50 | L53: 884±20 | M53: 995±20 | N53: 129±10 | O53: <11 | P53: <11 | Q53: <11 | R53: 142±10 | S53: 116±10 | T53: 934±20
A54: 14-18 Apr 05 | B54: 1563±30 | C54: 7359±70 | D54: Dry | E54: 988±30 | F54: <14 | G54: <14 | H54: 1209±30 | I54: 100±10 | J54: 106±10 | K54: 5129±60 | L54: 782±20 | M54: 897±30 | N54: 213±10 | O54: <14 | P54: 79±10 | Q54: <14 | R54: 160±10 | S54: 86±10 | T54: 1013±30
A55: 25-26 Oct 06 | B55: 2237±30 | C55: 7152±50 | D55: Dry | E55: 1205±20 | F55: <12 | G55: <12 | H55: 1512±20 | I55: 162±10 | J55: 211±10 | K55: 6108±50 | L55: 763±20 | M55: 880±20 | N55: 236±10 | O55: <12 | P55: 106±10 | Q55: 21±10 | R55: 168±10 | S55: 59±10 | T55: 802±20
A56: 30 Mar-3 Apr 06 | B56: 4336±40 | C56: 7173±50 | D56: Dry | E56: 815±20 | F56: <12 | G56: <12 | H56: 1042±20 | I56: 177±10 | J56: 217±10 | K56: 4878±40 | L56: 664±20 | M56: 797±20 | N56: 237±10 | O56: <12 | P56: 48±10 | Q56: 16±10 | R56: 153±10 | S56: 75±10 | T56: 806±20
A57: 19-20 Oct 06 | B57: 5480±20 | C57: 342±70 | D57: Dry | E57: 450±20 | F57: <12 | G57: <12 | H57: 927±30 | I57: 242±20 | J57: 157±10 | K57: 3773±60 | L57: 409±20 | M57: 567±20 | N57: 277±20 | O57: 14±10 | P57: 22±10 | Q57: 15±10 | R57: 125±10 | S57: 100±10 | T57: 733±30
A58: 4-7 May 07 | B58: 5834±60 | C58: 6923±60 | D58: 65±10 | E58: 255±10 | F58: <12 | G58: <12 | H58: 248±10 | I58: 291±10 | J58: 306±10 | K58: 4469±50 | L58: 200±10 | M58: 795±20 | N58: 326±10 | O58: 15±10 | P58: 21±10 | Q58: <12 | R58: 140±10 | S58: 121±10 | T58: 661±20
A59: 14-29 Aug 08 | B59: 152±19 | C59: 159±19 | D59: 342±37 | E59: 291±31 | F59: <9 | G59: <9 | H59: 470±19 | I59: 34±21 | J59: 105±29 | K59: 2310±76 | L59: 196±21 | M59: 85±19 | N59: 402±29 | O59: <9 | P59: 14±14 | Q59: 41±26 | R59: 125±19 | S59: 108±14 | T59: 710±30
A60: 39380 | B60: 409±15 | C60: 455±16 | D60: Dry | E60: 289±13 | F60: <12 | G60: <12 | H60: 640±19 | I60: 18±6 | J60: 16±6 | K60: 2613±38 | L60: 241±12 | M60: 336±14 | N60: 380±15 | O60: 11±5 | P60: 130±10 | Q60: 30±6 | R60: 107±9 | S60: 70±8 | T60: 632±19
A61: 26-1 Apr 08 | B61: 735±20 | C61: 288±13 | D61: 243±12 | E61: 300±13 | F61: <12 | G61: <12 | H61: 582±18 | I61: 24±6 | J61: 18±6 | K61: 1772±30 | L61: 163±10 | M61: 1871±35 | N61: 348±14 | O61: <12 | P61: 40±6 | Q61: <12 | R61: 92±9 | S61: 57±8 | T61: 638±19
A62: 26-31 Mar 08 | B62: 643±19 | C62: 477±19 | D62: 273±16 | E62: 663±19 | F62: <34 | G62: <34 | H62: 501±18 | I62: 22±12 | J62: 13±12 | K62: 1589±26 | L62: 272±16 | M62: 1318±25 | N62: 361±18 | O62: <34 | P62: 260±16 | Q62: 29±13 | R62: 118±14 | S62: 87±14 | T62: 543±18
A63: 25 Sep-8 Oct 08 | B63: 555±14 | C63: 1929±23 | D63: 352±12 | E63: 339±12 | F63: 9±8 | G63: <18 | H63: 492±13 | I63: 22±8 | J63: 27±8 | K63: 1378±20 | L63: 422±13 | M63: 29±8 | N63: 343±12 | O63: <18 | P63: <18 | Q63: 34±8 | R63: 106±9 | S63: 104±9 | T63: 629±14
